BEGIN:VCALENDAR
VERSION:2.0
PRODID:-//W♥M - ECPv6.15.17.1//NONSGML v1.0//EN
CALSCALE:GREGORIAN
METHOD:PUBLISH
X-WR-CALNAME:W♥M
X-ORIGINAL-URL:https://wheartm.com
X-WR-CALDESC:Events for W♥M
REFRESH-INTERVAL;VALUE=DURATION:PT1H
X-Robots-Tag:noindex
X-PUBLISHED-TTL:PT1H
BEGIN:VTIMEZONE
TZID:America/Chicago
BEGIN:DAYLIGHT
TZOFFSETFROM:-0600
TZOFFSETTO:-0500
TZNAME:CDT
DTSTART:20250309T080000
END:DAYLIGHT
BEGIN:STANDARD
TZOFFSETFROM:-0500
TZOFFSETTO:-0600
TZNAME:CST
DTSTART:20251102T070000
END:STANDARD
BEGIN:DAYLIGHT
TZOFFSETFROM:-0600
TZOFFSETTO:-0500
TZNAME:CDT
DTSTART:20260308T080000
END:DAYLIGHT
BEGIN:STANDARD
TZOFFSETFROM:-0500
TZOFFSETTO:-0600
TZNAME:CST
DTSTART:20261101T070000
END:STANDARD
BEGIN:DAYLIGHT
TZOFFSETFROM:-0600
TZOFFSETTO:-0500
TZNAME:CDT
DTSTART:20270314T080000
END:DAYLIGHT
BEGIN:STANDARD
TZOFFSETFROM:-0500
TZOFFSETTO:-0600
TZNAME:CST
DTSTART:20271107T070000
END:STANDARD
END:VTIMEZONE
BEGIN:VEVENT
DTSTART;TZID=America/Chicago:20260312T000000
DTEND;TZID=America/Chicago:20260318T235959
DTSTAMP:20260423T044203
CREATED:20260302T151349Z
LAST-MODIFIED:20260317T234211Z
UID:49336-1773273600-1773878399@wheartm.com
SUMMARY:SXSW 2026
DESCRIPTION:SXSW 2026 will take place in Austin\, Texas\, from March 12–18\, 2026. This annual\, multi-faceted event\, featuring film\, music\, and interactive tech\, returns to the city for its 40th anniversary with conferences\, screenings\, and showcases throughout the week. \nThese are over 1\,100 bands playing at SXSW 2026 – and these are the official bands!  \nAaron Page\, AJ McQueen\, All American Rejects\, Angela Autumn\, Arroba Nat\, Bayonne\, Ben Ellis\, bloodsports\, Brainwasher\, Bricknasty\, BrunOG\, Bubba Lucky\, Buddy Red\, Calder Allen\, Cardinal Bloom\, Casket Cassette\, CHALK\, Commercial Breaks\, Couch Dog\, Creature Canyon\, David Huckfelt\, DeVotchKa\, DJ_Dave\, Easy Honey\, Elijah Delgado\, Elijah Johnston\, Emily Frembgen\, Feet\, Glassio\, Grocery Bag\, Grrrl Gang\, Gus Baldwin & The Sketch\, Gus Englehorn\, Hania Derej\, Hector Gannet\, Hot Garbage\, IYLA\, J Soulja\, Jana Diab\, Jaylon Ashaun\, Jordan Patterson\, Joshua Ray Walker\, Jovi Greene\, Julie Nolen\, Just Jim\, Kaash Paige\, Karina Galicia\, Karma Sheen\, Knats\, KOAD\, La Texana\, Los Discorde\, LYNN\, Mackwood\, MC Frontalot\, Montclair\, Morgan\, Next of Kin\, NEZZA\, Nug\, Olivia Ellen Lloyd\, Paisley Fields\, Pierce Washington\, Planeta No\, Pretty Jane\, Radium Dolls\, REHMA\, Reilly Downes\, runo plum\, Shunk\, Sofish\, Spike Fuck\, Steven Bamidele\, Sūn Byrd\, The Band Loula\, The Family Battenberg\, The Red Eye Gamblers\, The Sophs\, Unsafe Space Garden\, Valsian\, Victor Jones\, Whitelands\, Wim Tapley & The Cannons\, YARD\, Zastava\, Zola Marcelle\, 2ar\, 2BYG\, 2wnty4K\, 600 ENT\, A Class\, A-Game\, A.I. The Anomaly\, Ace Park\, Addie Addie Addie\, Aivila\, AJTHEFLANNELGOD\, AL LOVER\, ALANN\, Alesia Lani\, Alex Parker\, All Day Ray\, Alumni Cloud\, Anastasia Hera\, Apex Martin\, Armanii\, Artie Tobia & Redtail Revival\, Asaka The Renegade\, Ashaine White\, Ashley Pickney\, ASHMAR.\, Ashoka\, Austin Ashtin\, Avery Cochrane\, AXLFLY\, Azurah Vibez\, B6\, BabyRosae\, BANSHIMOKU\, BarsRobinson\, BBY KODIE\, Benji Badass\, Benny The Butcher\, Bershy\, Bijaan\, BJ So Cole\, Blanky\, Blessing Jolie\, Blimes and the Bando\, BLK ODYSSY\, Boomershack\, Booqoo\, Brittney Bella\, Brodie Lane\, Bruiser Wolf\, Bryan-Michael Cox\, Bu Cuaron\, Camila Rivers\, Casper Allen\, CC Adcock & The Lafayette Marquis\, Cedric Brazle\, Cha’Keeta B\, Charly\, Chatterton\, Chava\, Cici Da P\, Coach Tev\, Coffey\, Confucius & Fresh\, Core DJ’s Worldwide\, COYO\, D Chrome Foster\, DAMOYEE\, DannyRitmo\, Dante Pride\, DDA TINK\, Dee Gatti\, DeMaciiio\, Desmond Jones\, Diamond Dior Davenport\, Diamond The Body\, Diego The Fuego\, Disko Cowboy\, DJ Ajah Monet\, DJ BAYRON\, Dj Beastie\, DJ Chose\, DJ Cortez\, DJ DMoney\, DJ EF\, DJ Eriq Stylez\, DJ Gotta Strut\, DJ Hella Yella\, DJ KICKIT\, DJ Kimblee\, DJ Napalm\, DJ ROAD WARRIOR\, DJ Rosez\, DJ Tony Neal\, DJ TriggaMan\, DJ Twin\, DJADE\, DLOW\, Doeman\, Donovan\, Donye Kimal\, DragonnQueen\, Dual Core\, Dub Gideon\, DUUNES\, DW SANTY\, Dyna Edyne\, E.I. the King\, East Nasa\, EddieAngel\, EDDY\, El Combo Oscuro\, eldon\, Ella Ella\, English Dom\, Eric McEntee\, Eric Sebastian\, Eye Q\, EyeQ\, Faaris\, Father Romar\, Fatherr\, FERRR\, Five For Fighting\, Flavia Laos\, Fleshripper\, Flobama\, Fluxe\, Franki Chan\, Fuego Santo\, Funky Caramelo\, GAS CREW\, Gee Litt\, GLC QUACY\, GoldenBoyNoel\, Good Looks\, Gothess Jasmine\, Grandmaster\, Greyson Turner\, Grupo Ferrary Show\, gustave ochoa\, Guy Vincent\, Hana Eid\, Haylee Wood\, Helios\, Hiroko Yamamura\, Hot Donna\, Hrishikesh Hirway\, Ian Cordova\, ilykimchi and oogie mane\, indie tribe\, Ingrid Andress\, Jack Freeman\, Jacquie\, JahleelFaReal\, Jairo\, Jakeneutron\, Jamison Wray\, Jastin Martin\, JayDon\, JeRonelle\, Jersey J\, Jessica Cymone\, JhonnieDamnD\, Jillian Hudson\, Jim-E-O\, Jking the hybrid\, Jo Alice\, John Popper of Blues Traveler\, Jonny Tex\, Jos Tha DJ\, JP McCabe\, Jules Aurora\, JUSTAGURL\, KAGE\, Kai Castro\, Kairo Keyz\, Karima Santi\, Kasst 8\, Kazi\, Keith Frank & The Soileau Zydeco Band\, KELS\, Ken Lorentz\, Kiki Ambrose\, KNDRX\, Knox Write\, Kozlow\, Kris CaMeRon\, Kristen Foreman\, Lane Smith\, language\, Lara’\, Lauren Lakis\, Lauren Light\, Leonilo Jaimes\, LIFEOFTHOM\, Lil Bri\, Lil’ Keke\, LOS GUITARRAZOS\, Los Lobos\, Luke Herbert\, Luna Luna\, Lyric Rachae\, Mac-K the K Baby\, Mai Anna\, Majestyofdivinity\, Manu Manzo\, Mark Brown\, Mark Rose\, Max Evasion\, Mega Ran\, Mélat\, Melly\, Micah Edwards\, MikMula\, Miss GIRL6\, MISTA KLEEN\, Moe Lotti\, Morgan Janay\, Moscato J\, Mother Nature\, MrWootay\, Ms.Demeanor aka Mo’Pressha\, MUNJI\, My Favorite Color\, NAADI\, NASAAN\, Neapolitan\, Negüs Fresh\, Neisha Neshae\, Neo Fonseca\, Neptune XXI\, Nervous\, NHL STRAP\, Nicotine\, Nik Parr & The Selfless Lovers\, Nonô\, Nook Da Crook\, NOOK Turner\, Novul\, Onlyheaven\, OPR AVON\, Orión García\, Orya\, Pedro TQM\, Petrina DeLacey\, Pink Elephant Radio\, Pirscription\, Planet Dev\, Poiison\, Principe Q\, Projectbabyjv\, Prowess The Testament\, PSH (Peneři Strýčka Homeboye)\, Que the Boy\, Qui\, Rampage Sound\, Reggie Becton\, Rich Delinquent\, RickFromTexas\, Riobamba\, Riverboat Gamblers\, Rockstar Keezy\, Rocky Banks\, RUM\, Saanbluu\, Sage Bava\, Saint Agnes\, Sam Scherdel\, SAMIA\, Samurai Drive\, Sencible de Tierra Caliente\, Sgt. Remo\, Shame Gang\, Shanay Morant\, Shelby Ruger\, Shiv\, SHO\, Sibby Liv\, Sickick\, skøien\, Slow Spread Love\, SMACKOLA\, SMITTY\, softcheese\, Solarrio\, Solorz\, Somalia\, South North SouthWest\, Spellman Twinz\, St.Augustine\, Steve Ray Ladson\, Stevie Bill\, Stiff Barbie\, Suck Brick Kid\, Summer Brennan\, Sun Atlas\, Sunnitharapper\, Switch Angel\, Tamera King\, The 502s\, The Bio.\, The Bul Bey\, The Cumbia Movement\, The Game Shop\, The Last Jimenez\, The Mainliners\, The Paradox\, The Point.\, The South Austin Moonlighters\, The Spits\, The Violet Mindfield\, THEBROSFRESH\, Thelma and James\, THUNDEROSA\, Tiera Kennedy\, Tipa Tipo\, TJ THE DJ\, Tone Royal\, Trey Kams\, Tropa Magica\, TTG HUNCHO\, Two Legged Dog\, TY DOLLA $IGN\, Unwritten Law\, USB GAD\, Valice\, very nice person\, Vickeelo\, Villain Park\, VITAL Powers\, VÕ.A 2000\, Ways Away\, Whiteside\, Whitney Mongé\, Winona Fighter\, Woes\, Wyatt Flores\, XOY\, Xuco Baby\, Y0$#! (YOSHI) The Cat In The Hat\, YAMORI\, Yndent\, Yolanda Cruz and the Daydreamers\, Yoshi Vintage\, Young Tmo\, Z-Wells\, Zac Savage\, Zae France\, Zoe Tan\, 2charm\, 60 JUNO\, Adrian Be\, Adult DVD\, Adult Leisure\, Agatha is Dead!\, Agent 007″\, Akira Galaxy\, Akshara\, Alkyone\, Ama Louise\, Amie Blu\, amri\, Ancient Greece\, Andrew Cashen\, Andrew Cushin\, Andy Arthur Smith\, Anna Shoemaker\, ARXX\, Astralorp\, Atsuko Chiba\, Avanti Patel\, Azamiah\, Babatunde Hip Hopera\, Baker Grace\, Bandana Cheyenna\, Basht.\, Batry Powr (Nicole Miglis)\, Bea Porges\, Ben Flournoy\, better joy\, BettySoo\, Big Soto\, BigXthaPlug\, Bikini Beach\, Blair Davie\, bollyflow\, Boutique Feelings\, Brie Stoner\, Buckets\, BULLETBALLET\, Caleb De Casper\, Cashier\, CDSM\, Cheap Perfume\, Chiara Savasta\, CJ CHENIER AND THE RED HOT LOUISIANA BAND\, Clova\, College of Hip Hop Knowledge\, congratulations\, cootie catcher\, CorMae\, CQ Wrestling\, Cure for Paranoia\, DAIISTAR\, Dallas Tetnus\, Danxgerous\, DARKOVIBES\, DD Island\, Deer Park Avenue\, Deloyd Elze\, Devin the Dude\, Differentchris\, Diles que no me maten\, DJ AG\, DJ Anupi\, DJ Candlestick\, DJ Grip\, DJ Hollygrove\, DJ Jester the Filipino Fist\, DOSSEY\, Drea Dominique\, Drew Landry\, Dustin Dale Gaspard\, Dylan LeBlanc\, Edgehill\, Electric Enemy\, Ella Ion\, Emi Angeles\, Enfants\, Eric Zayne\, Femi Temowo\, fifi knifefight\, Fime\, Firecracker\, Flesh Juicer\, Flor de la Frontera\, Foliage\, Forty Feet Tall\, Frankfurt Helmet\, Georgia Webster\, Girl Tones\, Glaze\, Gogol Bordello\, Grace Sorensen\, Graham Reynolds\, Grandmas House\, Gummy Fang\, Gwenno\, Hannah Cohen\, Haters\, Hemi Hemingway\, His Lordship\, HNRY FLWR\, Home Counties\, Honey I’m Home\, Honey Made\, Horsepower\, I See Orange\, iluvboyband\, Important Group\, In Color\, Isak Thomas and The Stoop Boys\, J’ray\, Jack Powers\, Jamaica Moana\, Jamie Duffy\, JASNO\, Javiera Electra\, Jaxs\, JayaHadADream\, Jazz re:freshed DJs\, Jessie Chambers\, Joe Patitucci\, Johnny Falloon\, JOPLYN\, Julia Blair\, Junior H\, Kanho Yakushiji\, KELVYNBOY\, Kenzzo\, Kety Fusco\, Kids\, KING NO-ONE\, Kofi Stone\, KOJ\, Kordelya\, Lena Dardelet\, Leo Kalyan\, Leo Von Sol\, Les Itinérantes\, Lew Apollo\, Lila Tristram\, LilJayFromDaO\, Little Guilt\, Lofi Legs\, Lola Tried\, Lola Young\, Los Desechos\, Los Gran Reyes\, LOS KEMET\, Lovpune\, LU GOT THE TASTE\, LU GOT THE TASTE\, Luca Eck\, Lucaa\, Lucid Express\, Lucky\, Luke Tyler Shelton\, Magic Rockers of Texas\, Magnolian\, Mama Duke\, MARCO PLUS\, Mariae Cassandra\, Marijuana Deathsquads\, Marilina Bertoldi\, Marketplace\, Marley Hale\, Marni Ct.\, Martin Eyerer\, Maru Haru\, Mass Minor\, Mau P\, MEEK\, Melanie Dyer\, Mên An Tol (State)\, Mika Häkki & Dark Yonder\, MILHD\, MITA\, Modern Cinema Master\, Modeselektor\, MORGAN\, Mosmo\, Mr. Lewis & The Funeral 5\, MT Jones\, MX LONELY\, Nathaniel Stewart\, Native Leaves\, NIGHT DRIVE\, Nightbus\, Nilipek.\, NOAMZ\, Nudo\, OG Ron C\, Olivia Morreale\, OOZ\, Oscar Ortiz\, Oscar Twins\, Our Shame\, Packaging\, Panic Shack\, Panoramic Voices\, Pär Hagström and Charlatans of Love\, Parker Woodland\, Pat G\, Peelander-Z\, Pehuenche\, Pei-Yu Hung\, Perdón Amor\, Pink Breath of Heaven\, PONS\, PRIDO\, Q THA HERO\, QUANNA\, QUENTIN\, Quiet Money Dot\, Raq Baby\, Ras Mundi\, Reuben Vincent\, Rosa Anschuetz\, Ruido Selecto\, Saige Davis\, Samy Sharif\, San Charbel\, Sarah Crean\, Sarah Meth\, Sasha Wrist\, Sassy 009\, SCATTRBRAIN\, Scuttino\, selines\, Semisoft\, Seulement\, Sex Mask\, Sexpop\, Shao Dow\, Short Life\, Shreea Kaul\, Silvertone\, Simone Tang\, Social Cig\, Somebody Someone\, someshiit\, Sonido Cachimbo\, Sorry Youth\, SoundMass\, Spacestation\, Spencer Thomas\, Spoon Benders\, SRI\, Stalefish\, Still Blank\, Sugabooo\, Sultanes del Yonke\, Sun Room\, Sunshine Spazz\, Superfan\, Susannah Joffe\, SUUVI\, Swapmeet\, SWEENEY\, SXSW DJz\, The Animeros\, The Beatbox Collective\, The Braymores\, The Bures Band\, The Chopstars\, The Dharma Chain\, The Dumes\, The Gringos\, The Irrepressibles\, The Kellows\, The Microphone Misfitz\, The Pink Stones\, The Ramona Flowers\, The Tiarras\, The Tremolo Beer Gut\, The Tullamarines\, Thelonious Love\, Theo Lawrence\, Timmy Skelly\, Torture and the Desert Spiders\, Total Wife\, Trophy Wife\, TTSSFU\, Twitch4Eva\, urboi.\, Victoryland\, VUKOVI\, Water Damage\, Wave Chapelle & NilexNile\, Werkha\, West Texas Exiles\, Wilby\, Worlds Worst\, Ximena Soto\, YES AND MAYBE\, Yng Naz\, YUNG D3MZ\, ZAMAERA\, ¿Qiensave?\, 0 Miles Per Hour\, 4NEY\, Adrian Activo\, Aiko\, Aitchdub\, AKA BK\, Alahsîn\, Alex Cano\, Alex Irish\, Alex Lambert\, Ali Almighty\, Alien Chicks\, Alina Pash\, Almost Heaven\, Alta Elegancia\, Alto Moon\, Amber Jaii\, Amor Vincit Omnia\, Amy Gadiaga\, Ananto\, Anaya Kobe\, Andrea Daniela\, ANJA SCHNEIDER\, Annabelle Chairlegs\, Anton The Artist\, Armen Paul\, Astrokeyy\, Attalie\, Baby Sam\, BALACLAVA\, Bale\, Bára Zmeková\, Barb\, BARTLY\, Ben Buck\, Big Bill\, Big Fat Head\, Big Zeeks\, Blakchyl\, Bobby Raps\, Bohemio\, Boogietraxx\, Boooka\, Boris and the Joy\, Braison Cyrus\, Brandon Blue\, Brionne\, Bruno Caleb\, Byron Juane\, Caleb Lemons\, Caleb Michael And The Arrested\, Camille Schmidt\, Canon\, Cari Hutson\, Casie Farrell\, Casmalia\, CAZAYOUX\, Chase McDaniel\, Chief Cleopatra\, Chuck Prophet and His Cumbia Shoes\, D2BLEE\, Daniel Fears\, Danny Felix\, Dayonthetrack\, deCasa\, Delilah\, Derek Minor\, DeShaunJay\, Devin Malik\, Devon Gabriella\, Devy Stonez\, Dice Soho\, Die Slo\, DJ 4:12\, DJ BONES\, DJ CZ\, DJ Dan\, DJ Dirty Dave\, DJ EXILE\, DJ Garty\, DJ Grip\, DJ Gulf of Mexico\, DJ Trendsetter Sense + Trendsetter Cypher\, DJ X.O.\, DNA\, Don Glori\, Don Ready\, Dr Dak\, DR. GRECO\, Dramos\, E.M.E\, Eddie Chacon\, EddyJae\, EL DUSTY\, Elanor Moss\, ELLiS·D\, Endearments\, Enus Sunne\, Era Wadi\, eydrey\, FAMA\, Famous Friend\, Fine Food Market\, FINLANDS\, Fish Hunt\, Foolish Ty\, FrivolousShara\, Future Nobodies\, Gabby Got It\, Gavin Copeland\, Gavin the Hotrod\, Geto Gala\, GILT\, Gio\, Glamorama\, Glass Mansions\, GOKUMON\, Good Flying Birds\, Gran Moreno\, grima\, Grupo Salvaje\, Gus Baldwin\, H\, haha Laughing\, Hana Lili\, Hanorah\, Hashi Senjoo\, Haylie Davis\, Holly Macve\, Holy Gabbana\, hoovaranas\, Hot Donna\, Hubbble\, I-SKY\, ICHIGORINAHAMU\, Ideal Collective\, Ifeanyi Elswith\, Ilusión\, In Phases\, INK\, ISCREAM NEVER GROUND\, Isis Destiny\, J-Nice The Kingdom Builder\, J. Dash\, J’cuuzi\, Jacki Daniels\, Jadarrion\, Jade Omari\, JAKEGATEWOOD\, Jamie Dred\, Jasmine Jethwa\, JASNO\, Jason Cuellar\, Jeff Akoh\, Jenna Cole\, Jenna Shaw\, JLQ\, Joe Harvey-Whyte\, Joel Loredo\, Jon Langford (Mekons)\, Jordan Walsh\, Joudy\, Joyeria\, Jugg Mugg Da Jugganott\, Junerise\, Kal Banx\, Kali Horse\, Kayanne Peppa\, Keetheweeb\, Keira Vana\, Kembe X\, KID PHENOMENON\, KiD RAiN\, Killakmadeinbrooklyn\, King Cooley\, King Savage\, Kodie Shane\, Korda Korder\, KUOKO\, La Coreañera\, La Nueva Ola de Cumbia\, LA ROSA NOIR\, Lainey Wilson\, Larry Seaman\, LÉA THE LEOX\, Lee Bains\, Lee Vasi\, Leslie Kirchoff\, Lexaay\, Liam St. John\, Lightbath\, Lil Asian Thiccie\, Little Wilderness\, Liz Cooper\, lluvii\, Lodri\, Lola Bates\, Lola Kinsey\, Loren Heat\, Los Gatos 512\, Louie Lee\, LouieV T\, lucky break\, Luna Tropical\, Mae Muller\, Mama Duke\, Manny Phesto\, Marissa Nadler\, Mark Cooper\, Marry Cherry\, Marty\, Mato Wayuhi\, Mc Danny\, MC Nito\, Meg Elsier\, Melaina Kol\, mer marcum\, Merrick Winter\, Michael The Lion\, Mid Century Modern\, Miguel Ortiz y El Nuevo Estilo\, Mike Checc\, Minori\, Miss Bashful\, Mission\, Mobeethicc\, Modern Cult\, Moio\, Money Mark\, Monsieur Van Pratt\, MORENO X4\, Ms. Ca$H\, MUGGER\, MURTY\, mypilotis\, N@te!\, Nattali Rize\, néomí\, New Constellations\, Night Ritualz\, Niiasii\, Nikki Gold\, NOA\, Novelist\, Odanga\, OKAN\, Otis Wilkins\, Oya Noire\, Ozer\, P.H.0\, Panam\, Parris Chariz\, Passion Pit\, Pat G\, Patriarchy\, Patrice Pike Band\, Pedal Steel Noah\, PIAO\, Popstar Benny\, Posavant\, Prissy P\, promqueen\, Propain\, Puzzled Panther\, Pyrex\, Python P\, Q Tha Hero\, QUIMIKOZ DEL SON\, Rafa Parra\, Randy Perez\, Ray Vaughn\, Reaper\, Redzed\, REJAY\, Remey Williams\, RIA\, Rosegarden Funeral Party\, Ryan Dove\, Ryley Hall\, Saint Avangeline\, Saint Harison\, Sam LLanes\, SAMWOY\, SATALiGHTS\, Scuttino\, Secret Family\, Sertified\, Shai Gabriel\, Shallowater\, Shaunsolo\, She23\, sir eddie c\, SLASH NEED\, Slomo Drags\, Smooth Nature\, Social Order\, Sofia and the Antoinettes\, Sonora Hechicera\, Sonora Tukukuy\, sosocamo\, Soucream\, Soularreal\, Southside Hippie\, SpaceGoonz\, Stare Away\, Stockz\, STRANGE LOT\, Subpar Snatch\, Sudaka\, Sunforger\, Suxxy Puxxy\, SWDEJAY\, Switchfoot\, Synchrolyst\, Talise\, TALK\, Tavo Rayo\, Texas String Assembly\, The Droptines\, The Eric Hisaw Band\, The Gasoline Gypsies\, The Haunted Youth\, The Last Real Circus\, The Reverent Few\, The Sheila Divine\, The Tubs\, Thelma and The Sleaze\, Tia Tutt\, Timothy Howls\, Tom A Smith\, Tomar and the FCs\, TRIM\, Troy Campbell\, True Jackson\, TTBBY\, Two-Man Giant Squid\, Tye Harris\, Tyla Yaweh\, Valee\, Vanita Leo\, Vertarias\, Very Necessary\, Vin Zeal\, Vinilious DJ\, Vintage Jay\, Vivir Quintana\, Wacotron\, Wesley Wolffe\, whisper\, Wiardon\, WifeKnife\, Willgood\, willoh\, Willy J Peso\, wilter\, Worship Music DJs\, Wreckshop Family\, xBValentine\, Yakiyan\, Yoso\, Young Clean\, Yung Al\, Yung Bryse\, Z-Ro\, Zak Blaine\, Zeñal Nortex  \nSocial Share\n				Share on Add Us (Opens in new window)\n				Add Us\n			\n				Share on Instagram (Opens in new window)\n				Instagram\n			\n				Share on X (Opens in new window)\n				X\n			\n				Share on Bluesky (Opens in new window)\n				Bluesky\n			\n				Share on Facebook (Opens in new window)\n				Facebook\n			More\n				Print (Opens in new window)\n				Print\n			\n				Share on Reddit (Opens in new window)\n				Reddit\n			\n				Email a link to a friend (Opens in new window)\n				Email\n			\n				Share on Pinterest (Opens in new window)\n				Pinterest\n			\n				Share on Tumblr (Opens in new window)\n				Tumblr\n			\n				Share on Threads (Opens in new window)\n				Threads\n			\n				Share on WhatsApp (Opens in new window)\n				WhatsApp\n			\n				Share on LinkedIn (Opens in new window)\n				LinkedIn\n			\n				Share on Mastodon (Opens in new window)\n				Mastodon\n			\n				Share on Telegram (Opens in new window)\n				Telegram\n			\n				Share on Nextdoor (Opens in new window)\n				Nextdoor\n			Like this:Like Loading...
URL:https://wheartm.com/event/sxsw-2026/
LOCATION:Various Venues\, United States
CATEGORIES:Festivals
ATTACH;FMTTYPE=image/jpeg:https://wheartm.com/wp-content/uploads/2026/03/SXSW-2026-Artwork.jpg
END:VEVENT
BEGIN:VEVENT
DTSTART;TZID=America/Chicago:20260314T000000
DTEND;TZID=America/Chicago:20260314T235959
DTSTAMP:20260423T044203
CREATED:20260109T112224Z
LAST-MODIFIED:20260109T145824Z
UID:41412-1773446400-1773532799@wheartm.com
SUMMARY:Mpls: The Thing at 7th St Entry (Mar 14\, 2026)
DESCRIPTION:Saturday\nMar\n14\n2026\n7th St Entry\nThe Thing  \nThe Thing 3/14/26 \n \nSocial Share\n				Share on Add Us (Opens in new window)\n				Add Us\n			\n				Share on Instagram (Opens in new window)\n				Instagram\n			\n				Share on X (Opens in new window)\n				X\n			\n				Share on Bluesky (Opens in new window)\n				Bluesky\n			\n				Share on Facebook (Opens in new window)\n				Facebook\n			More\n				Print (Opens in new window)\n				Print\n			\n				Share on Reddit (Opens in new window)\n				Reddit\n			\n				Email a link to a friend (Opens in new window)\n				Email\n			\n				Share on Pinterest (Opens in new window)\n				Pinterest\n			\n				Share on Tumblr (Opens in new window)\n				Tumblr\n			\n				Share on Threads (Opens in new window)\n				Threads\n			\n				Share on WhatsApp (Opens in new window)\n				WhatsApp\n			\n				Share on LinkedIn (Opens in new window)\n				LinkedIn\n			\n				Share on Mastodon (Opens in new window)\n				Mastodon\n			\n				Share on Telegram (Opens in new window)\n				Telegram\n			\n				Share on Nextdoor (Opens in new window)\n				Nextdoor\n			Like this:Like Loading...
URL:https://wheartm.com/event/mpls-the-thing-at-7th-st-entry-mar-14-2026/
LOCATION:7th Street Entry\, 701 N 1st Ave\, Minneapolis\, MN\, 55403\, United States
CATEGORIES:Minneapolis
ATTACH;FMTTYPE=image/jpeg:https://wheartm.com/wp-content/uploads/2026/01/TheThing-031426-1080x1421-1.jpg
END:VEVENT
BEGIN:VEVENT
DTSTART;TZID=America/Chicago:20260314T180000
DTEND;TZID=America/Chicago:20260314T230000
DTSTAMP:20260423T044204
CREATED:20260310T175737Z
LAST-MODIFIED:20260310T180542Z
UID:50857-1773511200-1773529200@wheartm.com
SUMMARY:Fargo: No me voy de aquí at Parachigo (March 14\, 2026)
DESCRIPTION:darxko writes: \nHOLA COMO ESTAS.  \nMarch 14th I will be at @parachigo4 for my “No me voy de aquí” event. This show is special to me cause this is the first of many that I will be doing to support my island and hometown Puerto Rico. To support please check out @prxprorg to donate what you can if you can’t make it to the show. Please follow along and follow my socials to stay updated.  \nShoutout to these awesome artist who will be attending  \n@cappin4noreason\n@keagy.d\n@the_khidd_kinetic\n@dezinspired\n@sarakingsproductions  \nIf you want to support or be apart of the show hit me up. \nSocial Share\n				Share on Add Us (Opens in new window)\n				Add Us\n			\n				Share on Instagram (Opens in new window)\n				Instagram\n			\n				Share on X (Opens in new window)\n				X\n			\n				Share on Bluesky (Opens in new window)\n				Bluesky\n			\n				Share on Facebook (Opens in new window)\n				Facebook\n			More\n				Print (Opens in new window)\n				Print\n			\n				Share on Reddit (Opens in new window)\n				Reddit\n			\n				Email a link to a friend (Opens in new window)\n				Email\n			\n				Share on Pinterest (Opens in new window)\n				Pinterest\n			\n				Share on Tumblr (Opens in new window)\n				Tumblr\n			\n				Share on Threads (Opens in new window)\n				Threads\n			\n				Share on WhatsApp (Opens in new window)\n				WhatsApp\n			\n				Share on LinkedIn (Opens in new window)\n				LinkedIn\n			\n				Share on Mastodon (Opens in new window)\n				Mastodon\n			\n				Share on Telegram (Opens in new window)\n				Telegram\n			\n				Share on Nextdoor (Opens in new window)\n				Nextdoor\n			Like this:Like Loading...
URL:https://wheartm.com/event/fargo-no-me-voy-de-aqui-march-14-2026/
LOCATION:Parachigo\, 14 8th St S\, Fargo\, ND\, 58103\, United States
CATEGORIES:Fargo
ATTACH;FMTTYPE=image/jpeg:https://wheartm.com/wp-content/uploads/2026/03/No-me-voy-de-aqui-2026.jpg
END:VEVENT
BEGIN:VEVENT
DTSTART;TZID=America/Chicago:20260314T190000
DTEND;TZID=America/Chicago:20260314T235900
DTSTAMP:20260423T044204
CREATED:20260109T112259Z
LAST-MODIFIED:20260213T053428Z
UID:41409-1773514800-1773532740@wheartm.com
SUMMARY:Mpls: Michael Shannon & Jason Narducy and Friends at First Avenue (Mar 14\, 2026)
DESCRIPTION:Michael Shannon & Jason Narducy and Friends at First Avenue (Mar 14\, 2026) \n\n\nMarch 14\, 2026 Saturday\nMichael Shannon & Jason Narducy and Friends\nwith Bobcat Goldthwaitat First Avenue\nfirst-avenue.com\n\n Michael Shannon and Jason Narducy (with Friends) is back!  This time they are going to take on R.E.M.’s Lifes Rich Pageant.  Some of my favorite songs on this album is “Fall On Me” and “Superman”.  The “Superman” song is actually a cover of The Clique… but everybody\, including myself associate the song with R.E.M.\n\n\n          Michael Shannon & Jason Narducy       \n\n\nWe saw Michael Shannon & Jason Narducy in Oct 2025 and said\, “This cover band act could absolutely be a gimmick; famous actor who can do a good impression of a pretty identifiable and idiosyncratic singer. But from my perspective\, it was pretty obvious from the first few songs that Shannon cares about this band and its music\, and that ultimately raises it up to “imitation being the sincerest form of flattery”. And the backing band has the chops to carry this. Besides Narducy\, providing lead guitar and backing vocals\, there’s fellow Mould and Superchunk performer Jon Wurster on drums\, and the six performers are obviously very comfortable with each other. It turns out that Shannon and Narducy have been doing various cover music for a decade\, before embarking on their first tour last year.”\n\nBobcat Goldthwait to open.\n\nTour Dates \n\nFEB 13 Neptune Theatre Seattle\, WA\nFEB 14 Revolution Hall Portland\, OR\nFEB 16 Harrah’s Lake Tahoe Stateline\, NV\nFEB 17 The Fillmore San Francisco\, CA\nFEB 19 The Bellwether Los Angeles\, CA\nFEB 21 Emo’s Austin Austin\, TX\nFEB 24 House of Blues New Orleans New Orleans\, LA\n FEB 26 40 Watt Club Athens\, GA\nFEB 27 40 Watt Club Athens\, GA\nFEB 28 Cat’s Cradle Carrboro\, NC\nMAR 2 The National Richmond\, VA\nMAR 3 9:30 ClubWashington\, DC\nMAR 4 Union Transfer Philadelphia\, PA\nMAR 6 Royale Boston\, MA\nMAR 7 Brooklyn Steel Brooklyn\, NY\nMAR 9 Mr. Smalls Theatre\, Funhouse & Café Millvale\, PA\nMAR 10 Globe Iron Cleveland\, OH\nMAR 12 Metro Chicago Chicago\, IL\nMAR 13 Metro Chicago Chicago\, IL\nMAR 14 First Avenue Minneapolis\, MN\nMAR 16 The Bluebird Bloomington\, IN\nSEP 1 Thekla Bristol\nSEP 2 Chalk Brighton\nSEP 4 Koko London\nSEP 5 New Century Hall Manchester\nSEP 6 Brudenell Social Club Leeds\nSEP 8 Liquid Room Edinburgh\nSEP 9 Saint Luke’s Glasgow\nSEP 11 Vicar Street Dublin\nSEP 12 Mandela Hall Belfast\nSEP 24 Codfish Hollow Barnstormers Maquoketa\, IA\nSEP 25 Riviera Theatre Chicago\, IL\nSEP 26 The Majestic Theatr Detroit\, MI \n\n\n\nSocial Share\n				Share on Add Us (Opens in new window)\n				Add Us\n			\n				Share on Instagram (Opens in new window)\n				Instagram\n			\n				Share on X (Opens in new window)\n				X\n			\n				Share on Bluesky (Opens in new window)\n				Bluesky\n			\n				Share on Facebook (Opens in new window)\n				Facebook\n			More\n				Print (Opens in new window)\n				Print\n			\n				Share on Reddit (Opens in new window)\n				Reddit\n			\n				Email a link to a friend (Opens in new window)\n				Email\n			\n				Share on Pinterest (Opens in new window)\n				Pinterest\n			\n				Share on Tumblr (Opens in new window)\n				Tumblr\n			\n				Share on Threads (Opens in new window)\n				Threads\n			\n				Share on WhatsApp (Opens in new window)\n				WhatsApp\n			\n				Share on LinkedIn (Opens in new window)\n				LinkedIn\n			\n				Share on Mastodon (Opens in new window)\n				Mastodon\n			\n				Share on Telegram (Opens in new window)\n				Telegram\n			\n				Share on Nextdoor (Opens in new window)\n				Nextdoor\n			Like this:Like Loading...
URL:https://wheartm.com/event/mpls-michael-shannon-jason-narducy-and-friends-at-first-avenue-mar-14-2026/
LOCATION:First Avenue\, 701 N 1st Ave\, Minneapolis\, MN\, 55403\, United States
CATEGORIES:Minneapolis
ATTACH;FMTTYPE=image/jpeg:https://wheartm.com/wp-content/uploads/2026/01/MichaelShannonJasonNarducy-031426-1080v1.jpg
END:VEVENT
END:VCALENDAR