BEGIN:VCALENDAR
VERSION:2.0
PRODID:-//W♥M - ECPv6.15.17.1//NONSGML v1.0//EN
CALSCALE:GREGORIAN
METHOD:PUBLISH
X-WR-CALNAME:W♥M
X-ORIGINAL-URL:https://wheartm.com
X-WR-CALDESC:Events for W♥M
REFRESH-INTERVAL;VALUE=DURATION:PT1H
X-Robots-Tag:noindex
X-PUBLISHED-TTL:PT1H
BEGIN:VTIMEZONE
TZID:America/Chicago
BEGIN:DAYLIGHT
TZOFFSETFROM:-0600
TZOFFSETTO:-0500
TZNAME:CDT
DTSTART:20250309T080000
END:DAYLIGHT
BEGIN:STANDARD
TZOFFSETFROM:-0500
TZOFFSETTO:-0600
TZNAME:CST
DTSTART:20251102T070000
END:STANDARD
BEGIN:DAYLIGHT
TZOFFSETFROM:-0600
TZOFFSETTO:-0500
TZNAME:CDT
DTSTART:20260308T080000
END:DAYLIGHT
BEGIN:STANDARD
TZOFFSETFROM:-0500
TZOFFSETTO:-0600
TZNAME:CST
DTSTART:20261101T070000
END:STANDARD
BEGIN:DAYLIGHT
TZOFFSETFROM:-0600
TZOFFSETTO:-0500
TZNAME:CDT
DTSTART:20270314T080000
END:DAYLIGHT
BEGIN:STANDARD
TZOFFSETFROM:-0500
TZOFFSETTO:-0600
TZNAME:CST
DTSTART:20271107T070000
END:STANDARD
END:VTIMEZONE
BEGIN:VEVENT
DTSTART;TZID=America/Chicago:20260401T000000
DTEND;TZID=America/Chicago:20260401T235959
DTSTAMP:20260421T064236
CREATED:20260217T213422Z
LAST-MODIFIED:20260302T180856Z
UID:47590-1775001600-1775087999@wheartm.com
SUMMARY:Mpls: Machine Girl at First Avenue (Apr 1\, 2026)
DESCRIPTION:Machine Girl at First Avenue (Apr 1\, 2026)\n\n\nApril 1\, 2026 Wednesday\n Machine Girl\nwith Sextile and LustSickPuppyat First Avenue\nfirst-avenue.com\n\nNew York trio Machine Girl (helmed by Matt Stephenson) is on the PsychoWarrior Tour\, stopping by First Avenue\, in Minneapolis\, on April 1\, 2026. \n\nThe ticket limit is strict. Any attempt to exceed the posted ticket limit per customer or household\, or to game the system in any way\, will result in cancellation of orders without notice. There is a transfer delay for all tickets prior to the show.\n\n\n\nSextile (was last seen at First Avenue on Feb 2025)  and LustSickPuppy (stylized as LUST$ICKPUPPY was last seen at 7th St Entry on Nov 2025) to open.\n\nTour Dates \n\nMAR 02 – Union Craft Brewing – Baltimore\, MD\nMAR 03 – Howard Theatre – Washington\, DC\nMAR 06 – The Underground – Charlotte\, NC\nMAR 07 – The Eastern – Atlanta\, GA\nMAR 09 – The Beacham – Orlando\, FL\nMAR 10 – Culture Room – Fort Lauderdale\, FL\nMAR 11 – Jannus – Tampa\, FL\nMAR 14 – White Oak Music Hall – Houston\, TX\nMAR 15 – Ferris Wheelers – Dallas\, TX\nMAR 17 – The Van Buren – Phoenix\, AZ\nMAR 18 – Observatory North Park – San Diego\, CA\nMAR 20 – Observatory – Santa Ana\, CA\nMAR 21 – Fox Theatre – San Francisco\, CA\nMAR 23 – Crystal Ballroom – Portland\, OR\nMAR 24 – Showbox SoDo – Seattle\, WA\nMAR 25 – Harbour Event Centre – Vancouver\, BC\nMAR 28 – The Depot – Salt Lake City\, UT\nMAR 30 – Summit – Denver\, CO\nMAR 31 – Delmar Hall – St. Louis\, MO\nAPR 01 – First Avenue – Minneapolis\, MN\nAPR 03 – The Salt Shed – Chicago\, IL\nAPR 04 – Russell Industrial Center – Detroit\, MI\nAPR 05 – HISTORY – Toronto\, ON\nAPR 07 – Club Soda – Montreal\, QC\nAPR 08 – Royale – Boston\, MA\n\n\n\nSocial Share\n				Share on Add Us (Opens in new window)\n				Add Us\n			\n				Share on Instagram (Opens in new window)\n				Instagram\n			\n				Share on X (Opens in new window)\n				X\n			\n				Share on Bluesky (Opens in new window)\n				Bluesky\n			\n				Share on Facebook (Opens in new window)\n				Facebook\n			More\n				Print (Opens in new window)\n				Print\n			\n				Share on Reddit (Opens in new window)\n				Reddit\n			\n				Email a link to a friend (Opens in new window)\n				Email\n			\n				Share on Pinterest (Opens in new window)\n				Pinterest\n			\n				Share on Tumblr (Opens in new window)\n				Tumblr\n			\n				Share on Threads (Opens in new window)\n				Threads\n			\n				Share on WhatsApp (Opens in new window)\n				WhatsApp\n			\n				Share on LinkedIn (Opens in new window)\n				LinkedIn\n			\n				Share on Mastodon (Opens in new window)\n				Mastodon\n			\n				Share on Telegram (Opens in new window)\n				Telegram\n			\n				Share on Nextdoor (Opens in new window)\n				Nextdoor\n			Like this:Like Loading...
URL:https://wheartm.com/event/mpls-machine-girl-at-first-avenue-apr-1-2026/
LOCATION:First Avenue\, 701 N 1st Ave\, Minneapolis\, MN\, 55403\, United States
CATEGORIES:Minneapolis
ATTACH;FMTTYPE=image/jpeg:https://wheartm.com/wp-content/uploads/2026/02/MachineGirl-040126-1080v1.jpg
END:VEVENT
BEGIN:VEVENT
DTSTART;TZID=America/Chicago:20260401T000000
DTEND;TZID=America/Chicago:20260401T235959
DTSTAMP:20260421T064236
CREATED:20260217T213533Z
LAST-MODIFIED:20260217T213533Z
UID:47593-1775001600-1775087999@wheartm.com
SUMMARY:Mpls: Caiola at 7th St Entry (Apr 1\, 2026)
DESCRIPTION:Wednesday\nApr\n1\n2026\n7th St Entry\nCaiola\nSpring Tour\nwith Mid America \nCaiola 4/1/26 \n \nSocial Share\n				Share on Add Us (Opens in new window)\n				Add Us\n			\n				Share on Instagram (Opens in new window)\n				Instagram\n			\n				Share on X (Opens in new window)\n				X\n			\n				Share on Bluesky (Opens in new window)\n				Bluesky\n			\n				Share on Facebook (Opens in new window)\n				Facebook\n			More\n				Print (Opens in new window)\n				Print\n			\n				Share on Reddit (Opens in new window)\n				Reddit\n			\n				Email a link to a friend (Opens in new window)\n				Email\n			\n				Share on Pinterest (Opens in new window)\n				Pinterest\n			\n				Share on Tumblr (Opens in new window)\n				Tumblr\n			\n				Share on Threads (Opens in new window)\n				Threads\n			\n				Share on WhatsApp (Opens in new window)\n				WhatsApp\n			\n				Share on LinkedIn (Opens in new window)\n				LinkedIn\n			\n				Share on Mastodon (Opens in new window)\n				Mastodon\n			\n				Share on Telegram (Opens in new window)\n				Telegram\n			\n				Share on Nextdoor (Opens in new window)\n				Nextdoor\n			Like this:Like Loading...
URL:https://wheartm.com/event/mpls-caiola-at-7th-st-entry-apr-1-2026/
LOCATION:7th Street Entry\, 701 N 1st Ave\, Minneapolis\, MN\, 55403\, United States
CATEGORIES:Minneapolis
ATTACH;FMTTYPE=image/jpeg:https://wheartm.com/wp-content/uploads/2026/02/Caiola-040126-1080v1.jpg
END:VEVENT
BEGIN:VEVENT
DTSTART;TZID=America/Chicago:20260401T180000
DTEND;TZID=America/Chicago:20260401T233000
DTSTAMP:20260421T064236
CREATED:20260210T161607Z
LAST-MODIFIED:20260302T205415Z
UID:46289-1775066400-1775086200@wheartm.com
SUMMARY:Mpls: The Wonder Years at Varsity Theater (Apr 1\, 2026)
DESCRIPTION:The Wonder Years at Varsity Theater (Apr 1\, 2026)\n\n\nApril 1\, 2026 Wednesday \nThe Wonder Years\nwith Knuckle Puck and Weakened Friends\nat Varsity Theater\nvarsitytheater.com\n  The Wonder Years is returning to Minneapolis\, at the Varsity Theater\, on April 1\, 2026.\n\n\n          The Wonder Years       \n\nWe saw Wonder Years in October 2025 and wrote\, “The upside was a little more time for Pennsylvania alt pop-punk band The Wonder Years\, who many in the crowd had come to see the most. The band’s last studio record was their seventh\, 2022’s The Hum Goes On Forever\, and the hum has gone on a while\, but new music is promised soon. In addition to old favorites\, they did manage to work in a couple of more recent standalone singles- 2023’s “GODDAMNITALL” and last year’s “Year of the Vulture.””.\n\n\n          Weakened Friends       \n\n\nKnuckle Puck and Weakened Friends to open.    We last saw Weakened Friends in April 2024  and noted\, “Opening the show was Portland’s Weakened Friends\, who was very thankful to be on the bill… especially packed shows\, such as the Turf Club. They said it was very hard to headline a show\, because they booked a show on September 17\, 2023\, at the Treasury\, and “only two people bought tickets.” … To be honest\, I’ve never even heard of The Treasury venue and have no idea that there are shows being booked there. Update: A little research tells me that the all-ages venue in St Paul closed its door last October.”.\n\nTour Dates \n\n04  MAR  Brooklyn Paramount Brooklyn\, NY\n05   MAR  The Fillmore Silver Spring Silver Spring\, MD\n06  MAR  The Ritz Raleigh\, NC\n07  MAR  The Fillmore Charlotte Charlotte\, NC\n08 MAR  House of Blues Orlando Orlando\, FL\n10 MAR The Masquerade Atlanta\, GA\n11 MAR Brooklyn Bowl Nashville Nashville\, TN\n13  MAR  Granada Theater Dallas\, TX\n14  MAR Emo’s Austin Austin\, TX\n17 MAR Lowbrow Palace El Paso\, TX\n18 MAR Nile Theater Mesa\, AZ\n19 MAR The Observatory North Park San Diego\, CA\n20 MAR House of Blues Anaheim Anaheim\, CA\n21 MAR The Belasco Los Angeles\, CA\n22  MAR The UC Theatre Berkeley\, CA\n24 MAR Revolution Hall Portland\, OR\n25 MAR Showbox Sodo Seattle\, WA\n28  MAR The Complex Salt Lake City\, UT\n29 MAR Ogden Theatre Denver\, CO\n31  MAR The Truman Kansas City\, MO\n01 APR Varsity Theater Minneapolis\, MN\n02 APR The Riviera Theatre Chicago\, IL\n03 APR Saint Andrew’s Hall Detroit\, MI\n04 APR House Of Blues Cleveland Cleveland\, OH\n05 APR Danforth Music Hall Toronto\, Canada\n07 APR Empire LiveAlbany\, NY\n08 APR Citizens House of Blues Boston Boston\, MA \n09 APR Theatre Of The Living Arts Philadelphia\, PA\n10 APR Theatre Of The Living Arts Philadelphia\, PA\n11 APR Theatre Of The Living Arts Philadelphia\, PA\n12 APR Theatre Of The Living Arts Philadelphia\, PA\n14 APR Theatre Of The Living Arts Philadelphia\, PA\n15 APR Theatre Of The Living Arts Philadelphia\, PA\n\n\n\nSocial Share\n				Share on Add Us (Opens in new window)\n				Add Us\n			\n				Share on Instagram (Opens in new window)\n				Instagram\n			\n				Share on X (Opens in new window)\n				X\n			\n				Share on Bluesky (Opens in new window)\n				Bluesky\n			\n				Share on Facebook (Opens in new window)\n				Facebook\n			More\n				Print (Opens in new window)\n				Print\n			\n				Share on Reddit (Opens in new window)\n				Reddit\n			\n				Email a link to a friend (Opens in new window)\n				Email\n			\n				Share on Pinterest (Opens in new window)\n				Pinterest\n			\n				Share on Tumblr (Opens in new window)\n				Tumblr\n			\n				Share on Threads (Opens in new window)\n				Threads\n			\n				Share on WhatsApp (Opens in new window)\n				WhatsApp\n			\n				Share on LinkedIn (Opens in new window)\n				LinkedIn\n			\n				Share on Mastodon (Opens in new window)\n				Mastodon\n			\n				Share on Telegram (Opens in new window)\n				Telegram\n			\n				Share on Nextdoor (Opens in new window)\n				Nextdoor\n			Like this:Like Loading...
URL:https://wheartm.com/event/mpls-the-wonder-years-at-varsity-theater-apr-1-2026/
LOCATION:Varsity Theater\, 1308 SE 4th St\, Minneapolis\, MN\, 55414\, United States
CATEGORIES:Minneapolis
ATTACH;FMTTYPE=image/jpeg:https://wheartm.com/wp-content/uploads/2026/02/Wonder-Years-n.jpg
END:VEVENT
END:VCALENDAR