BEGIN:VCALENDAR
VERSION:2.0
PRODID:-//W♥M - ECPv6.15.17.1//NONSGML v1.0//EN
CALSCALE:GREGORIAN
METHOD:PUBLISH
X-WR-CALNAME:W♥M
X-ORIGINAL-URL:https://wheartm.com
X-WR-CALDESC:Events for W♥M
REFRESH-INTERVAL;VALUE=DURATION:PT1H
X-Robots-Tag:noindex
X-PUBLISHED-TTL:PT1H
BEGIN:VTIMEZONE
TZID:America/Chicago
BEGIN:DAYLIGHT
TZOFFSETFROM:-0600
TZOFFSETTO:-0500
TZNAME:CDT
DTSTART:20250309T080000
END:DAYLIGHT
BEGIN:STANDARD
TZOFFSETFROM:-0500
TZOFFSETTO:-0600
TZNAME:CST
DTSTART:20251102T070000
END:STANDARD
BEGIN:DAYLIGHT
TZOFFSETFROM:-0600
TZOFFSETTO:-0500
TZNAME:CDT
DTSTART:20260308T080000
END:DAYLIGHT
BEGIN:STANDARD
TZOFFSETFROM:-0500
TZOFFSETTO:-0600
TZNAME:CST
DTSTART:20261101T070000
END:STANDARD
BEGIN:DAYLIGHT
TZOFFSETFROM:-0600
TZOFFSETTO:-0500
TZNAME:CDT
DTSTART:20270314T080000
END:DAYLIGHT
BEGIN:STANDARD
TZOFFSETFROM:-0500
TZOFFSETTO:-0600
TZNAME:CST
DTSTART:20271107T070000
END:STANDARD
END:VTIMEZONE
BEGIN:VEVENT
DTSTART;TZID=America/Chicago:20260415T000000
DTEND;TZID=America/Chicago:20260419T235959
DTSTAMP:20260423T044303
CREATED:20260414T230306Z
LAST-MODIFIED:20260419T050151Z
UID:58147-1776211200-1776643199@wheartm.com
SUMMARY:Jax: The Block Jax Live Music Schedule (April 15-19\, 2026)
DESCRIPTION:The Block Jax Live Music Lineup \n04/15 Jordan Judith (Noon)\n04/16 Nathan Allen (Noon) / Baby Gray Duo (5:30pm)\n04/17 Ryan Campbell (Noon) / Outeredge Duo (6:30pm)\n04/18 Shawn Eckels (Noon) / Ryan Crary & Evan Curtis (6:30pm)\n04/19 Disco Cowboy: Live DJ Set (Noon) \nBookclub and movie night (“Surf’s Up”) \nSocial Share\n				Share on Add Us (Opens in new window)\n				Add Us\n			\n				Share on Instagram (Opens in new window)\n				Instagram\n			\n				Share on X (Opens in new window)\n				X\n			\n				Share on Bluesky (Opens in new window)\n				Bluesky\n			\n				Share on Facebook (Opens in new window)\n				Facebook\n			More\n				Print (Opens in new window)\n				Print\n			\n				Share on Reddit (Opens in new window)\n				Reddit\n			\n				Email a link to a friend (Opens in new window)\n				Email\n			\n				Share on Pinterest (Opens in new window)\n				Pinterest\n			\n				Share on Tumblr (Opens in new window)\n				Tumblr\n			\n				Share on Threads (Opens in new window)\n				Threads\n			\n				Share on WhatsApp (Opens in new window)\n				WhatsApp\n			\n				Share on LinkedIn (Opens in new window)\n				LinkedIn\n			\n				Share on Mastodon (Opens in new window)\n				Mastodon\n			\n				Share on Telegram (Opens in new window)\n				Telegram\n			\n				Share on Nextdoor (Opens in new window)\n				Nextdoor\n			Like this:Like Loading...
URL:https://wheartm.com/event/jax-the-block-jax-live-music-schedule-april-15-19-2026/
LOCATION:The Block Jax\, 7520 Quarter Mill Drive\, Jacksonville\, FL\, 32256\, United States
CATEGORIES:Jacksonville
ATTACH;FMTTYPE=image/jpeg:https://wheartm.com/wp-content/uploads/2026/04/The-Block-04-19-2026.jpg
END:VEVENT
BEGIN:VEVENT
DTSTART;TZID=America/Chicago:20260418T180000
DTEND;TZID=America/Chicago:20260419T233000
DTSTAMP:20260423T044303
CREATED:20260401T184954Z
LAST-MODIFIED:20260401T184954Z
UID:54932-1776535200-1776641400@wheartm.com
SUMMARY:Jax: Goose at St. Augustine Amphitheatre (April 18-19\, 2026)
DESCRIPTION:Catch Goose in St. Augustine on April 18 and 19 at the St. Augustine Amphitheatre\, as part of their spring tour. \nGoose kicked off its 2026 live schedule with a top-billed performance at Athens\, GA’s annual Jam in the Streets street music festival on March 28\, which is now followed by headline dates beginning April 10 at Asheville\, NC’s ExploreAsheville.com Arena and continuing through the month. The April run includes two-night stands at Fort Lauderdale\, FL’s War Memorial Auditorium (April 14-15)\, St. Augustine\, FL’s St. Augustine Amphitheatre (April 18-19)\, and New Orleans\, LA’s Saenger Theatre (April 21-22)\, and a special return to Austin\, TX’s Moody Center (April 24) following 2024’s sold-out New Year’s Eve shows there\, as well as a festival appearance at Orlando\, FL’s Florida Groves Music & Arts Festival (April 12). \nFrom there\, Goose will return to San José del Cabo for the second edition of Viva El Gonzo\, taking place May 7 – 9 and presented once again by 100x Hospitality. Anchored by three consecutive nights of performances by Goose\, the festival will feature sets from My Morning Jacket\, Cory Wong\, LP Giobbi\, Jim James (Acoustic)\, the California Honeydrops\, and more. Goose will deliver two sets each night\, setting the stage for a weekend full of unforgettable musical discovery. Complete details\, tickets\, and travel packages can be found exclusively at vivaelgonzo.com. \nGoose will then cross the Atlantic for a much-anticipated headline tour of Europe and the United Kingdom\, kicking off with a two-night stand at London’s Electric Brixton on May 22-23\, 2026. Highlights include a two-night stand at Amsterdam\, NL’s Melkweg (May 27-28)\, a headline show at Paris\, FR’s historic Élysée-Montmartre (June 1)\, and a top-billed festival performance at Aarhus\, DK’s NorthSide 2026 (June 5). \nFor their summer tour\, dates begin June 13 at Toronto\, ON’s RBC Amphitheatre and continue through late August. Highlights include a previously announced two-night return to New York City’s Madison Square Garden (June 19-20)\, along with two-night stands at Virginia Beach\, VA’s The Dome (June 15-16)\, Charleston\, SC’s Firefly Distillery (June 23-24)\, Raleigh\, NC’s Red Hat Amphitheater (June 26-27)\, Boston\, MA’s Leader Bank Pavilion (June 30-July 1)\, Saratoga Springs\, NY’s Saratoga Performing Arts Center (July 3-4)\, Bend\, OR’s Hayden Homes Amphitheater (August 21-22)\, and Morrison\, CO’s Red Rocks Amphitheatre (August 27-28)\, as well as one-night-only shows at such famed venues as Columbia\, MD’s Merriweather Post Pavilion (June 28) and Los Angeles\, CA’s The Greek Theatre (August 14).  \nGoose will be joined on select dates by a number of very special guests\, including Julian Lage (June 13)\, The Disco Biscuits (July 3)\, moe. (July 4)\, Greensky Bluegrass (August 19-21)\, and Buffalo Traffic Jam (August 22). \n# # #\nGOOSE – LIVE 2026 \nAPRIL \n10 – Asheville\, NC – ExploreAsheville.com Arena \n11 – Birmingham\, AL – Coca-Cola Amphitheater * \n12 – Orlando\, FL – Florida Groves Music & Arts Festival † \n14 – Fort Lauderdale\, FL – War Memorial Auditorium \n15 – Fort Lauderdale\, FL – War Memorial Auditorium \n17 – Clearwater\, FL – The BayCare Sound \n18 – St. Augustine\, FL – St. Augustine Amphitheatre \n19 – St. Augustine\, FL – St. Augustine Amphitheatre \n21 – New Orleans\, LA – Saenger Theatre \n22 – New Orleans\, LA – Saenger Theatre \n23 – Houston\, TX – Bayou Music Center \n24 – Austin\, TX – Moody Center \n25 – Irving\, TX – The Pavilion at Toyota Music Factory \nMAY \n7-9 – San José del Cabo\, Mexico – Viva El Gonzo \n22 – London\, UK – Electric Brixton \n23 – London\, UK – Electric Brixton \n25 – Brussels\, BE – La Madeleine \n27 – Amsterdam\, NL – Melkweg \n28 – Amsterdam\, NL – Melkweg \n30 – Cologne\, DE – Bürgerhaus Stollwerck \nJUNE \n1 – Paris\, FR – Élysée-Montmartre \n3 – Berlin\, DE – Festaal Kreuzberg \n5 – Aarhus\, DK – NorthSide 2026 † \n13 – Toronto\, ON – RBC Amphitheatre ^ # \n15 – Virginia Beach\, VA – The Dome # \n16 – Virginia Beach\, VA – The Dome # \n19 – New York\, NY – Madison Square Garden \n20 – New York\, NY – Madison Square Garden \n23 – Charleston\, SC – Firefly Distillery # \n24 – Charleston\, SC – Firefly Distillery # \n26 – Raleigh\, NC – Red Hat Amphitheater # \n27 – Raleigh\, NC – Red Hat Amphitheater # \n28 – Columbia\, MD – Merriweather Post Pavilion # \n30 – Boston\, MA – Leader Bank Pavilion # \nJULY \n1 – Boston\, MA – Leader Bank Pavilion # \n2 – Holmdel\, NJ – PNC Bank Arts Center # \n3 – Saratoga Springs\, NY – Saratoga Performing Arts Center ‡ # \n4 – Saratoga Springs\, NY – Saratoga Performing Arts Center § # \nAUGUST \n13 – San Diego\, CA – Cal Coast Credit Union Open Air Theatre # \n14 – Los Angeles\, CA – The Greek Theatre # \n15 – Stanford\, CA – Frost Amphitheater # \n16 – Reno\, NV – The Grand Theatre at Grand Sierra Resort # \n18 – Vancouver\, BC – Commodore Ballroom # \n19 – Seattle\, WA – WAMU Theater Δ # \n21 – Bend\, OR – Hayden Homes Amphitheater Δ # \n22 – Bend\, OR – Hayden Homes Amphitheater ‖ # \n24 – Missoula\, MT – KettleHouse Amphitheater # \n27 – Denver\, CO – Red Rocks Amphitheatre # \n28 – Denver\, CO – Red Rocks Amphitheatre # \n29 – Salt Lake City\, UT – TBA # \n† Festival Appearance \n* w/ Special Guests The Stews \n# Newly Announced Date \n^ w/ Special Guest Julian Lage \n‡ w/ Special Guests The Disco Biscuits \n§ w/Special Guests moe. \nΔ w/ Special Guests Greensky Bluegrass \n‖ w/ Special Guests Buffalo Traffic Jam \nSocial Share\n				Share on Add Us (Opens in new window)\n				Add Us\n			\n				Share on Instagram (Opens in new window)\n				Instagram\n			\n				Share on X (Opens in new window)\n				X\n			\n				Share on Bluesky (Opens in new window)\n				Bluesky\n			\n				Share on Facebook (Opens in new window)\n				Facebook\n			More\n				Print (Opens in new window)\n				Print\n			\n				Share on Reddit (Opens in new window)\n				Reddit\n			\n				Email a link to a friend (Opens in new window)\n				Email\n			\n				Share on Pinterest (Opens in new window)\n				Pinterest\n			\n				Share on Tumblr (Opens in new window)\n				Tumblr\n			\n				Share on Threads (Opens in new window)\n				Threads\n			\n				Share on WhatsApp (Opens in new window)\n				WhatsApp\n			\n				Share on LinkedIn (Opens in new window)\n				LinkedIn\n			\n				Share on Mastodon (Opens in new window)\n				Mastodon\n			\n				Share on Telegram (Opens in new window)\n				Telegram\n			\n				Share on Nextdoor (Opens in new window)\n				Nextdoor\n			Like this:Like Loading...
URL:https://wheartm.com/event/jax-goose-at-st-augustine-amphitheatre-april-18-19-2026/
LOCATION:St. Augustine Amphitheatre\, 1340C A1A S\, St. Augustine\, FL\, 32080\, United States
CATEGORIES:Jacksonville
ATTACH;FMTTYPE=image/jpeg:https://wheartm.com/wp-content/uploads/2026/04/goose-staugustine.jpg
END:VEVENT
BEGIN:VEVENT
DTSTART;TZID=America/Chicago:20260419T000000
DTEND;TZID=America/Chicago:20260419T235959
DTSTAMP:20260423T044303
CREATED:20260217T210920Z
LAST-MODIFIED:20260217T210920Z
UID:47529-1776556800-1776643199@wheartm.com
SUMMARY:Mpls: Wild Party at 7th St Entry (Apr 19\, 2026)
DESCRIPTION:Sunday\nApr\n19\n2026\n7th St Entry\nWild Party\nwith Capital Soiree \nWild Party 4/19/26 \n \nSocial Share\n				Share on Add Us (Opens in new window)\n				Add Us\n			\n				Share on Instagram (Opens in new window)\n				Instagram\n			\n				Share on X (Opens in new window)\n				X\n			\n				Share on Bluesky (Opens in new window)\n				Bluesky\n			\n				Share on Facebook (Opens in new window)\n				Facebook\n			More\n				Print (Opens in new window)\n				Print\n			\n				Share on Reddit (Opens in new window)\n				Reddit\n			\n				Email a link to a friend (Opens in new window)\n				Email\n			\n				Share on Pinterest (Opens in new window)\n				Pinterest\n			\n				Share on Tumblr (Opens in new window)\n				Tumblr\n			\n				Share on Threads (Opens in new window)\n				Threads\n			\n				Share on WhatsApp (Opens in new window)\n				WhatsApp\n			\n				Share on LinkedIn (Opens in new window)\n				LinkedIn\n			\n				Share on Mastodon (Opens in new window)\n				Mastodon\n			\n				Share on Telegram (Opens in new window)\n				Telegram\n			\n				Share on Nextdoor (Opens in new window)\n				Nextdoor\n			Like this:Like Loading...
URL:https://wheartm.com/event/mpls-wild-party-at-7th-st-entry-apr-19-2026/
LOCATION:7th Street Entry\, 701 N 1st Ave\, Minneapolis\, MN\, 55403\, United States
CATEGORIES:Minneapolis
ATTACH;FMTTYPE=image/jpeg:https://wheartm.com/wp-content/uploads/2026/02/WildParty-041926-1080.jpg
END:VEVENT
END:VCALENDAR