BEGIN:VCALENDAR
VERSION:2.0
PRODID:-//W♥M - ECPv6.15.17.1//NONSGML v1.0//EN
CALSCALE:GREGORIAN
METHOD:PUBLISH
X-WR-CALNAME:W♥M
X-ORIGINAL-URL:https://wheartm.com
X-WR-CALDESC:Events for W♥M
REFRESH-INTERVAL;VALUE=DURATION:PT1H
X-Robots-Tag:noindex
X-PUBLISHED-TTL:PT1H
BEGIN:VTIMEZONE
TZID:America/Chicago
BEGIN:DAYLIGHT
TZOFFSETFROM:-0600
TZOFFSETTO:-0500
TZNAME:CDT
DTSTART:20250309T080000
END:DAYLIGHT
BEGIN:STANDARD
TZOFFSETFROM:-0500
TZOFFSETTO:-0600
TZNAME:CST
DTSTART:20251102T070000
END:STANDARD
BEGIN:DAYLIGHT
TZOFFSETFROM:-0600
TZOFFSETTO:-0500
TZNAME:CDT
DTSTART:20260308T080000
END:DAYLIGHT
BEGIN:STANDARD
TZOFFSETFROM:-0500
TZOFFSETTO:-0600
TZNAME:CST
DTSTART:20261101T070000
END:STANDARD
BEGIN:DAYLIGHT
TZOFFSETFROM:-0600
TZOFFSETTO:-0500
TZNAME:CDT
DTSTART:20270314T080000
END:DAYLIGHT
BEGIN:STANDARD
TZOFFSETFROM:-0500
TZOFFSETTO:-0600
TZNAME:CST
DTSTART:20271107T070000
END:STANDARD
END:VTIMEZONE
BEGIN:VEVENT
DTSTART;TZID=America/Chicago:20260421T183000
DTEND;TZID=America/Chicago:20260421T230000
DTSTAMP:20260423T044320
CREATED:20260313T012709Z
LAST-MODIFIED:20260422T215704Z
UID:51277-1776796200-1776812400@wheartm.com
SUMMARY:Mpls: Ana Popovic at The Dakota (April 21\, 2026)
DESCRIPTION:Ana Popovic at The Dakota (April 21\, 2026)\n\n\nApril 21\, 2026 Tuesday\nAna Popovic\nat Dakota Jazz Club\ndakotacooks.com\n\nLos Angeles-based\, critically acclaimed guitarist and singer Ana Popovic is headlining the Dakota Jazz Club\, in Minneapolis\, on April 21\, 2026\, in support of her latest album Dance To The Rhythm.  Popovic was previously in the Jacksonville-area in February 2026.\n\n\nAna says:\n\n\nOne of my biggest strengths on stage is my ability to make people dance. Music should take you to a place where you can let go\, feel the groove\, and move. You want music to grab you\, to have a pocket that you can’t resist. Everything else revolves around it. Blues guitar has never really been part of dance music before\, and in that way\, it’s revolutionary. Guitar plays a central role in these tracks\, breaking down the boundaries created by time\, culture\, and musical traditions. With this album\, I’m pushing those boundaries.\n\n\nSocial Share\n				Share on Add Us (Opens in new window)\n				Add Us\n			\n				Share on Instagram (Opens in new window)\n				Instagram\n			\n				Share on X (Opens in new window)\n				X\n			\n				Share on Bluesky (Opens in new window)\n				Bluesky\n			\n				Share on Facebook (Opens in new window)\n				Facebook\n			More\n				Print (Opens in new window)\n				Print\n			\n				Share on Reddit (Opens in new window)\n				Reddit\n			\n				Email a link to a friend (Opens in new window)\n				Email\n			\n				Share on Pinterest (Opens in new window)\n				Pinterest\n			\n				Share on Tumblr (Opens in new window)\n				Tumblr\n			\n				Share on Threads (Opens in new window)\n				Threads\n			\n				Share on WhatsApp (Opens in new window)\n				WhatsApp\n			\n				Share on LinkedIn (Opens in new window)\n				LinkedIn\n			\n				Share on Mastodon (Opens in new window)\n				Mastodon\n			\n				Share on Telegram (Opens in new window)\n				Telegram\n			\n				Share on Nextdoor (Opens in new window)\n				Nextdoor\n			Like this:Like Loading...
URL:https://wheartm.com/event/mpls-ana-popovic-at-the-dakota-april-21-2026/
LOCATION:Dakota Jazz Club\, 1010 Nicollet Mall\, Minneapolis\, MN\, 55403\, United States
CATEGORIES:Minneapolis
ATTACH;FMTTYPE=image/jpeg:https://wheartm.com/wp-content/uploads/2026/03/Ana-Popovic-at-The-Dakota-April-21-2026.jpg
END:VEVENT
BEGIN:VEVENT
DTSTART;TZID=America/Chicago:20260421T193000
DTEND;TZID=America/Chicago:20260421T213000
DTSTAMP:20260423T044320
CREATED:20260312T150203Z
LAST-MODIFIED:20260312T150204Z
UID:51222-1776799800-1776807000@wheartm.com
SUMMARY:KC: Kinky Boots (musical) at Lied Center (Apr 21\, 2026)
DESCRIPTION:Kinky Boots\nBroadway’s huge-hearted\, high-heeled musical\nTuesday • April 21\, 2026 • 7:30 pm  \nKinky Boots will lift your spirits to high-heeled heights! Celebrated with six Tony Awards\, including Best Musical\, a Grammy Award for Best Musical Theatre Album and London’s Olivier Award for Best Musical\, this big-hearted musical hit will have you strutting out of the theater saying “Yeah!” \nKinky Boots captivates and entertains audiences around the world with the dazzling Tony-winning score by pop legend Cyndi Lauper\, hilarious and uplifting book by four-time Tony Award-winner Harvey Fierstein\, and original direction and Tony-winning choreography by Jerry Mitchell. \nBased on true events\, Kinky Boots follows the journey of two people with nothing in common—or so they think. Charlie Price reluctantly inherits his father’s shoe factory\, which is on the verge of bankruptcy. Trying to live up to his father’s legacy and save his family business\, Charlie finds inspiration in the form of Lola\, a fabulous entertainer in need of some sturdy stilettos. As Charlie and Lola work together to turn the factory around\, this unlikely pair find that they have more in common than they realized… and discover that you change the world when you change your mind. \nSocial Share\n				Share on Add Us (Opens in new window)\n				Add Us\n			\n				Share on Instagram (Opens in new window)\n				Instagram\n			\n				Share on X (Opens in new window)\n				X\n			\n				Share on Bluesky (Opens in new window)\n				Bluesky\n			\n				Share on Facebook (Opens in new window)\n				Facebook\n			More\n				Print (Opens in new window)\n				Print\n			\n				Share on Reddit (Opens in new window)\n				Reddit\n			\n				Email a link to a friend (Opens in new window)\n				Email\n			\n				Share on Pinterest (Opens in new window)\n				Pinterest\n			\n				Share on Tumblr (Opens in new window)\n				Tumblr\n			\n				Share on Threads (Opens in new window)\n				Threads\n			\n				Share on WhatsApp (Opens in new window)\n				WhatsApp\n			\n				Share on LinkedIn (Opens in new window)\n				LinkedIn\n			\n				Share on Mastodon (Opens in new window)\n				Mastodon\n			\n				Share on Telegram (Opens in new window)\n				Telegram\n			\n				Share on Nextdoor (Opens in new window)\n				Nextdoor\n			Like this:Like Loading...
URL:https://wheartm.com/event/kc-kinky-boots-musical-at-lied-center-apr-21-2026/
LOCATION:Lied Center\, 1600 Stewart Dr\, Lawrence\, KS\, 66045\, United States
CATEGORIES:Kansas City
ATTACH;FMTTYPE=image/jpeg:https://wheartm.com/wp-content/uploads/2026/03/xKinky-Boots-program-1.jpg
END:VEVENT
END:VCALENDAR