BEGIN:VCALENDAR
VERSION:2.0
PRODID:-//W♥M - ECPv6.15.17.1//NONSGML v1.0//EN
CALSCALE:GREGORIAN
METHOD:PUBLISH
X-WR-CALNAME:W♥M
X-ORIGINAL-URL:https://wheartm.com
X-WR-CALDESC:Events for W♥M
REFRESH-INTERVAL;VALUE=DURATION:PT1H
X-Robots-Tag:noindex
X-PUBLISHED-TTL:PT1H
BEGIN:VTIMEZONE
TZID:America/Chicago
BEGIN:DAYLIGHT
TZOFFSETFROM:-0600
TZOFFSETTO:-0500
TZNAME:CDT
DTSTART:20250309T080000
END:DAYLIGHT
BEGIN:STANDARD
TZOFFSETFROM:-0500
TZOFFSETTO:-0600
TZNAME:CST
DTSTART:20251102T070000
END:STANDARD
BEGIN:DAYLIGHT
TZOFFSETFROM:-0600
TZOFFSETTO:-0500
TZNAME:CDT
DTSTART:20260308T080000
END:DAYLIGHT
BEGIN:STANDARD
TZOFFSETFROM:-0500
TZOFFSETTO:-0600
TZNAME:CST
DTSTART:20261101T070000
END:STANDARD
BEGIN:DAYLIGHT
TZOFFSETFROM:-0600
TZOFFSETTO:-0500
TZNAME:CDT
DTSTART:20270314T080000
END:DAYLIGHT
BEGIN:STANDARD
TZOFFSETFROM:-0500
TZOFFSETTO:-0600
TZNAME:CST
DTSTART:20271107T070000
END:STANDARD
END:VTIMEZONE
BEGIN:VEVENT
DTSTART;TZID=America/Chicago:20260304T000000
DTEND;TZID=America/Chicago:20260304T235959
DTSTAMP:20260424T064957
CREATED:20260204T153622Z
LAST-MODIFIED:20260204T173831Z
UID:45142-1772582400-1772668799@wheartm.com
SUMMARY:Mpls: Lights at Amsterdam Bar (March 4\, 2026)
DESCRIPTION:Lights at Amsterdam Bar (March 4\, 2026)\n\n\nMarch 4\, 2026 Wednesday \nLights\nwith Softcultat Amsterdam Bar & Hallamsterdambarandhall.com\n\nLights is back in Minnesota\, playing the Amsterdam Bar & Hall\, in St Paul\, on March 4\, 2026.\n\n\n          Lights       \n\n\nWe saw Lights  in May 2022 and said\, “After the country’s lockdown due to the pandemic\, Lights planned her return to touring by writing new songs on PƎP . The intro song\, “Prodigal Daughter”\, with the backdrop of “I’m Back”\, really set the tone that it’s been a while\, but she’s excited to be back and playing live music. Part of the fun of her show is watching the background video\, which had a lot of hidden Easter eggs\, for old Lights fans to enjoy. For example\, you can see footage of her character avatars from a video game or images from her comic book. It was cool if you knew it\, but it wasn’t terrible if you didn’t understand it. They’re just meant for the fans.”\n \nTour Dates:\n\n\nFEB 13 Midway Edmonton\, AB\nFEB 14 MacEwan Hall Concerts Calgary\, AB\nFEB 18 The Showbox Seattle\, WA\nFEB 20 Bimbo’s 365 Club San Francisco\, CA\nFEB 21 El Rey Theatre Los Angeles\, CA\nFEB 22 El Rey Theatre Los Angeles\, CA\nFEB 24 Metro Music Hall Salt Lake City\, UT\nFEB 25 Summit Music Hall Denver\, CO\nFEB 27 Scoot Inn Austin\, TX\nFEB 28 White Oak Music Hall Houston\, TX\nMAR 01 Trees Dallas\, TX\nMAR 03 Majestic Theatre Madison\, WI\nMAR 04 Amsterdam Bar & Hall Saint Paul\, MN\nMAR 06 Concord Music Hall Chicago\, IL\nMAR 07 Saint Andrew’s Hall Detroit\, MI\nMAR 08 Thunderbird Music Hall & Café Pittsburgh\, PA\nMAR 10 Paradise Rock Club Boston\, MA\nMAR 11 9:30 Club Washington\, DC\nMAR 13 Irving Plaza New York\, NY\nMAR 14 Town Ballroom Buffalo\, NY\nMAR 17 Forest City London Music Hall of Fame London\, ON\nMAR 18 The Bronson Ottawa\, ON\nMAR 19 Grizzly Fuzz Québec\, QC\nMAR 20 Le Studio TD Montreal\, QC\n\n\n\nSocial Share\n				Share on Add Us (Opens in new window)\n				Add Us\n			\n				Share on Instagram (Opens in new window)\n				Instagram\n			\n				Share on X (Opens in new window)\n				X\n			\n				Share on Bluesky (Opens in new window)\n				Bluesky\n			\n				Share on Facebook (Opens in new window)\n				Facebook\n			More\n				Print (Opens in new window)\n				Print\n			\n				Share on Reddit (Opens in new window)\n				Reddit\n			\n				Email a link to a friend (Opens in new window)\n				Email\n			\n				Share on Pinterest (Opens in new window)\n				Pinterest\n			\n				Share on Tumblr (Opens in new window)\n				Tumblr\n			\n				Share on Threads (Opens in new window)\n				Threads\n			\n				Share on WhatsApp (Opens in new window)\n				WhatsApp\n			\n				Share on LinkedIn (Opens in new window)\n				LinkedIn\n			\n				Share on Mastodon (Opens in new window)\n				Mastodon\n			\n				Share on Telegram (Opens in new window)\n				Telegram\n			\n				Share on Nextdoor (Opens in new window)\n				Nextdoor\n			Like this:Like Loading...
URL:https://wheartm.com/event/mpls-lights-at-amsterdam-bar-march-4-2026/
LOCATION:Amsterdam Bar & Hall\, 6th & Wabasha\, St Paul\, MN\, 55102\, United States
CATEGORIES:Minneapolis
ATTACH;FMTTYPE=image/jpeg:https://wheartm.com/wp-content/uploads/2026/02/LIGHTS-Come-Get-Your-Girl-Tour-2026-w-Softcult.jpg
END:VEVENT
END:VCALENDAR