BEGIN:VCALENDAR
VERSION:2.0
PRODID:-//W♥M - ECPv6.15.17.1//NONSGML v1.0//EN
CALSCALE:GREGORIAN
METHOD:PUBLISH
X-ORIGINAL-URL:https://wheartm.com
X-WR-CALDESC:Events for W♥M
REFRESH-INTERVAL;VALUE=DURATION:PT1H
X-Robots-Tag:noindex
X-PUBLISHED-TTL:PT1H
BEGIN:VTIMEZONE
TZID:America/Chicago
BEGIN:DAYLIGHT
TZOFFSETFROM:-0600
TZOFFSETTO:-0500
TZNAME:CDT
DTSTART:20250309T080000
END:DAYLIGHT
BEGIN:STANDARD
TZOFFSETFROM:-0500
TZOFFSETTO:-0600
TZNAME:CST
DTSTART:20251102T070000
END:STANDARD
BEGIN:DAYLIGHT
TZOFFSETFROM:-0600
TZOFFSETTO:-0500
TZNAME:CDT
DTSTART:20260308T080000
END:DAYLIGHT
BEGIN:STANDARD
TZOFFSETFROM:-0500
TZOFFSETTO:-0600
TZNAME:CST
DTSTART:20261101T070000
END:STANDARD
BEGIN:DAYLIGHT
TZOFFSETFROM:-0600
TZOFFSETTO:-0500
TZNAME:CDT
DTSTART:20270314T080000
END:DAYLIGHT
BEGIN:STANDARD
TZOFFSETFROM:-0500
TZOFFSETTO:-0600
TZNAME:CST
DTSTART:20271107T070000
END:STANDARD
END:VTIMEZONE
BEGIN:VEVENT
DTSTART;TZID=America/Chicago:20260305T000000
DTEND;TZID=America/Chicago:20260305T235959
DTSTAMP:20260422T110355
CREATED:20260131T122439Z
LAST-MODIFIED:20260208T010617Z
UID:44527-1772668800-1772755199@wheartm.com
SUMMARY:Mpls: feeble little horse at 7th St Entry (Mar 5\, 2026)
DESCRIPTION:feeble little horse at 7th St Entry (Mar 5\, 2026)\n\n\nMarch 5\, 2026 Thursday\nfeeble little horse\nwith Hookyat 7th St Entryfirst-avenue.com\n\nPittsburgh’s feeble little horse will be headlining the 7th Street Entry\, in Minneapolis\, on March 5\, 2026. We were supposed to see the band in 2023\, but they cancelled. It’s 2026\, here’s your second chance.\n\n\nPhiladelphia’s Hooky to open.\n\nTour Dates\n\nMar 3\, 2026 The Bishop Bloomington\, IN\nMar 4\, 2026 X-Ray Arcade Milwaukee\, WI\nMar 5\, 2026 7th St Entry Minneapolis\, MN\nMar 7\, 2026 Thalia Hall Free For All Chicago\, IL\nMar 10\, 2026 Small’s Bar Detroit\, MI\nMar 11\, 2026 Ace of Cups Columbus\, OH\nMay 17\, 2026 Kilby Block Party Salt Lake City\, UT\n\n\n\nSocial Share\n				Share on Add Us (Opens in new window)\n				Add Us\n			\n				Share on Instagram (Opens in new window)\n				Instagram\n			\n				Share on X (Opens in new window)\n				X\n			\n				Share on Bluesky (Opens in new window)\n				Bluesky\n			\n				Share on Facebook (Opens in new window)\n				Facebook\n			More\n				Print (Opens in new window)\n				Print\n			\n				Share on Reddit (Opens in new window)\n				Reddit\n			\n				Email a link to a friend (Opens in new window)\n				Email\n			\n				Share on Pinterest (Opens in new window)\n				Pinterest\n			\n				Share on Tumblr (Opens in new window)\n				Tumblr\n			\n				Share on Threads (Opens in new window)\n				Threads\n			\n				Share on WhatsApp (Opens in new window)\n				WhatsApp\n			\n				Share on LinkedIn (Opens in new window)\n				LinkedIn\n			\n				Share on Mastodon (Opens in new window)\n				Mastodon\n			\n				Share on Telegram (Opens in new window)\n				Telegram\n			\n				Share on Nextdoor (Opens in new window)\n				Nextdoor\n			Like this:Like Loading...
URL:https://wheartm.com/event/mpls-feeble-little-horse-at-7th-st-entry-mar-5-2026/
LOCATION:7th Street Entry\, 701 N 1st Ave\, Minneapolis\, MN\, 55403\, United States
CATEGORIES:Minneapolis
ATTACH;FMTTYPE=image/jpeg:https://wheartm.com/wp-content/uploads/2026/01/feeblelittlehorse-030526-1080.jpg
END:VEVENT
BEGIN:VEVENT
DTSTART;TZID=America/Chicago:20260305T000000
DTEND;TZID=America/Chicago:20260305T235959
DTSTAMP:20260422T110355
CREATED:20260131T123044Z
LAST-MODIFIED:20260207T132410Z
UID:44537-1772668800-1772755199@wheartm.com
SUMMARY:Mpls: dodie at First Avenue (Mar 5\, 2026)
DESCRIPTION:dodie at First Avenue (Mar 5\, 2026)\n\n\nMarch 5\, 2026 Thursday\ndodie\nwith Andy Louis\n at First Avenue\nfirst-avenue.com\n\nEnglish singer\, songwriter\, author and YouTuber\, dodie (and sometime as member of Fizz) will be headlining First Avenue on March 5\, 2026.  She’s been top 3 on the UK album charts and have worked with  Tessa Violet\, Julia Nunes\, Lauren Aquilina\, Orla Gartland\, Thomas Sanders\, Ben Folds\, Jacob Collier\, Emma Blackery\, Pomplamoose\, Laufey\, Flashback and Jeff Goldblum.\n\n\nNew York\, by the way of France\, Andy Louis to open.\n \nTour Dates\n\nFeb 20 Nashville\, TN  · Brooklyn Bowl Nashville\nFeb 22 Atlanta\, GA  · Buckhead Theatre\nFeb 23 Silver Spring\, MD  · The Fillmore Silver Spring\nFeb 25 New York\, NY  · Terminal 5\nFeb 27 Philadelphia\, PA  · Theatre of The Living Arts\nMar 1 Boston\, MA  · Citizens House of Blues Boston\nMar 3 Toronto\, Canada  · Danforth Music Hall\nMar 4 Chicago\, IL · The Riviera Theatre\nMar 5 Minneapolis\, MN   · First Avenue\nMar 7 Denver\, CO  · Summit\nMar 10 Los Angeles\, CA  · The Wiltern\nMar 11 Los Angeles\, CA  · The Wiltern\nMar 11 Oakland\, CA · Fox Theater\nMar 13 Portland\, OR  · McMenamins Crystal Ballroom\nMar 15 Seattle\, WA  · The Showbox\n\n\n\nSocial Share\n				Share on Add Us (Opens in new window)\n				Add Us\n			\n				Share on Instagram (Opens in new window)\n				Instagram\n			\n				Share on X (Opens in new window)\n				X\n			\n				Share on Bluesky (Opens in new window)\n				Bluesky\n			\n				Share on Facebook (Opens in new window)\n				Facebook\n			More\n				Print (Opens in new window)\n				Print\n			\n				Share on Reddit (Opens in new window)\n				Reddit\n			\n				Email a link to a friend (Opens in new window)\n				Email\n			\n				Share on Pinterest (Opens in new window)\n				Pinterest\n			\n				Share on Tumblr (Opens in new window)\n				Tumblr\n			\n				Share on Threads (Opens in new window)\n				Threads\n			\n				Share on WhatsApp (Opens in new window)\n				WhatsApp\n			\n				Share on LinkedIn (Opens in new window)\n				LinkedIn\n			\n				Share on Mastodon (Opens in new window)\n				Mastodon\n			\n				Share on Telegram (Opens in new window)\n				Telegram\n			\n				Share on Nextdoor (Opens in new window)\n				Nextdoor\n			Like this:Like Loading...
URL:https://wheartm.com/event/mpls-dodie-at-first-avenue-mar-5-2026/
LOCATION:First Avenue\, 701 N 1st Ave\, Minneapolis\, MN\, 55403\, United States
CATEGORIES:Minneapolis
ATTACH;FMTTYPE=image/jpeg:https://wheartm.com/wp-content/uploads/2026/01/dodie-030526-1080v1.jpg
END:VEVENT
END:VCALENDAR