BEGIN:VCALENDAR
VERSION:2.0
PRODID:-//W♥M - ECPv6.15.17.1//NONSGML v1.0//EN
CALSCALE:GREGORIAN
METHOD:PUBLISH
X-ORIGINAL-URL:https://wheartm.com
X-WR-CALDESC:Events for W♥M
REFRESH-INTERVAL;VALUE=DURATION:PT1H
X-Robots-Tag:noindex
X-PUBLISHED-TTL:PT1H
BEGIN:VTIMEZONE
TZID:America/Chicago
BEGIN:DAYLIGHT
TZOFFSETFROM:-0600
TZOFFSETTO:-0500
TZNAME:CDT
DTSTART:20250309T080000
END:DAYLIGHT
BEGIN:STANDARD
TZOFFSETFROM:-0500
TZOFFSETTO:-0600
TZNAME:CST
DTSTART:20251102T070000
END:STANDARD
BEGIN:DAYLIGHT
TZOFFSETFROM:-0600
TZOFFSETTO:-0500
TZNAME:CDT
DTSTART:20260308T080000
END:DAYLIGHT
BEGIN:STANDARD
TZOFFSETFROM:-0500
TZOFFSETTO:-0600
TZNAME:CST
DTSTART:20261101T070000
END:STANDARD
BEGIN:DAYLIGHT
TZOFFSETFROM:-0600
TZOFFSETTO:-0500
TZNAME:CDT
DTSTART:20270314T080000
END:DAYLIGHT
BEGIN:STANDARD
TZOFFSETFROM:-0500
TZOFFSETTO:-0600
TZNAME:CST
DTSTART:20271107T070000
END:STANDARD
END:VTIMEZONE
BEGIN:VEVENT
DTSTART;TZID=America/Chicago:20260312T000000
DTEND;TZID=America/Chicago:20260313T235959
DTSTAMP:20260424T065555
CREATED:20260131T120045Z
LAST-MODIFIED:20260306T071624Z
UID:44468-1773273600-1773446399@wheartm.com
SUMMARY:Mpls: Jesse Welles at First Avenue (Mar 12-13\, 2026)
DESCRIPTION:Jesse Welles at First Avenue (Mar 12-13\, 2026)\n\n\nMarch 12\, 2026 Thursday\nMarch 13\, 2026 Friday\nJesse Welles\nwith S.G. Goodmanat First Avenuefirst-avenue.com\n\nThe current face of protest singer is undoubtedly Jesse Welles. The prolific songwriter has been cranking out all sorts of songs to address the current climate.  And he’s good! One listen to his Anti-ICE song\, “Join ICE”\, and you can hear the cleverness and commentary on their brutality.\n\n\nNo surprise\, but his entire tour is sold out. Welles is headlining First Avenue\, in Minneapolis\, on March 12 and March 13.\n\n\n          S.G. Goodman       \n\n\nS.G. Goodman to open.  We saw Goodman in Oct 2021 and said\, “Turnout for the show was pretty terrific for a Friday\, with S.G. Goodman taking the stage around 8:30pm. This was her first time here\, and although she only played seven or eight songs\, mostly from her debut album Old Time Feeling\, she filled out the time nicely as she tends to ramble between songs. We learn that she’s “legally obligated” to say her name seven times\, as her manager thinks it’s good for name recognition. And as promised\, she would continue to say her name throughout the show\, including during the band introduction: Nick Harley on bass\, Matt Rowan on guitars\, and Stephen Montgomery on drums.”\n\nTour Dates:\n\nFeb 23\, 2026                     Bijou Theatre                    Knoxville\, TN  \nFeb 24\, 2026                     Ryman Auditorium      Nashville\, TN     \nFeb 25\, 2026                     The Eastern                        Atlanta\, GA     \nFeb 27\, 2026                     The Orange Peel             Asheville\, NC   \nFeb 28\, 2026                     The Fillmore Charlotte               Charlotte\, NC     \nMar 1\, 2026                        9:30 Club                             Washington\, D.C.  \nMar 2\, 2026                        9:30 Club                             Washington\, D.C.    \nMar 4\, 2026                        The Fillmore Philadelphia       Philadelphia\, PA \nMar 6\, 2026                        Citizens House of Blues Boston          Boston\, MA \nMar 7\, 2026                        The Capitol Theatre    Port Chester\, NY  \nMar 8\, 2026                        Massey Hall                       Toronto\, ON\nMar 10\, 2026                     The Majestic Theatre Detroit\, MI       \nMar 11\, 2026                     The Sylvee                           Madison\, WI   \nMar 12\, 2026                     First Avenue                       Minneapolis\, MN  \nMar 13\, 2026                     First Avenue                       Minneapolis\, MN    \nMar 17\, 2026                     Treefort Music Hall      Boise\, ID    \nMar 19\, 2026                     Commodore Ballroom               Vancouver\, BC  \nMar 20\, 2026                     McMenamins Crystal Ballroom           Portland\, OR\nMar 21\, 2026                     The UC Theatre               Berkeley\, CA     \nMar 22\, 2026                     The Observatory North Park         San Diego\, CA  \nMar 24\, 2026                     The Van Buren                 Phoenix\, AZ  \nMar 26\, 2026                     Stubb’s Waller Creek Amphitheater                 Austin\, TX  \nMar 27\, 2026                     Longhorn Ballroom     Dallas\, TX  \nMar 28\, 2026                     Ozark Music Hall           Fayetteville\, AR \nApr 19\, 2026                      High Water Festival     North Charleston\, SC\n\n\n\nSocial Share\n				Share on Add Us (Opens in new window)\n				Add Us\n			\n				Share on Instagram (Opens in new window)\n				Instagram\n			\n				Share on X (Opens in new window)\n				X\n			\n				Share on Bluesky (Opens in new window)\n				Bluesky\n			\n				Share on Facebook (Opens in new window)\n				Facebook\n			More\n				Print (Opens in new window)\n				Print\n			\n				Share on Reddit (Opens in new window)\n				Reddit\n			\n				Email a link to a friend (Opens in new window)\n				Email\n			\n				Share on Pinterest (Opens in new window)\n				Pinterest\n			\n				Share on Tumblr (Opens in new window)\n				Tumblr\n			\n				Share on Threads (Opens in new window)\n				Threads\n			\n				Share on WhatsApp (Opens in new window)\n				WhatsApp\n			\n				Share on LinkedIn (Opens in new window)\n				LinkedIn\n			\n				Share on Mastodon (Opens in new window)\n				Mastodon\n			\n				Share on Telegram (Opens in new window)\n				Telegram\n			\n				Share on Nextdoor (Opens in new window)\n				Nextdoor\n			Like this:Like Loading...
URL:https://wheartm.com/event/mpls-jesse-welles-at-first-avenue-mar-12-13-2026/
LOCATION:First Avenue\, 701 N 1st Ave\, Minneapolis\, MN\, 55403\, United States
CATEGORIES:Minneapolis
ATTACH;FMTTYPE=image/jpeg:https://wheartm.com/wp-content/uploads/2026/01/JesseWelles-Mar2026-1080v1.jpg
END:VEVENT
BEGIN:VEVENT
DTSTART;TZID=America/Chicago:20260313T000000
DTEND;TZID=America/Chicago:20260313T235959
DTSTAMP:20260424T065555
CREATED:20260131T120226Z
LAST-MODIFIED:20260131T120226Z
UID:44475-1773360000-1773446399@wheartm.com
SUMMARY:Mpls: Nep at 7th St Entry (Mar 13\, 2026)
DESCRIPTION:Friday\nMar\n13\n2026\n7th St Entry\nNep\nFlorida Girl Goes To…\nwith June Henry\nDoors Open\n6:30PM\nShow Starts\n7:30PM\nAges\nAll Ages \nThe ticket limit is strict. Any attempt to exceed the posted ticket limit per customer or household\, or to game the system in any way\, will result in cancellation of orders without notice. There is a transfer delay for all tickets prior to the show. \nNep 3/13/26 \n \nSocial Share\n				Share on Add Us (Opens in new window)\n				Add Us\n			\n				Share on Instagram (Opens in new window)\n				Instagram\n			\n				Share on X (Opens in new window)\n				X\n			\n				Share on Bluesky (Opens in new window)\n				Bluesky\n			\n				Share on Facebook (Opens in new window)\n				Facebook\n			More\n				Print (Opens in new window)\n				Print\n			\n				Share on Reddit (Opens in new window)\n				Reddit\n			\n				Email a link to a friend (Opens in new window)\n				Email\n			\n				Share on Pinterest (Opens in new window)\n				Pinterest\n			\n				Share on Tumblr (Opens in new window)\n				Tumblr\n			\n				Share on Threads (Opens in new window)\n				Threads\n			\n				Share on WhatsApp (Opens in new window)\n				WhatsApp\n			\n				Share on LinkedIn (Opens in new window)\n				LinkedIn\n			\n				Share on Mastodon (Opens in new window)\n				Mastodon\n			\n				Share on Telegram (Opens in new window)\n				Telegram\n			\n				Share on Nextdoor (Opens in new window)\n				Nextdoor\n			Like this:Like Loading...
URL:https://wheartm.com/event/mpls-nep-at-7th-st-entry-mar-13-2026/
LOCATION:7th Street Entry\, 701 N 1st Ave\, Minneapolis\, MN\, 55403\, United States
CATEGORIES:Minneapolis
ATTACH;FMTTYPE=image/jpeg:https://wheartm.com/wp-content/uploads/2026/01/Nep-031326-1080v1.jpg
END:VEVENT
BEGIN:VEVENT
DTSTART;TZID=America/Chicago:20260313T000000
DTEND;TZID=America/Chicago:20260313T235959
DTSTAMP:20260424T065556
CREATED:20260211T222946Z
LAST-MODIFIED:20260211T222946Z
UID:46562-1773360000-1773446399@wheartm.com
SUMMARY:Mpls: Zara Larsson at The Fillmore Minneapolis (March 13\, 2026)
DESCRIPTION:GRAMMY® Award-nominated global pop superstar Zara Larsson launches 2026 at full blaze as her highly anticipated Midnight Sun Tour officially sells out ahead of its February 28 kickoff in Portland\, OR. The sold-out run arrives amid a landmark chart moment for Zara\, who continues to hold three simultaneous entries on the Billboard Hot 100\, underscoring her growing dominance on the global stage. \nThis week\, Larsson maintains her chart dominance as she ranks #31 in the world on Spotify’s artist chart with over 61 million monthly listeners. She continues to hold three concurrent songs on Billboard’s Hot 100 with her GRAMMY®-nominated single\, “Midnight Sun\,” her PinkPantheress collaboration\, “Stateside\,” and her global smash “Lush Life” —nearly a decade after its original release. The song’s cultural resurgence shows no signs of slowing\, also recently hitting a new peak at #8 on the Billboard Global chart. \nOn February 28\, Zara will bring Midnight Sun to the stage as her sold-out North American tour kicks off at Portland’s Crystal Ballroom. Due to overwhelming demand\, second nights were added in Los Angeles (The Wiltern\, March 4 & 5) and New York (Brooklyn Paramount\, March 26 & 27)\, alongside multiple venue upgrades across the tour. And later this year\, Larsson will bring the Midnight Sun tour to Australia in October\, which she just announced this week and the pre-sale sold out in less than 2 hours. The Hollywood Reporter has already named the run one of the most anticipated tours of 2026. Zara Larsson’s never-ending Midnight Sun is\, at last\, here — and here to stay. \nListen to Midnight Sun HERE via Sommer House/Epic Records. \nZara Larsson Live Dates 2026:\nFebruary 28\, 2026 – Portland\, OR – Crystal Ballroom +\nMarch 1\, 2026 – Seattle\, WA – Showbox SoDo +\nMarch 3\, 2026 – Oakland\, CA – Fox Theater +\nMarch 4\, 2026 – Los Angeles\, CA – The Wiltern +\nMarch 5\, 2026 – Los Angeles\, CA – The Wiltern +\nMarch 7\, 2026 – Anaheim\, CA – HOB Anaheim +\nMarch 8\, 2026 – Phoenix\, AZ – The Van Buren +\nMarch 10\, 2026 – Salt Lake City\, UT – The Union +\nMarch 11\, 2026 – Denver\, CO – Summit Music Hall +\nMarch 13\, 2026 – Minneapolis\, MN – The Fillmore Minneapolis +\nMarch 14\, 2026 – Milwaukee\, WI – The Rave/Eagles Club +\nMarch 15\, 2026 – Chicago\, IL – Riviera Theatre +\nMarch 17\, 2026 – Detroit\, MI – Royal Oak Music Theatre +\nMarch 18\, 2026 – Indianapolis\, IN – Egyptian Room at Old National Centre +\nMarch 20\, 2026 – Cleveland\, OH – Agora Theatre and Ballroom +\nMarch 21\, 2026 – Columbus\, OH – KEMBA Live! +\nMarch 22\, 2026 – Pittsburgh\, PA – Stage AE +\nMarch 24\, 2026 – Toronto\, ON – History +\nMarch 26\, 2026 – Brooklyn\, NY – Brooklyn Paramount +\nMarch 27\, 2026 – Brooklyn\, NY – Brooklyn Paramount +\nMarch 28\, 2026 – Boston\, MA – HOB Boston – Music Hall +\nMarch 30\, 2026 – Philadelphia\, PA – The Fillmore Philadelphia +\nMarch 31\, 2026 – Washington\, DC – The Anthem +\nApril 1\, 2026 – Charlotte\, NC – The Fillmore Charlotte +\nApril 3\, 2026 – Raleigh\, NC – The Ritz +\nApril 4\, 2026 – Nashville\, TN – Marathon Music Works +\nApril 5\, 2026 – Atlanta\, GA – Tabernacle +\nApril 7\, 2026 – Miami\, FL – The Fillmore Miami Beach+\nApril 8\, 2026 – Lake Buena Vista\, FL – HOB Lake Buena Vista +\nApril 10\, 2026 – Austin\, TX – Stubb’s Waller Creek Amphitheater +\nApril 11\, 2026 – Dallas\, TX – The Bomb Factory +\nApril 12\, 2026 – Houston\, TX – HOB Houston +\n+ Support from Amelia Moore \nOctober 14\, 2026 – Brisbane\, Australia – Riverstage\nOctober 15\, 2026 – Moore Park\, Australia – Hordern Pavilion\nOctober 17\, 2026 – Melbourne\, Australia – Margaret Court Arena\nOctober 18\, 2026 – Hindmarsh\, Australia – Adelaide Entertainment Centre\nOctober 20\, 2026 – Mt Claremont\, Australia – Perth HPC \nSocial Share\n				Share on Add Us (Opens in new window)\n				Add Us\n			\n				Share on Instagram (Opens in new window)\n				Instagram\n			\n				Share on X (Opens in new window)\n				X\n			\n				Share on Bluesky (Opens in new window)\n				Bluesky\n			\n				Share on Facebook (Opens in new window)\n				Facebook\n			More\n				Print (Opens in new window)\n				Print\n			\n				Share on Reddit (Opens in new window)\n				Reddit\n			\n				Email a link to a friend (Opens in new window)\n				Email\n			\n				Share on Pinterest (Opens in new window)\n				Pinterest\n			\n				Share on Tumblr (Opens in new window)\n				Tumblr\n			\n				Share on Threads (Opens in new window)\n				Threads\n			\n				Share on WhatsApp (Opens in new window)\n				WhatsApp\n			\n				Share on LinkedIn (Opens in new window)\n				LinkedIn\n			\n				Share on Mastodon (Opens in new window)\n				Mastodon\n			\n				Share on Telegram (Opens in new window)\n				Telegram\n			\n				Share on Nextdoor (Opens in new window)\n				Nextdoor\n			Like this:Like Loading...
URL:https://wheartm.com/event/mpls-zara-larsson-at-the-fillmore-minneapolis-march-13-2026/
LOCATION:Fillmore Minneapolis\, 525 5th Street North\, Minneapolis\, MN\, 55401\, United States
CATEGORIES:Minneapolis
ATTACH;FMTTYPE=image/jpeg:https://wheartm.com/wp-content/uploads/2026/02/Zara-Larsson-at-The-Fillmore-Minneapolis-March-13-2026.jpeg
END:VEVENT
END:VCALENDAR