BEGIN:VCALENDAR
VERSION:2.0
PRODID:-//W♥M - ECPv6.15.17.1//NONSGML v1.0//EN
CALSCALE:GREGORIAN
METHOD:PUBLISH
X-WR-CALNAME:W♥M
X-ORIGINAL-URL:https://wheartm.com
X-WR-CALDESC:Events for W♥M
REFRESH-INTERVAL;VALUE=DURATION:PT1H
X-Robots-Tag:noindex
X-PUBLISHED-TTL:PT1H
BEGIN:VTIMEZONE
TZID:America/Chicago
BEGIN:DAYLIGHT
TZOFFSETFROM:-0600
TZOFFSETTO:-0500
TZNAME:CDT
DTSTART:20250309T080000
END:DAYLIGHT
BEGIN:STANDARD
TZOFFSETFROM:-0500
TZOFFSETTO:-0600
TZNAME:CST
DTSTART:20251102T070000
END:STANDARD
BEGIN:DAYLIGHT
TZOFFSETFROM:-0600
TZOFFSETTO:-0500
TZNAME:CDT
DTSTART:20260308T080000
END:DAYLIGHT
BEGIN:STANDARD
TZOFFSETFROM:-0500
TZOFFSETTO:-0600
TZNAME:CST
DTSTART:20261101T070000
END:STANDARD
BEGIN:DAYLIGHT
TZOFFSETFROM:-0600
TZOFFSETTO:-0500
TZNAME:CDT
DTSTART:20270314T080000
END:DAYLIGHT
BEGIN:STANDARD
TZOFFSETFROM:-0500
TZOFFSETTO:-0600
TZNAME:CST
DTSTART:20271107T070000
END:STANDARD
END:VTIMEZONE
BEGIN:VEVENT
DTSTART;TZID=America/Chicago:20260317T183000
DTEND;TZID=America/Chicago:20260317T235900
DTSTAMP:20260422T104005
CREATED:20260109T113021Z
LAST-MODIFIED:20260314T014558Z
UID:41402-1773772200-1773791940@wheartm.com
SUMMARY:Mpls: Clover County at Turf Club (Mar 17\, 2026)
DESCRIPTION:This show was originally scheduled for March 15\, 2026. It has been rescheduled and will now take place on March 17\, 2026. All tickets purchased for the March 15\, 2026 performance will remain valid for the new date\, so please hang on to your original ticket for entrance. \nClover County at the Turf Club on March 15\, 2026 has been rescheduled and will now take place on March 17\, 2026. All tickets purchased for original show will be honored. \nThe ticket limit is strict. Any attempt to exceed the posted ticket limit per customer or household\, or to game the system in any way\, will result in cancellation of orders without notice. There is a transfer delay for all tickets prior to the show. \n\n \nClover County at Turf Club (Mar 17\, 2026)\n\nMarch 17\, 2026 Tuesday\nClover County\nat Turf Club\nfirst-avenue.com\nEmerging Georgia singer/songwriter Clover County is touring in support of Finer Things (Deluxe)\, the deluxe edition of her debut album that came out last year via Undercover Lover Records / Thirty Tigers. The tour will stop by the Turf Club\, in St Paul\, on March 15\, 2026.\n\n          Clover County       \n\nWe saw Clover County in Oct 2025 and said\, “Clover County\, the Georgia-born opener\, stepped into that space with only a guitar and a tender voice\, wise beyond her (24) years. There’s twang in her melodies\, but a wink\, too — the knowing nod of someone who knows the score. Between songs\, she spun the kind of stories that made me wish the set were twice as long: her Italian dad’s enormous “mafia” Cadillac\, a missed connection with a smoldering Minnesotan\, the logistical challenge of having a bone missing from her pinky\, the borrowed boots that started it all. The crowd adored her. Her sweetest love songs\, she said\, were “fiction\,” though her frustrations and hopes were no doubt shared throughout the crowd.”\n2026 Tour Dates\n\nFebruary 19 – Denver\, CO – Globe Hall\nFebruary 21 – Salt Lake City\, UT – Kilby Court\nFebruary 22 – Boise\, ID – Shrine Social Club Basement\nFebruary 24 – Seattle\, WA – Barboza\nFebruary 26 – Portland\, OR – The Showdown\nFebruary 28 – San Francisco\, CA – Brick & Mortar Music Hall\nMarch 2 – Los Angeles\, CA – The Echo\nMarch 3 – San Diego\, CA – Voodoo Room at House of Blues San Diego\nMarch 4 – Phoenix\, AZ – Valley Bar\nMarch 6 – Austin\, TX – Mohawk\nMarch 7 – Dallas\, TX – Ferris Wheelers Backyard\nMarch 8 – Oklahoma City\, OK – Resonant Head\nMarch 10 – Columbia\, MO – Rose Music Hall\nMarch 12 – Madison\, WI – The Sylvee *\nMarch 13 – Madison\, WI – The Sylvee *\nMarch 14 – Waukee\, IN – Vibrant Music Hall *\nMarch 15 – Minneapolis\, MN – Turf Club\nMarch 16 – Evanston\, IL – SPACE\nMarch 17 – Minneapolis\, MN – Turf Club\nMarch 19 – Fort Wayne\, IN – Clyde Theatre *\nMarch 20 – Grand Rapids\, MI – GLC Live at 20 Monroe *\nMarch 23 – Brooklyn\, NY – Baby’s All Right\nMarch 24 – Washington\, DC – DC9 Nightclub\nMarch 26 – Carrboro\, NC – Cat’s Cradle – Back Room\nMarch 27 – Asheville\, NC – Asheville Music Hall\nMarch 28 – Atlanta\, GA – Vinyl at Center Stage\nMarch 31 – Nashville\, TN – The End\nApril 4 – Toronto\, ON – The Drake\nMay 16 – London\, UK – Highways Festival\n* – supporting Sam Barber\n\n\nSocial Share\n				Share on Add Us (Opens in new window)\n				Add Us\n			\n				Share on Instagram (Opens in new window)\n				Instagram\n			\n				Share on X (Opens in new window)\n				X\n			\n				Share on Bluesky (Opens in new window)\n				Bluesky\n			\n				Share on Facebook (Opens in new window)\n				Facebook\n			More\n				Print (Opens in new window)\n				Print\n			\n				Share on Reddit (Opens in new window)\n				Reddit\n			\n				Email a link to a friend (Opens in new window)\n				Email\n			\n				Share on Pinterest (Opens in new window)\n				Pinterest\n			\n				Share on Tumblr (Opens in new window)\n				Tumblr\n			\n				Share on Threads (Opens in new window)\n				Threads\n			\n				Share on WhatsApp (Opens in new window)\n				WhatsApp\n			\n				Share on LinkedIn (Opens in new window)\n				LinkedIn\n			\n				Share on Mastodon (Opens in new window)\n				Mastodon\n			\n				Share on Telegram (Opens in new window)\n				Telegram\n			\n				Share on Nextdoor (Opens in new window)\n				Nextdoor\n			Like this:Like Loading...
URL:https://wheartm.com/event/mpls-clover-county-at-turf-club-mar-15-2026/
LOCATION:Turf Club\, 1601 University Ave\, St Paul\, 55104\, United States
CATEGORIES:Minneapolis
ATTACH;FMTTYPE=image/jpeg:https://wheartm.com/wp-content/uploads/2026/01/CloverCounty-031726-1080.jpg
END:VEVENT
BEGIN:VEVENT
DTSTART;TZID=America/Chicago:20260317T183000
DTEND;TZID=America/Chicago:20260317T235900
DTSTAMP:20260422T104005
CREATED:20260131T115500Z
LAST-MODIFIED:20260314T003922Z
UID:44456-1773772200-1773791940@wheartm.com
SUMMARY:Mpls: Dream\, Ivory at 7th St Entry (Mar 17\, 2026)
DESCRIPTION:Dream\, Ivory at 7th St Entry (Mar 17\, 2026)\n\n\nMarch 17\, 2026 Tuesday \nDream\, Ivory\nwith Rewat 7th St Entryfirst-avenue.com\n\nLos Angeles duo Dream\, Ivory will be headlining 7th St Entry\, in Minneapolis\, on March 17\, 2026\, in support of their new album When You Come Back I Have So Much To Tell You.\n\n\n          Daniel (Dream\, Ivory)       \n\n\nWe saw Dream\, Ivory in May 2025 and said\, “Dream\, Ivory got the show started with “Bullet Train”\, a single from their upcoming album. I was amazed to learn after the set that playing guitar and bass live is relatively new to the brothers (Christian and Louie Baello) who prefer to experiment on synthesizers and computers. The sense Christian conveyed\, is that creating music and playing music are distinct for them. On the advice of their manager\, they added a drummer (Daniel Vanchieri) for their live performances\, which is part of the “leveling up” process that the brothers are aspiring for. Based on this show\, it’s paying off; Daniel’s addition lends a fullness to the band’s live sound. The band played to a large and appreciative audience with many singing along. Even with slower songs like “Wedding Crasher”\, “I’m So Emo” and “Scorpion” the crowd was very engaged. “Would It Kill You At All” brought the tempo up a smidge and “Welcome and Goodbye”\, their biggest hit to-date was played with particular intensity and met with joy from the audience. The set ended with “Solar Eclipse”. It was fun to watch the fans interacting with Christian after the show. I heard more than one express words to the effect of “your music changed my life”. The whole experience has me rooting for them to make it big.”\n\n\nRew to open.\n\nTour Dates:\n\nFeb 23rd – Santa Ana\, CA @ Constellation Room\nFeb 24th – Phoenix\, AZ @ Valley Bar\nFeb 25th – Albuquerque\, NM @ Launchpad\nFeb 27th – Austin\, TX @ 29th Street Ballroom\nFeb 28th – San Antonio\, TX @ Paper Tiger\nMar 3rd – Houston\, TX @ Bronze Peacock @ HOB\nMar 4th – Dallas\, TX @ Ruins\nMar 6th – Atlanta\, GA @ Masquerade – Purgatory\nMar 7th – Chapel Hill\, NC @ Local 506\nMar 8th – Washington\, DC @ DC9\nMar 9th – Philadelphia\, PA @ Warehouse on Watts\nMar 11th – Brooklyn\, NY @ Baby’s All Right\nMar 12th – New York\, NY @ Nightclub 101\nMar 13th – Montreal\, QC @ Bar Le Ritz\nMar 14th – Toronto\, ON @ Sound Garage\nMar 16th – Chicago\, IL @ Lincoln Hall\nMar 17th – Minneapolis\, MN @ 7th St Entry\nMar 18th – Kansas City\, MO @ recordBar\nMar 20th – Denver\, CO @ Marquis \nMar 21st – Salt Lake City\, UT @ Kilby Court\nMar 23rd – Seattle\, WA @ Madame Lou’s\nMar 24th – Vancouver\, BC @ Wise Hall\nMar 25th – Portland\, OR @ Holocene\nMar 27th – San Francisco\, CA @ Rickshaw Stop\nMar 28th – Los Angeles\, CA @ Roxy\n\n\n\nSocial Share\n				Share on Add Us (Opens in new window)\n				Add Us\n			\n				Share on Instagram (Opens in new window)\n				Instagram\n			\n				Share on X (Opens in new window)\n				X\n			\n				Share on Bluesky (Opens in new window)\n				Bluesky\n			\n				Share on Facebook (Opens in new window)\n				Facebook\n			More\n				Print (Opens in new window)\n				Print\n			\n				Share on Reddit (Opens in new window)\n				Reddit\n			\n				Email a link to a friend (Opens in new window)\n				Email\n			\n				Share on Pinterest (Opens in new window)\n				Pinterest\n			\n				Share on Tumblr (Opens in new window)\n				Tumblr\n			\n				Share on Threads (Opens in new window)\n				Threads\n			\n				Share on WhatsApp (Opens in new window)\n				WhatsApp\n			\n				Share on LinkedIn (Opens in new window)\n				LinkedIn\n			\n				Share on Mastodon (Opens in new window)\n				Mastodon\n			\n				Share on Telegram (Opens in new window)\n				Telegram\n			\n				Share on Nextdoor (Opens in new window)\n				Nextdoor\n			Like this:Like Loading...
URL:https://wheartm.com/event/mpls-dream-ivory-at-7th-st-entry-mar-17-2026/
LOCATION:7th Street Entry\, 701 N 1st Ave\, Minneapolis\, MN\, 55403\, United States
CATEGORIES:Minneapolis
ATTACH;FMTTYPE=image/jpeg:https://wheartm.com/wp-content/uploads/2026/01/DreamIvory-031726-1080v1.jpg
END:VEVENT
END:VCALENDAR