BEGIN:VCALENDAR
VERSION:2.0
PRODID:-//W♥M - ECPv6.15.17.1//NONSGML v1.0//EN
CALSCALE:GREGORIAN
METHOD:PUBLISH
X-ORIGINAL-URL:https://wheartm.com
X-WR-CALDESC:Events for W♥M
REFRESH-INTERVAL;VALUE=DURATION:PT1H
X-Robots-Tag:noindex
X-PUBLISHED-TTL:PT1H
BEGIN:VTIMEZONE
TZID:America/Chicago
BEGIN:DAYLIGHT
TZOFFSETFROM:-0600
TZOFFSETTO:-0500
TZNAME:CDT
DTSTART:20250309T080000
END:DAYLIGHT
BEGIN:STANDARD
TZOFFSETFROM:-0500
TZOFFSETTO:-0600
TZNAME:CST
DTSTART:20251102T070000
END:STANDARD
BEGIN:DAYLIGHT
TZOFFSETFROM:-0600
TZOFFSETTO:-0500
TZNAME:CDT
DTSTART:20260308T080000
END:DAYLIGHT
BEGIN:STANDARD
TZOFFSETFROM:-0500
TZOFFSETTO:-0600
TZNAME:CST
DTSTART:20261101T070000
END:STANDARD
BEGIN:DAYLIGHT
TZOFFSETFROM:-0600
TZOFFSETTO:-0500
TZNAME:CDT
DTSTART:20270314T080000
END:DAYLIGHT
BEGIN:STANDARD
TZOFFSETFROM:-0500
TZOFFSETTO:-0600
TZNAME:CST
DTSTART:20271107T070000
END:STANDARD
END:VTIMEZONE
BEGIN:VEVENT
DTSTART;TZID=America/Chicago:20260318T000000
DTEND;TZID=America/Chicago:20260318T235959
DTSTAMP:20260424T052738
CREATED:20260109T112322Z
LAST-MODIFIED:20260213T135254Z
UID:41403-1773792000-1773878399@wheartm.com
SUMMARY:Mpls: Last Dinosaurs at Turf Club (Mar 18\, 2026)
DESCRIPTION:Last Dinosaurs at Turf Club (Mar 18\, 2026)\n\n\nMarch 18\, 2026 Wednesday\n Last Dinosaurs \nwith elmjack\nat Turf Club\nfirst-avenue.com\n\nAustralia’s indie rock band Last Dinosaurs is back in the USA\, headlining the Turf Club\, in St Paul\, on March 18\, 2026.\n\n\n          Last Dinosaurs       \n\n\nWe saw Last Dinosaur in Oct 2023 and noted\, “Last Dinosaurs had a full hour-long set. They had a lot of songs to play\, and wasted no time in playing each track. According to their banter on stage\, this was their first time in Minneapolis\, or Minnesota\, altogether. Last Dinosaurs seemed fond of the city\, as they love The Mighty Ducks. The reference may have been lost on the very young audience\, but yes\, the Mighty Ducks are from Minneapolis. They dedicated “Put Up With the Weather!” to Minneapolis\, stating “you can relate to this song!” I suppose for outsiders the 40°F is very cold for early October.”\n\nTour Dates \n\nFeb 15 The Starlite RoomEdmonton\, AB\nFeb 16 Melissa’s Missteak  Banff\, AB\, Canada\nFeb 17 commonwealth banquet hall   Calgary\, AB\nFeb 20  Revolution Live  Fort Lauderdale\, FL\nFeb 21  FIVE  Jacksonville\, FL\nFeb 22  Jannus Live  St Petersburg\, FL\nFeb 24 Gasa Gasa  New Orleans\, LA\nFeb 26 Paper Tiger  San Antonio\, TX\nFeb 27 Rubber Gloves Rehearsal Studio Denton\, TX\nFeb 28 Vanguard  Tulsa\, OK\nMar 4 La Rosa  Tucson\, AZ\nMar 5 Observatory  Santa Ana\, CA\nMar 6 Ventura Music Hall  Ventura\, CA\nMar 7  Felton Music Hall  Felton\, CA\nMar 10 Aladdin Theater  Portland\, OR\nMar 11  Knitting Factory  Boise\, ID\nMar 13 Velour Live Music Gallery  Provo\, UT\nMar 14 Fox Theatre  Boulder\, CO\nMar 16 recordBar Kansas City\, MO\nMar 18 Turf Club  St Paul\, MN\nMar 19  High Noon Saloon  Madison\, WI\nMar 20 The Pyramid Scheme  Grand Rapids\, MI\nMar 21 HI-FI  Indianapolis\, IN\nMar 25  Baltimore Soundstage  Baltimore\, MD\nMar 26  The Stone Pony  Asbury Park\, NJ \n\n\n\nSocial Share\n				Share on Add Us (Opens in new window)\n				Add Us\n			\n				Share on Instagram (Opens in new window)\n				Instagram\n			\n				Share on X (Opens in new window)\n				X\n			\n				Share on Bluesky (Opens in new window)\n				Bluesky\n			\n				Share on Facebook (Opens in new window)\n				Facebook\n			More\n				Print (Opens in new window)\n				Print\n			\n				Share on Reddit (Opens in new window)\n				Reddit\n			\n				Email a link to a friend (Opens in new window)\n				Email\n			\n				Share on Pinterest (Opens in new window)\n				Pinterest\n			\n				Share on Tumblr (Opens in new window)\n				Tumblr\n			\n				Share on Threads (Opens in new window)\n				Threads\n			\n				Share on WhatsApp (Opens in new window)\n				WhatsApp\n			\n				Share on LinkedIn (Opens in new window)\n				LinkedIn\n			\n				Share on Mastodon (Opens in new window)\n				Mastodon\n			\n				Share on Telegram (Opens in new window)\n				Telegram\n			\n				Share on Nextdoor (Opens in new window)\n				Nextdoor\n			Like this:Like Loading...
URL:https://wheartm.com/event/mpls-last-dinosaurs-at-turf-club-mar-18-2026/
LOCATION:Turf Club\, 1601 University Ave\, St Paul\, 55104\, United States
CATEGORIES:Minneapolis
ATTACH;FMTTYPE=image/jpeg:https://wheartm.com/wp-content/uploads/2026/01/LastDinosaurs-031826-1080v1.jpg
END:VEVENT
BEGIN:VEVENT
DTSTART;TZID=America/Chicago:20260318T183000
DTEND;TZID=America/Chicago:20260318T235900
DTSTAMP:20260424T052738
CREATED:20260131T114558Z
LAST-MODIFIED:20260317T225248Z
UID:44446-1773858600-1773878340@wheartm.com
SUMMARY:Mpls: The Strumbellas at Fine Line (Mar 18\, 2026)
DESCRIPTION:The Strumbellas at Fine Line (Mar 18\, 2026)\n\n\nMarch 18\, 2026 Wednesday\nThe Strumbellas\nwith Bermuda Search Party\nat Fine Line\nfirst-avenue.com\n\nCanadian alt-rock band The Strumbellas is back on tour\, in support of Burning Bridges Into Dust (out now via Glassnote Records).  The 2026 tour will find its way back to the Fine Line\, in Minneapolis\, on March 18\, 2026.\n\n          The Strumbellas       \n\nWe saw the band 10 years ago\, at the Fine Line\, and wrote\, “Toronto’s The Strumbellas is currently one of the hottest band in America\, thanks to very catchy singles ‘We Don’t Know’ and ‘Spirits’. The turnout to the Strumbellas’ Fine Line Music Café show in Minneapolis was terrific\, and judging from all the dancing in the audience\, they create some of the best folk\, bluegrass\, Americana\, and “popgrass” music you’ve ever heard.  The large band\, featuring songwriter Simon Ward on vocals and guitar\, David Ritter on vocals and keys\, Jon Hembrey on lead guitar\, Isabel Ritchie on violin\, Darryl James on bass guitar\, and Jeremy Drury on drums. Kicking off their set with two terrific story-in-song ‘Wars’\, followed by ‘Young & Wild’\, the band played quite a few from their latest Hope\, which has enjoyed success in the recent charts.”\n \nBermuda Search Party to open.\n\nTour Dates:\n\nMarch 14\, 2026 – Denver\, CO @ Gothic Theater $\nMarch 15\, 2026 – Fort Collins\, CO @ The Aggie Theater $\nMarch 18\, 2026 – Minneapolis\, MN @ Fine Line $\nMarch 19\, 2026 – Madison\, WI @ The Majestic $\nMarch 20\, 2026 – Chicago\, IL @ HOB Chicago $\nMarch 21\, 2026 – Detroit\, MI @ St. Andrews Hall $\n$ = with Bermuda Search Party\n\n\nSocial Share\n				Share on Add Us (Opens in new window)\n				Add Us\n			\n				Share on Instagram (Opens in new window)\n				Instagram\n			\n				Share on X (Opens in new window)\n				X\n			\n				Share on Bluesky (Opens in new window)\n				Bluesky\n			\n				Share on Facebook (Opens in new window)\n				Facebook\n			More\n				Print (Opens in new window)\n				Print\n			\n				Share on Reddit (Opens in new window)\n				Reddit\n			\n				Email a link to a friend (Opens in new window)\n				Email\n			\n				Share on Pinterest (Opens in new window)\n				Pinterest\n			\n				Share on Tumblr (Opens in new window)\n				Tumblr\n			\n				Share on Threads (Opens in new window)\n				Threads\n			\n				Share on WhatsApp (Opens in new window)\n				WhatsApp\n			\n				Share on LinkedIn (Opens in new window)\n				LinkedIn\n			\n				Share on Mastodon (Opens in new window)\n				Mastodon\n			\n				Share on Telegram (Opens in new window)\n				Telegram\n			\n				Share on Nextdoor (Opens in new window)\n				Nextdoor\n			Like this:Like Loading...
URL:https://wheartm.com/event/mpls-the-strumbellas-at-fine-line-mar-18-2026/
LOCATION:Fine Line Music Cafe\, 318 N 1st Ave\, Minneapolis\, MN\, 55401\, United States
CATEGORIES:Minneapolis
ATTACH;FMTTYPE=image/jpeg:https://wheartm.com/wp-content/uploads/2026/01/TheStrumbellas-031826-1080v1.jpg
END:VEVENT
END:VCALENDAR