BEGIN:VCALENDAR
VERSION:2.0
PRODID:-//W♥M - ECPv6.15.17.1//NONSGML v1.0//EN
CALSCALE:GREGORIAN
METHOD:PUBLISH
X-WR-CALNAME:W♥M
X-ORIGINAL-URL:https://wheartm.com
X-WR-CALDESC:Events for W♥M
REFRESH-INTERVAL;VALUE=DURATION:PT1H
X-Robots-Tag:noindex
X-PUBLISHED-TTL:PT1H
BEGIN:VTIMEZONE
TZID:America/Chicago
BEGIN:DAYLIGHT
TZOFFSETFROM:-0600
TZOFFSETTO:-0500
TZNAME:CDT
DTSTART:20250309T080000
END:DAYLIGHT
BEGIN:STANDARD
TZOFFSETFROM:-0500
TZOFFSETTO:-0600
TZNAME:CST
DTSTART:20251102T070000
END:STANDARD
BEGIN:DAYLIGHT
TZOFFSETFROM:-0600
TZOFFSETTO:-0500
TZNAME:CDT
DTSTART:20260308T080000
END:DAYLIGHT
BEGIN:STANDARD
TZOFFSETFROM:-0500
TZOFFSETTO:-0600
TZNAME:CST
DTSTART:20261101T070000
END:STANDARD
BEGIN:DAYLIGHT
TZOFFSETFROM:-0600
TZOFFSETTO:-0500
TZNAME:CDT
DTSTART:20270314T080000
END:DAYLIGHT
BEGIN:STANDARD
TZOFFSETFROM:-0500
TZOFFSETTO:-0600
TZNAME:CST
DTSTART:20271107T070000
END:STANDARD
END:VTIMEZONE
BEGIN:VEVENT
DTSTART;TZID=America/Chicago:20260402T000000
DTEND;TZID=America/Chicago:20260402T235959
DTSTAMP:20260422T054031
CREATED:20260217T215021Z
LAST-MODIFIED:20260302T210251Z
UID:47620-1775088000-1775174399@wheartm.com
SUMMARY:Mpls: Couch Dog at 7th St Entry (Apr 2\, 2026)
DESCRIPTION:Couch Dog at 7th St Entry (Apr 2\, 2026) \n\n\nApril 2\, 2026 Thursday\n Couch Dog \nwith Mystery Meatat 7th St Entry \nfirst-avenue.com\n\nLos Angeles’ Couch Dog is doing a post-SXSW 2026 tour… stopping by the 7th Street Entry\, in Minneapolis on April 2\, 2026.\n\n\nThe band writes: \n\n\n🩵🗣️🐶COUCH DOG IS GOING ON TOUR🚗😛💖- we are very excited to finally be able to share our support acts for this run\, and even more excited to play with such amazing artists in every city yayyyyyyy‼️do you have your tickets yet? if notttt they’re in our bio mwah 😘 so excited to come to these cities this spring!!!  \nTOUR DATES:March 11-18 Austin TX –  SXSW March 28 Denver CO –  the Globe HallApril 2 Minneapolis MN –  7th St Entry April 3 Milwaukee WI –  Cactus Club April 4 Chicago IL – Schubas \nApril 8 Boston MA –  Middle East Upstairs April 9 Philadelphia PA –  Kung Fu Necktie \nApril 10 Washington DC –  DC9\nApril 11 Brooklyn NY –  the Sultan Room \nApril 15 Raleigh NC –  Kings\nApril 17 Atlanta GA –  the EARL\nApril 18 Nashville TN –  the Basement  \nposter by @hello.bluedays \npic by @happymario_\n\n \nSocial Share\n				Share on Add Us (Opens in new window)\n				Add Us\n			\n				Share on Instagram (Opens in new window)\n				Instagram\n			\n				Share on X (Opens in new window)\n				X\n			\n				Share on Bluesky (Opens in new window)\n				Bluesky\n			\n				Share on Facebook (Opens in new window)\n				Facebook\n			More\n				Print (Opens in new window)\n				Print\n			\n				Share on Reddit (Opens in new window)\n				Reddit\n			\n				Email a link to a friend (Opens in new window)\n				Email\n			\n				Share on Pinterest (Opens in new window)\n				Pinterest\n			\n				Share on Tumblr (Opens in new window)\n				Tumblr\n			\n				Share on Threads (Opens in new window)\n				Threads\n			\n				Share on WhatsApp (Opens in new window)\n				WhatsApp\n			\n				Share on LinkedIn (Opens in new window)\n				LinkedIn\n			\n				Share on Mastodon (Opens in new window)\n				Mastodon\n			\n				Share on Telegram (Opens in new window)\n				Telegram\n			\n				Share on Nextdoor (Opens in new window)\n				Nextdoor\n			Like this:Like Loading...
URL:https://wheartm.com/event/mpls-couch-dog-at-7th-st-entry-apr-2-2026/
LOCATION:7th Street Entry\, 701 N 1st Ave\, Minneapolis\, MN\, 55403\, United States
CATEGORIES:Minneapolis
ATTACH;FMTTYPE=image/jpeg:https://wheartm.com/wp-content/uploads/2026/02/CouchDog-040226-1080v1.jpg
END:VEVENT
BEGIN:VEVENT
DTSTART;TZID=America/Chicago:20260402T180000
DTEND;TZID=America/Chicago:20260402T233000
DTSTAMP:20260422T054031
CREATED:20260306T203837Z
LAST-MODIFIED:20260325T193244Z
UID:50247-1775152800-1775172600@wheartm.com
SUMMARY:Mpls: Minnesota Music Archive Launch Party (Apr 2\, 2026)
DESCRIPTION:Minnesota Music Archive Launch Party (Apr 2\, 2026)\n\n\nApril 2\, 2026 Thursday\n Minnesota Music Archive Launch Party\nat The Hennepin\nhennepinarts.org\n\nThe upcoming Minnesota Music Archive Launch Party is this Thursday\, April 2\, 2026.  Details are listed below:\n\n\n\nCelebrate the launch of the Minnesota Music Archive! Join DEMO (Diverse Emerging Music Organization) on April 2 at The Hennepin for the Minnesota Music Archive Launch Party – an evening of live performances\, DJ sets featuring Minnesota Music\, and a short program introducing the Archive. \nThursday\, April 2\, 2026\nThe Hennepin (900 Hennepin Ave\, Minneapolis)\nDoors open at 6 p.m. \nHosted by Terrell X\, the event will feature live performances and sets by DJ Stage One\, Agnes Uncaged\, Dust of Suns Ensemble\, and Mary Lucia. There will also be a program featuring local music personalities Andrea Swensson and Mark Wheat. Attendees will have the opportunity to interact with the archive at workstations throughout the venue. \nThe event is sponsored by Hennepin Arts\, Firehouse Performing Arts Center\, and the Minneapolis Rotary Club.\n \n\n\nSocial Share\n				Share on Add Us (Opens in new window)\n				Add Us\n			\n				Share on Instagram (Opens in new window)\n				Instagram\n			\n				Share on X (Opens in new window)\n				X\n			\n				Share on Bluesky (Opens in new window)\n				Bluesky\n			\n				Share on Facebook (Opens in new window)\n				Facebook\n			More\n				Print (Opens in new window)\n				Print\n			\n				Share on Reddit (Opens in new window)\n				Reddit\n			\n				Email a link to a friend (Opens in new window)\n				Email\n			\n				Share on Pinterest (Opens in new window)\n				Pinterest\n			\n				Share on Tumblr (Opens in new window)\n				Tumblr\n			\n				Share on Threads (Opens in new window)\n				Threads\n			\n				Share on WhatsApp (Opens in new window)\n				WhatsApp\n			\n				Share on LinkedIn (Opens in new window)\n				LinkedIn\n			\n				Share on Mastodon (Opens in new window)\n				Mastodon\n			\n				Share on Telegram (Opens in new window)\n				Telegram\n			\n				Share on Nextdoor (Opens in new window)\n				Nextdoor\n			Like this:Like Loading...
URL:https://wheartm.com/event/mpls-minnesota-music-archive-launch-party-apr-2-2026/
LOCATION:The Hennepin\, 900 Hennepin Ave\, Minneapolis\, MN\, United States
CATEGORIES:Minneapolis
ATTACH;FMTTYPE=image/jpeg:https://wheartm.com/wp-content/uploads/2026/03/demo-launch.jpg
END:VEVENT
END:VCALENDAR