BEGIN:VCALENDAR
VERSION:2.0
PRODID:-//W♥M - ECPv6.15.17.1//NONSGML v1.0//EN
CALSCALE:GREGORIAN
METHOD:PUBLISH
X-ORIGINAL-URL:https://wheartm.com
X-WR-CALDESC:Events for W♥M
REFRESH-INTERVAL;VALUE=DURATION:PT1H
X-Robots-Tag:noindex
X-PUBLISHED-TTL:PT1H
BEGIN:VTIMEZONE
TZID:America/Chicago
BEGIN:DAYLIGHT
TZOFFSETFROM:-0600
TZOFFSETTO:-0500
TZNAME:CDT
DTSTART:20250309T080000
END:DAYLIGHT
BEGIN:STANDARD
TZOFFSETFROM:-0500
TZOFFSETTO:-0600
TZNAME:CST
DTSTART:20251102T070000
END:STANDARD
BEGIN:DAYLIGHT
TZOFFSETFROM:-0600
TZOFFSETTO:-0500
TZNAME:CDT
DTSTART:20260308T080000
END:DAYLIGHT
BEGIN:STANDARD
TZOFFSETFROM:-0500
TZOFFSETTO:-0600
TZNAME:CST
DTSTART:20261101T070000
END:STANDARD
BEGIN:DAYLIGHT
TZOFFSETFROM:-0600
TZOFFSETTO:-0500
TZNAME:CDT
DTSTART:20270314T080000
END:DAYLIGHT
BEGIN:STANDARD
TZOFFSETFROM:-0500
TZOFFSETTO:-0600
TZNAME:CST
DTSTART:20271107T070000
END:STANDARD
END:VTIMEZONE
BEGIN:VEVENT
DTSTART;TZID=America/Chicago:20260408T000000
DTEND;TZID=America/Chicago:20260408T235959
DTSTAMP:20260422T044223
CREATED:20260217T203758Z
LAST-MODIFIED:20260217T203758Z
UID:47451-1775606400-1775692799@wheartm.com
SUMMARY:Mpls: Carly Cosgrove at 7th St Entry (Apr 8\, 2026)
DESCRIPTION:Wednesday\nApr\n8\n2026\n7th St Entry\nCarly Cosgrove\nwith Leisure Hour and Summerbruise \nCarly Cosgrove 4/8/26 \n \nSocial Share\n				Share on Add Us (Opens in new window)\n				Add Us\n			\n				Share on Instagram (Opens in new window)\n				Instagram\n			\n				Share on X (Opens in new window)\n				X\n			\n				Share on Bluesky (Opens in new window)\n				Bluesky\n			\n				Share on Facebook (Opens in new window)\n				Facebook\n			More\n				Print (Opens in new window)\n				Print\n			\n				Share on Reddit (Opens in new window)\n				Reddit\n			\n				Email a link to a friend (Opens in new window)\n				Email\n			\n				Share on Pinterest (Opens in new window)\n				Pinterest\n			\n				Share on Tumblr (Opens in new window)\n				Tumblr\n			\n				Share on Threads (Opens in new window)\n				Threads\n			\n				Share on WhatsApp (Opens in new window)\n				WhatsApp\n			\n				Share on LinkedIn (Opens in new window)\n				LinkedIn\n			\n				Share on Mastodon (Opens in new window)\n				Mastodon\n			\n				Share on Telegram (Opens in new window)\n				Telegram\n			\n				Share on Nextdoor (Opens in new window)\n				Nextdoor\n			Like this:Like Loading...
URL:https://wheartm.com/event/mpls-carly-cosgrove-at-7th-st-entry-apr-8-2026/
LOCATION:7th Street Entry\, 701 N 1st Ave\, Minneapolis\, MN\, 55403\, United States
CATEGORIES:Minneapolis
ATTACH;FMTTYPE=image/jpeg:https://wheartm.com/wp-content/uploads/2026/02/CarlyCosgrove-040826-1080.jpg
END:VEVENT
BEGIN:VEVENT
DTSTART;TZID=America/Chicago:20260408T000000
DTEND;TZID=America/Chicago:20260408T235959
DTSTAMP:20260422T044225
CREATED:20260217T203951Z
LAST-MODIFIED:20260217T203951Z
UID:47455-1775606400-1775692799@wheartm.com
SUMMARY:Mpls: Califone at Turf Club (Apr 8\, 2026)
DESCRIPTION:Wednesday\nApr\n8\n2026\nTurf Club\nCalifone  \nCalifone 4/8/26 \n \nSocial Share\n				Share on Add Us (Opens in new window)\n				Add Us\n			\n				Share on Instagram (Opens in new window)\n				Instagram\n			\n				Share on X (Opens in new window)\n				X\n			\n				Share on Bluesky (Opens in new window)\n				Bluesky\n			\n				Share on Facebook (Opens in new window)\n				Facebook\n			More\n				Print (Opens in new window)\n				Print\n			\n				Share on Reddit (Opens in new window)\n				Reddit\n			\n				Email a link to a friend (Opens in new window)\n				Email\n			\n				Share on Pinterest (Opens in new window)\n				Pinterest\n			\n				Share on Tumblr (Opens in new window)\n				Tumblr\n			\n				Share on Threads (Opens in new window)\n				Threads\n			\n				Share on WhatsApp (Opens in new window)\n				WhatsApp\n			\n				Share on LinkedIn (Opens in new window)\n				LinkedIn\n			\n				Share on Mastodon (Opens in new window)\n				Mastodon\n			\n				Share on Telegram (Opens in new window)\n				Telegram\n			\n				Share on Nextdoor (Opens in new window)\n				Nextdoor\n			Like this:Like Loading...
URL:https://wheartm.com/event/mpls-califone-at-turf-club-apr-8-2026/
LOCATION:Turf Club\, 1601 University Ave\, St Paul\, 55104\, United States
CATEGORIES:Minneapolis
ATTACH;FMTTYPE=image/jpeg:https://wheartm.com/wp-content/uploads/2026/02/Califone-040826-1080.jpg
END:VEVENT
BEGIN:VEVENT
DTSTART;TZID=America/Chicago:20260408T180000
DTEND;TZID=America/Chicago:20260408T235900
DTSTAMP:20260422T044227
CREATED:20260110T124758Z
LAST-MODIFIED:20260308T235806Z
UID:41640-1775671200-1775692740@wheartm.com
SUMMARY:Mpls: On Cinema at The Fitzgerald Theater (Apr 8\, 2026)
DESCRIPTION:On Cinema at The Fitzgerald Theater (Apr 8\, 2026)\n\n\nApril 8\, 2026 Wednesday\nOn Cinema\nat The Fitzgerald Theater\nfirst-avenue.com\n\nAmerican funnymen Tim Heidecker and Gregg Turkington (aka Mister Neil Hamburger) are the hosts of On Cinema\,  a  variety show and movie review between the two comedians.  For the first time since 2019\, the duo will take their On Cinema show on tour\, stopping by the Fitzgerald Theater\, in St Paul\, on April 8\, 2026.\n\n\n          Neil Hamburger       \n\n\nWe’re big fans and saw the two dudes in August 2015 and wrote\, “Having previously teamed up on tour\, Tim Heidecker and Neil Hamburger are back at it again\, stopping by a sold out comedy show at the Cedar Cultural Center in Minneapolis last night. In typical Neil Hamburger style\, the drunken\, badly done hair comb over\, safety pinned suit\, Hamburger came on stage gripping three drinks\, wheezing and coughing. Stunned at the adoring standing ovation\, Hamburger jokingly said he might as well leave now… but then continued telling his “gags”. We’ve seen Neil Hamburger before and we know his materials aren’t that funny\, but it’s more about his delivery and awkwardness that makes it so laughable. Moving away from jokes about his ex-wife\, the America’s $1 Funnyman mostly made fun of “Leeeegendary” famous musicians Grateful Deads\, Blind Melon\, Gene Simmons (Kiss)\, Paul McCartney (Beatles)\, and Ozzy Osbourne.”\n\nConfirmed 2026 Tour Dates \n\nApril 6\, 2026: St. Louis\, MO – The Pageant\nApril 7\, 2026: Madison\, WI – Barrymore Theatre-WI\nApril 8\, 2026: Saint Paul\, MN – Fitzgerald Theater\nApril 11\, 2026: Seattle\, WA – The Neptune Theatre\n\n\n\nSocial Share\n				Share on Add Us (Opens in new window)\n				Add Us\n			\n				Share on Instagram (Opens in new window)\n				Instagram\n			\n				Share on X (Opens in new window)\n				X\n			\n				Share on Bluesky (Opens in new window)\n				Bluesky\n			\n				Share on Facebook (Opens in new window)\n				Facebook\n			More\n				Print (Opens in new window)\n				Print\n			\n				Share on Reddit (Opens in new window)\n				Reddit\n			\n				Email a link to a friend (Opens in new window)\n				Email\n			\n				Share on Pinterest (Opens in new window)\n				Pinterest\n			\n				Share on Tumblr (Opens in new window)\n				Tumblr\n			\n				Share on Threads (Opens in new window)\n				Threads\n			\n				Share on WhatsApp (Opens in new window)\n				WhatsApp\n			\n				Share on LinkedIn (Opens in new window)\n				LinkedIn\n			\n				Share on Mastodon (Opens in new window)\n				Mastodon\n			\n				Share on Telegram (Opens in new window)\n				Telegram\n			\n				Share on Nextdoor (Opens in new window)\n				Nextdoor\n			Like this:Like Loading...
URL:https://wheartm.com/event/mpls-on-cinema-at-the-fitzgerald-theater-apr-8-2026/
LOCATION:Fitzgerald Theater\, 10 East Exchange Street\, St. Paul\, MN\, 55101\, United States
CATEGORIES:Minneapolis
ATTACH;FMTTYPE=image/jpeg:https://wheartm.com/wp-content/uploads/2026/01/OnCinema-040826-1080.jpg
END:VEVENT
END:VCALENDAR