BEGIN:VCALENDAR
VERSION:2.0
PRODID:-//W♥M - ECPv6.15.17.1//NONSGML v1.0//EN
CALSCALE:GREGORIAN
METHOD:PUBLISH
X-ORIGINAL-URL:https://wheartm.com
X-WR-CALDESC:Events for W♥M
REFRESH-INTERVAL;VALUE=DURATION:PT1H
X-Robots-Tag:noindex
X-PUBLISHED-TTL:PT1H
BEGIN:VTIMEZONE
TZID:America/Chicago
BEGIN:DAYLIGHT
TZOFFSETFROM:-0600
TZOFFSETTO:-0500
TZNAME:CDT
DTSTART:20250309T080000
END:DAYLIGHT
BEGIN:STANDARD
TZOFFSETFROM:-0500
TZOFFSETTO:-0600
TZNAME:CST
DTSTART:20251102T070000
END:STANDARD
BEGIN:DAYLIGHT
TZOFFSETFROM:-0600
TZOFFSETTO:-0500
TZNAME:CDT
DTSTART:20260308T080000
END:DAYLIGHT
BEGIN:STANDARD
TZOFFSETFROM:-0500
TZOFFSETTO:-0600
TZNAME:CST
DTSTART:20261101T070000
END:STANDARD
BEGIN:DAYLIGHT
TZOFFSETFROM:-0600
TZOFFSETTO:-0500
TZNAME:CDT
DTSTART:20270314T080000
END:DAYLIGHT
BEGIN:STANDARD
TZOFFSETFROM:-0500
TZOFFSETTO:-0600
TZNAME:CST
DTSTART:20271107T070000
END:STANDARD
END:VTIMEZONE
BEGIN:VEVENT
DTSTART;TZID=America/Chicago:20260410T000000
DTEND;TZID=America/Chicago:20260410T235959
DTSTAMP:20260422T054547
CREATED:20260409T224522Z
LAST-MODIFIED:20260409T224522Z
UID:51490-1775779200-1775865599@wheartm.com
SUMMARY:Mpls: Fantastic Negrito at Cedar Cultural Center (April 10\, 2026)
DESCRIPTION:Fantastic Negrito at Cedar Cultural Center | Minneapolis\, MN 4/10 \nFANTASTIC NEGRITO with Nat Myers \nFriday\, April 10\, 2026/ Doors: 7:00 PM / Show: 8:00 PM\nAll Ages\nStanding\n$30 Advance\, $35 Day of Show \n*For Cedar Presented shows\, a $4 facility fee is included in the ticket price (Ticket fee info here). \nThis is a standing show with an open floor. To request seating or other access accommodations\, please go to our Access Page. \nFor Cedar presented shows\, online ticket sales typically end one hour before the door time\, and then\, based on availability\, tickets will be available at the door. Tickets purchased at the door will include a $1 Eventbrite fee. \nhttps://www.thecedar.org/events/fantastic-negrito \nSocial Share\n				Share on Add Us (Opens in new window)\n				Add Us\n			\n				Share on Instagram (Opens in new window)\n				Instagram\n			\n				Share on X (Opens in new window)\n				X\n			\n				Share on Bluesky (Opens in new window)\n				Bluesky\n			\n				Share on Facebook (Opens in new window)\n				Facebook\n			More\n				Print (Opens in new window)\n				Print\n			\n				Share on Reddit (Opens in new window)\n				Reddit\n			\n				Email a link to a friend (Opens in new window)\n				Email\n			\n				Share on Pinterest (Opens in new window)\n				Pinterest\n			\n				Share on Tumblr (Opens in new window)\n				Tumblr\n			\n				Share on Threads (Opens in new window)\n				Threads\n			\n				Share on WhatsApp (Opens in new window)\n				WhatsApp\n			\n				Share on LinkedIn (Opens in new window)\n				LinkedIn\n			\n				Share on Mastodon (Opens in new window)\n				Mastodon\n			\n				Share on Telegram (Opens in new window)\n				Telegram\n			\n				Share on Nextdoor (Opens in new window)\n				Nextdoor\n			Like this:Like Loading...
URL:https://wheartm.com/event/mpls-fantastic-negrito-at-cedar-cultural-center-april-10-2026/
LOCATION:Cedar Cultural Center\, 416 Cedar Avenue\, Minneapolis\, 55454\, United States
CATEGORIES:Minneapolis
ATTACH;FMTTYPE=image/jpeg:https://wheartm.com/wp-content/uploads/2026/04/fantastic-megrito.jpg
END:VEVENT
BEGIN:VEVENT
DTSTART;TZID=America/Chicago:20260410T000000
DTEND;TZID=America/Chicago:20260410T235959
DTSTAMP:20260422T054547
CREATED:20260217T204622Z
LAST-MODIFIED:20260320T041540Z
UID:47471-1775779200-1775865599@wheartm.com
SUMMARY:Mpls: HEALTH x CARPENTER BRUT at First Avenue (Apr 10\, 2026)
DESCRIPTION:Health x Carpenter Brut at First Avenue (Apr 10\, 2026)\n\n\nApril 10\, 2026 Friday\n Health x Carpenter Brut\nwith Desireat First Avenue\nfirst-avenue.com\n\n Health and Carpenter Brut has sold out First Avenue\, in Minneapolis\, on April 10\, 2026.\n\n\nDesire to open.\n\nTour Dates \n\n4/2 – Seattle\, WA – The Showbox \n4/3 – Portland\, OR – Roseland Theater \n4/4 – Vancouver\, BC – Vogue Theatre \n4/5 – Seattle\, WA – Showbox SoDo \n4/7 – Salt Lake City\, UT – Union Event Center \n4/8 – Denver\, CO – Mission Ballroom  \n4/10 – Minneapolis\, MN – First Avenue\n4/11 – Chicago\, IL – Salt Shed \n4/12 – Royal Oak\, Mi – Royal Oak Music Theatre \n4/14 – Toronto\, ON – HISTORY \n4/15 – Montreal\, QC – MTELUS \n4/17 – Boston\, MA – House of Blues \n4/18 – Brooklyn\, NY – Brooklyn Paramount \n4/19 – Philadelphia\, PA – Franklin Music Hall \n4/20 – Washington\, DC – 9:30 Club\n4/22 – Nashville\, TN – Brooklyn Bowl \n4/24 – Albuquerque\, NM – Sunshine Theater \n4/25 – Las Vegas\, NV – Sick New World Festival \n4/29 – Phoenix\, AZ – The Van Buren \n5/1 – Los Angeles\, CA – Hollywood Palladium \n5/4 – Dallas\, TX – The Bomb Factory \n5/5 – Austin\, TX – Emo’s SOLD OUT\n\n\n\nSocial Share\n				Share on Add Us (Opens in new window)\n				Add Us\n			\n				Share on Instagram (Opens in new window)\n				Instagram\n			\n				Share on X (Opens in new window)\n				X\n			\n				Share on Bluesky (Opens in new window)\n				Bluesky\n			\n				Share on Facebook (Opens in new window)\n				Facebook\n			More\n				Print (Opens in new window)\n				Print\n			\n				Share on Reddit (Opens in new window)\n				Reddit\n			\n				Email a link to a friend (Opens in new window)\n				Email\n			\n				Share on Pinterest (Opens in new window)\n				Pinterest\n			\n				Share on Tumblr (Opens in new window)\n				Tumblr\n			\n				Share on Threads (Opens in new window)\n				Threads\n			\n				Share on WhatsApp (Opens in new window)\n				WhatsApp\n			\n				Share on LinkedIn (Opens in new window)\n				LinkedIn\n			\n				Share on Mastodon (Opens in new window)\n				Mastodon\n			\n				Share on Telegram (Opens in new window)\n				Telegram\n			\n				Share on Nextdoor (Opens in new window)\n				Nextdoor\n			Like this:Like Loading...
URL:https://wheartm.com/event/mpls-health-x-carpenter-brut-at-first-avenue-apr-10-2026/
LOCATION:First Avenue\, 701 N 1st Ave\, Minneapolis\, MN\, 55403\, United States
CATEGORIES:Minneapolis
ATTACH;FMTTYPE=image/jpeg:https://wheartm.com/wp-content/uploads/2026/02/Health-CarpenterBrut-041026-1080.jpg
END:VEVENT
BEGIN:VEVENT
DTSTART;TZID=America/Chicago:20260410T000000
DTEND;TZID=America/Chicago:20260410T235959
DTSTAMP:20260422T054547
CREATED:20260217T204755Z
LAST-MODIFIED:20260217T204755Z
UID:47475-1775779200-1775865599@wheartm.com
SUMMARY:Mpls: Kxllswxtch at Fine Line (Apr 10\, 2026)
DESCRIPTION:Friday\nApr\n10\n2026\nFine Line\nKxllswxtch\nEYESORE Tour\nwith Warlord Colossus and Druidess\nDoors Open\n6:30PM\nShow Starts\n7:30PM\nAges\nAll Ages \nBALCONY TICKET BUYERS must be 21+\nID required\, no exceptions.\nThis show is All Ages for all other GA Floor buyers. \nKxllswxtch 4/10/26 \n \nSocial Share\n				Share on Add Us (Opens in new window)\n				Add Us\n			\n				Share on Instagram (Opens in new window)\n				Instagram\n			\n				Share on X (Opens in new window)\n				X\n			\n				Share on Bluesky (Opens in new window)\n				Bluesky\n			\n				Share on Facebook (Opens in new window)\n				Facebook\n			More\n				Print (Opens in new window)\n				Print\n			\n				Share on Reddit (Opens in new window)\n				Reddit\n			\n				Email a link to a friend (Opens in new window)\n				Email\n			\n				Share on Pinterest (Opens in new window)\n				Pinterest\n			\n				Share on Tumblr (Opens in new window)\n				Tumblr\n			\n				Share on Threads (Opens in new window)\n				Threads\n			\n				Share on WhatsApp (Opens in new window)\n				WhatsApp\n			\n				Share on LinkedIn (Opens in new window)\n				LinkedIn\n			\n				Share on Mastodon (Opens in new window)\n				Mastodon\n			\n				Share on Telegram (Opens in new window)\n				Telegram\n			\n				Share on Nextdoor (Opens in new window)\n				Nextdoor\n			Like this:Like Loading...
URL:https://wheartm.com/event/mpls-kxllswxtch-at-fine-line-apr-10-2026/
LOCATION:Fine Line Music Cafe\, 318 N 1st Ave\, Minneapolis\, MN\, 55401\, United States
CATEGORIES:Minneapolis
ATTACH;FMTTYPE=image/jpeg:https://wheartm.com/wp-content/uploads/2026/02/Kxllswxtch-041026-1080.jpg
END:VEVENT
BEGIN:VEVENT
DTSTART;TZID=America/Chicago:20260410T180000
DTEND;TZID=America/Chicago:20260410T180000
DTSTAMP:20260422T054547
CREATED:20260402T112240Z
LAST-MODIFIED:20260403T034221Z
UID:55039-1775844000-1775844000@wheartm.com
SUMMARY:Mpls: The Koffin Kats at Turf Club (Apr 10\, 2026)
DESCRIPTION:The Koffin Kats at Turf Club (Apr 10\, 2026)\n\nApril 10\, 2026 Friday\nThe Koffin Kats\nwith Carrie Nation & the Speakeasy and The Rumoursat Turf Club\nfirst-avenue.com\n\nPunk rockers The Koffin Kats  to headline the Turf Club\, in St Paul on April 10\, 2026.\n\n\nCarrie Nation & the Speakeasy and The Rumours to open.\n\n The Koffin Kats writes:\n\n\nNext up!! April dates with @cnsict 🕷️🕸️ \n4/02/2026 Boise\, ID at @shredderboise\n4/03/2026 Salt Lake City\, UT at @urbanloungeslc\n4/04/2026 Cheyenne\, WY at @thelincolncheyenne\n4/05/2026 Denver\, CO at @bluebirdtheater\n4/07/2026 Colorado Springs\, CO at @theblacksheep\n4/08/2026 Omaha\, NE at @reverb_lounge\n4/09/2026 Des Moines\, IA at @xbklive\n4/10/2026 Minneapolis\, MN at @turfclubmn\n4/11/2026 Appleton\, WI at @appletonbeerfactory\n\n\n\nSocial Share\n				Share on Add Us (Opens in new window)\n				Add Us\n			\n				Share on Instagram (Opens in new window)\n				Instagram\n			\n				Share on X (Opens in new window)\n				X\n			\n				Share on Bluesky (Opens in new window)\n				Bluesky\n			\n				Share on Facebook (Opens in new window)\n				Facebook\n			More\n				Print (Opens in new window)\n				Print\n			\n				Share on Reddit (Opens in new window)\n				Reddit\n			\n				Email a link to a friend (Opens in new window)\n				Email\n			\n				Share on Pinterest (Opens in new window)\n				Pinterest\n			\n				Share on Tumblr (Opens in new window)\n				Tumblr\n			\n				Share on Threads (Opens in new window)\n				Threads\n			\n				Share on WhatsApp (Opens in new window)\n				WhatsApp\n			\n				Share on LinkedIn (Opens in new window)\n				LinkedIn\n			\n				Share on Mastodon (Opens in new window)\n				Mastodon\n			\n				Share on Telegram (Opens in new window)\n				Telegram\n			\n				Share on Nextdoor (Opens in new window)\n				Nextdoor\n			Like this:Like Loading...
URL:https://wheartm.com/event/mpls-the-koffin-kats-at-turf-club-apr-10-2026/
LOCATION:Turf Club\, 1601 University Ave\, St Paul\, 55104\, United States
CATEGORIES:Minneapolis
ATTACH;FMTTYPE=image/jpeg:https://wheartm.com/wp-content/uploads/2026/04/TheKoffinKats-041026-1080x1669-1.jpg
END:VEVENT
END:VCALENDAR