BEGIN:VCALENDAR
VERSION:2.0
PRODID:-//W♥M - ECPv6.15.17.1//NONSGML v1.0//EN
CALSCALE:GREGORIAN
METHOD:PUBLISH
X-WR-CALNAME:W♥M
X-ORIGINAL-URL:https://wheartm.com
X-WR-CALDESC:Events for W♥M
REFRESH-INTERVAL;VALUE=DURATION:PT1H
X-Robots-Tag:noindex
X-PUBLISHED-TTL:PT1H
BEGIN:VTIMEZONE
TZID:America/Chicago
BEGIN:DAYLIGHT
TZOFFSETFROM:-0600
TZOFFSETTO:-0500
TZNAME:CDT
DTSTART:20250309T080000
END:DAYLIGHT
BEGIN:STANDARD
TZOFFSETFROM:-0500
TZOFFSETTO:-0600
TZNAME:CST
DTSTART:20251102T070000
END:STANDARD
BEGIN:DAYLIGHT
TZOFFSETFROM:-0600
TZOFFSETTO:-0500
TZNAME:CDT
DTSTART:20260308T080000
END:DAYLIGHT
BEGIN:STANDARD
TZOFFSETFROM:-0500
TZOFFSETTO:-0600
TZNAME:CST
DTSTART:20261101T070000
END:STANDARD
BEGIN:DAYLIGHT
TZOFFSETFROM:-0600
TZOFFSETTO:-0500
TZNAME:CDT
DTSTART:20270314T080000
END:DAYLIGHT
BEGIN:STANDARD
TZOFFSETFROM:-0500
TZOFFSETTO:-0600
TZNAME:CST
DTSTART:20271107T070000
END:STANDARD
END:VTIMEZONE
BEGIN:VEVENT
DTSTART;TZID=America/Chicago:20260411T000000
DTEND;TZID=America/Chicago:20260411T235959
DTSTAMP:20260422T054255
CREATED:20260217T204921Z
LAST-MODIFIED:20260320T042201Z
UID:47479-1775865600-1775951999@wheartm.com
SUMMARY:Mpls: Cat Clyde at Turf Club (Apr 11\, 2026)
DESCRIPTION:Cat Clyde at Turf Club (Apr 11\, 2026)\n\n\nApril 11\, 2026 Saturday\nCat Clyde\nat Turf Clubfirst-avenue.com\n\nCanadian indie-folk artist Cat Clyde is headlining the Turf Club on April 11\, 2026\, in support of her new album  Mud Blood Bone (out now via Concord Records).\n\n\nClyde\, talking about her second single “Man’s World”:\n\n\nThis is an expression of the frustration I feel existing as a woman in a patriarchal world. It sometimes feels difficult to be on a 24 hour clock rather than a 28 day cycle\, and a 12 month year instead of a 13 month year. I love and crave masculine energy when it’s strong\, protective\, and emotionally aware. It has been difficult and deeply disappointing to have had experiences dealing with masculine energy that is childish\, cowardly\, and encroaching on the feminine space. ‘Man’s World’ touches on my own ideas of what being a woman means in this society and how dangerous and violent it can be for a woman’s heart.\n\n\n\nUpcoming Tour Dates\n\nMarch 21 — Morro Bay\, CA @ The Siren*\nMarch 22 — San Francisco\, CA @ The Chapel*\nMarch 24 — Sisters\, OR @ The Belfry\nMarch 26 — Boise\, ID @ Treefort Music Fest\nMarch 27 — Salt Lake City\, UT @ State Room\nMarch 28 — Fort Collins\, CO @ The Armory \nMarch 29 — Boulder\, CO @ eTown Music Hall\nApril 1 — Lawrence\, KS @ Bottleneck^\nApril 2 — Columbia\, MO @ Rose Music Hall^\nApril 3 — St. Louis\, MO @ Old Rock House^\nApril 4 — Nashville\, TN @ Row One^\nApril 6 — Louisville\, KY @ The Monarch^ \nApril 8 — Indianapolis\, IN @ HiFi^\nApril 9 — Chicago\, IL @ Schuba’s^\nApril 10 — Davenport\, IA @ Raccoon Motel^\nApril 11 — St Paul\, MN @ Turf Club^\nMay 14 — Washington\, DC @ Union Stage^\nMay 15 — Philadelphia\, PA @ 118 N^\nMay 16 — Amagansett\, NY @ The Stephen Talk House^\nMay 17 — Brooklyn\, NY @ Baby’s All Right^\nMay 19 — Cambridge\, MA @ Club Passim^ –\nMay 20 — Manchester\, VT @ Billsville^\nMay 22 — Montreal\, QC @ Bar Le Ritz\nMay 23 — Ottawa\, ON @ Club Saw\nMay 24 — Kingston\, ON @ Broom Factory\nMay 25 — St. Catharines\, ON @ Warehouse\nMay 27 — Guelph\, ON @ Sonic Hall\nMay 28 — Windsor\, ON @ Meteor\nMay 29 — London\, ON @ Rum Runners\nMay 30 — Toronto\, ON @ Horseshoe Tavern\nJune 19-21 – Mount Solon\, VA – Red Wing Roots Music Festival\nAugust 1- Mulhurst\, AB – Pigeon Lake Music Festival\n \n* co-bill with Goodnight\, Texas / ^ support from Boy Golden\n\n\n\nSocial Share\n				Share on Add Us (Opens in new window)\n				Add Us\n			\n				Share on Instagram (Opens in new window)\n				Instagram\n			\n				Share on X (Opens in new window)\n				X\n			\n				Share on Bluesky (Opens in new window)\n				Bluesky\n			\n				Share on Facebook (Opens in new window)\n				Facebook\n			More\n				Print (Opens in new window)\n				Print\n			\n				Share on Reddit (Opens in new window)\n				Reddit\n			\n				Email a link to a friend (Opens in new window)\n				Email\n			\n				Share on Pinterest (Opens in new window)\n				Pinterest\n			\n				Share on Tumblr (Opens in new window)\n				Tumblr\n			\n				Share on Threads (Opens in new window)\n				Threads\n			\n				Share on WhatsApp (Opens in new window)\n				WhatsApp\n			\n				Share on LinkedIn (Opens in new window)\n				LinkedIn\n			\n				Share on Mastodon (Opens in new window)\n				Mastodon\n			\n				Share on Telegram (Opens in new window)\n				Telegram\n			\n				Share on Nextdoor (Opens in new window)\n				Nextdoor\n			Like this:Like Loading...
URL:https://wheartm.com/event/mpls-cat-clyde-at-turf-club-apr-11-2026/
LOCATION:Turf Club\, 1601 University Ave\, St Paul\, 55104\, United States
CATEGORIES:Minneapolis
ATTACH;FMTTYPE=image/jpeg:https://wheartm.com/wp-content/uploads/2026/02/CatClyde-041126-1080v1.jpg
END:VEVENT
BEGIN:VEVENT
DTSTART;TZID=America/Chicago:20260411T000000
DTEND;TZID=America/Chicago:20260411T235959
DTSTAMP:20260422T054255
CREATED:20260217T205052Z
LAST-MODIFIED:20260320T050156Z
UID:47484-1775865600-1775951999@wheartm.com
SUMMARY:Mpls: The Brook & The Bluff at Amsterdam Bar & Hall (Apr 11\, 2026)
DESCRIPTION:The Brook & The Bluff at Amsterdam Bar & Hall (Apr 11\, 2026)\n\n\nApril 11\, 2026 Saturday\nThe Brook & The Bluff\nwith Ethan Taschat Amsterdam Bar & Hallfirst-avenue.com\n\n   The Brook & The Bluff will be headlining the Amsterdam Bar & Hall\, in St Paul\, on April 11\, 2026\, in support of Werewolf.\n \n\n\nThe ticket limit is strict. Any attempt to exceed the posted ticket limit per customer or household\, or to game the system in any way\, will result in cancellation of orders without notice. There is a transfer delay for all tickets prior to the show.\n\n\n\n\nEthan Tasch to open.\n\nTour Dates:\n\n03/20 – Raleigh\, NC @ The Ritz *\n03/21 – Charlotte\, NC @ The Fillmore *\n03/23 – Washington\, DC @ 9:30 Club *\n03/26 – Nashville\, TN @ Brooklyn Bowl *\n03/27 – Birmingham\, AL @ Avondale Brewing Company *\n03/28 – Atlanta\, GA @ Variety Playhouse *\n03/31 – Philadelphia\, PA @ Union Transfer *\n04/03 – New York\, NY @ Webster Hall *\n04/04 – Boston\, MA @ Big Night Live *\n04/06 – Toronto\, ON @ Horseshoe Tavern ^\n04/08 – Detroit\, MI @ Saint Andrew’s Hall ^\n04/09 – Indianapolis\, IN @ The Vogue Theatre ^\n04/10 – Chicago\, IL @ House of Blues ^\n04/11 – St. Paul\, MN @ Amsterdam Bar & Hall ^\n04/13 – Kansas City\, MO @ The Truman ^\n04/14 – Oklahoma City\, OK @ The Jones Assembly ^\n04/16 – Houston\, TX @ The Heights Theater ^\n04/17 – Dallas\, TX @ The Bomb Factory ^\n04/18 – Austin\, TX @ Scoot Inn ^\n04/21 – Phoenix\, AZ @ The Van Buren ^\n04/23 – San Diego\, CA @ The Observatory North Park ^\n04/24 – Los Angeles\, CA @ The Bellwether ^\n04/25 – San Francisco\, CA @ The Fillmore ^\n04/27 – Portland\, OR @ Wonder Ballroom ^\n04/28 – Vancouver\, BC @ Hollywood Theatre ^\n04/29 – Seattle\, WA @ The Showbox ^\n05/02 – Salt Lake City\, UT @ Soundwell ^\n05/03 – Denver\, CO @ Ogden Theatre ^ \n* Cassandra Coleman supporting^ Ethan Tasch supporting\n\n\n  \n \nCat Clyde at Turf Club (Apr 11\, 2026)\n\n\nApril 11\, 2026 Saturday\nCat Clyde\nat Turf Clubfirst-avenue.com\n\nCanadian indie-folk artist Cat Clyde is headlining the Turf Club on April 11\, 2026\, in support of her new album  Mud Blood Bone (out now via Concord Records).\n\n\nClyde\, talking about her second single “Man’s World”:\n\n\nThis is an expression of the frustration I feel existing as a woman in a patriarchal world. It sometimes feels difficult to be on a 24 hour clock rather than a 28 day cycle\, and a 12 month year instead of a 13 month year. I love and crave masculine energy when it’s strong\, protective\, and emotionally aware. It has been difficult and deeply disappointing to have had experiences dealing with masculine energy that is childish\, cowardly\, and encroaching on the feminine space. ‘Man’s World’ touches on my own ideas of what being a woman means in this society and how dangerous and violent it can be for a woman’s heart.\n\n\n\nUpcoming Tour Dates\n\nMarch 21 — Morro Bay\, CA @ The Siren*\nMarch 22 — San Francisco\, CA @ The Chapel*\nMarch 24 — Sisters\, OR @ The Belfry\nMarch 26 — Boise\, ID @ Treefort Music Fest\nMarch 27 — Salt Lake City\, UT @ State Room\nMarch 28 — Fort Collins\, CO @ The Armory \nMarch 29 — Boulder\, CO @ eTown Music Hall\nApril 1 — Lawrence\, KS @ Bottleneck^\nApril 2 — Columbia\, MO @ Rose Music Hall^\nApril 3 — St. Louis\, MO @ Old Rock House^\nApril 4 — Nashville\, TN @ Row One^\nApril 6 — Louisville\, KY @ The Monarch^ \nApril 8 — Indianapolis\, IN @ HiFi^\nApril 9 — Chicago\, IL @ Schuba’s^\nApril 10 — Davenport\, IA @ Raccoon Motel^\nApril 11 — St Paul\, MN @ Turf Club^\nMay 14 — Washington\, DC @ Union Stage^\nMay 15 — Philadelphia\, PA @ 118 N^\nMay 16 — Amagansett\, NY @ The Stephen Talk House^\nMay 17 — Brooklyn\, NY @ Baby’s All Right^\nMay 19 — Cambridge\, MA @ Club Passim^ –\nMay 20 — Manchester\, VT @ Billsville^\nMay 22 — Montreal\, QC @ Bar Le Ritz\nMay 23 — Ottawa\, ON @ Club Saw\nMay 24 — Kingston\, ON @ Broom Factory\nMay 25 — St. Catharines\, ON @ Warehouse\nMay 27 — Guelph\, ON @ Sonic Hall\nMay 28 — Windsor\, ON @ Meteor\nMay 29 — London\, ON @ Rum Runners\nMay 30 — Toronto\, ON @ Horseshoe Tavern\nJune 19-21 – Mount Solon\, VA – Red Wing Roots Music Festival\nAugust 1- Mulhurst\, AB – Pigeon Lake Music Festival\n \n* co-bill with Goodnight\, Texas / ^ support from Boy Golden\n\n\nSocial Share\n				Share on Add Us (Opens in new window)\n				Add Us\n			\n				Share on Instagram (Opens in new window)\n				Instagram\n			\n				Share on X (Opens in new window)\n				X\n			\n				Share on Bluesky (Opens in new window)\n				Bluesky\n			\n				Share on Facebook (Opens in new window)\n				Facebook\n			More\n				Print (Opens in new window)\n				Print\n			\n				Share on Reddit (Opens in new window)\n				Reddit\n			\n				Email a link to a friend (Opens in new window)\n				Email\n			\n				Share on Pinterest (Opens in new window)\n				Pinterest\n			\n				Share on Tumblr (Opens in new window)\n				Tumblr\n			\n				Share on Threads (Opens in new window)\n				Threads\n			\n				Share on WhatsApp (Opens in new window)\n				WhatsApp\n			\n				Share on LinkedIn (Opens in new window)\n				LinkedIn\n			\n				Share on Mastodon (Opens in new window)\n				Mastodon\n			\n				Share on Telegram (Opens in new window)\n				Telegram\n			\n				Share on Nextdoor (Opens in new window)\n				Nextdoor\n			Like this:Like Loading...
URL:https://wheartm.com/event/mpls-the-brook-the-bluff-at-amsterdam-bar-hall-apr-11-2026/
LOCATION:Amsterdam Bar & Hall\, 6th & Wabasha\, St Paul\, MN\, 55102\, United States
CATEGORIES:Minneapolis
ATTACH;FMTTYPE=image/jpeg:https://wheartm.com/wp-content/uploads/2026/02/TheBrookandTheBluff-041126-1080v1.jpg
END:VEVENT
BEGIN:VEVENT
DTSTART;TZID=America/Chicago:20260411T000000
DTEND;TZID=America/Chicago:20260411T235959
DTSTAMP:20260422T054255
CREATED:20260217T205237Z
LAST-MODIFIED:20260217T205237Z
UID:47488-1775865600-1775951999@wheartm.com
SUMMARY:Mpls: DeVotchKa at First Avenue (Apr 11\, 2026)
DESCRIPTION:Saturday\nApr\n11\n2026\nFirst Avenue\nThe Current presents\nDeVotchKa\nTribute to the music of ‘Little Miss Sunshine’\nDoors Open\n7PM\nShow Starts\n8PM\nAges\n18+ \nThe ticket limit is strict. Any attempt to exceed the posted ticket limit per customer or household\, or to game the system in any way\, will result in cancellation of orders without notice. There is a transfer delay for all tickets prior to the show. \nDeVotchKa 4/11/26 \n \nSocial Share\n				Share on Add Us (Opens in new window)\n				Add Us\n			\n				Share on Instagram (Opens in new window)\n				Instagram\n			\n				Share on X (Opens in new window)\n				X\n			\n				Share on Bluesky (Opens in new window)\n				Bluesky\n			\n				Share on Facebook (Opens in new window)\n				Facebook\n			More\n				Print (Opens in new window)\n				Print\n			\n				Share on Reddit (Opens in new window)\n				Reddit\n			\n				Email a link to a friend (Opens in new window)\n				Email\n			\n				Share on Pinterest (Opens in new window)\n				Pinterest\n			\n				Share on Tumblr (Opens in new window)\n				Tumblr\n			\n				Share on Threads (Opens in new window)\n				Threads\n			\n				Share on WhatsApp (Opens in new window)\n				WhatsApp\n			\n				Share on LinkedIn (Opens in new window)\n				LinkedIn\n			\n				Share on Mastodon (Opens in new window)\n				Mastodon\n			\n				Share on Telegram (Opens in new window)\n				Telegram\n			\n				Share on Nextdoor (Opens in new window)\n				Nextdoor\n			Like this:Like Loading...
URL:https://wheartm.com/event/mpls-devotchka-at-first-avenue-apr-11-2026/
LOCATION:First Avenue\, 701 N 1st Ave\, Minneapolis\, MN\, 55403\, United States
CATEGORIES:Minneapolis
ATTACH;FMTTYPE=image/jpeg:https://wheartm.com/wp-content/uploads/2026/02/Devotchka-041126-1080.jpg
END:VEVENT
BEGIN:VEVENT
DTSTART;TZID=America/Chicago:20260411T000000
DTEND;TZID=America/Chicago:20260411T235959
DTSTAMP:20260422T054257
CREATED:20260217T205417Z
LAST-MODIFIED:20260217T205417Z
UID:47492-1775865600-1775951999@wheartm.com
SUMMARY:Mpls: Madison Cunningham at Fitzgerald Theater (Apr 11\, 2026)
DESCRIPTION:Saturday\nApr\n11\n2026\nThe Fitzgerald Theater\nMadison Cunningham\nThe Ace Tour\nwith Sam Weber \nMadison Cunningham 4/11/26 \n \nSocial Share\n				Share on Add Us (Opens in new window)\n				Add Us\n			\n				Share on Instagram (Opens in new window)\n				Instagram\n			\n				Share on X (Opens in new window)\n				X\n			\n				Share on Bluesky (Opens in new window)\n				Bluesky\n			\n				Share on Facebook (Opens in new window)\n				Facebook\n			More\n				Print (Opens in new window)\n				Print\n			\n				Share on Reddit (Opens in new window)\n				Reddit\n			\n				Email a link to a friend (Opens in new window)\n				Email\n			\n				Share on Pinterest (Opens in new window)\n				Pinterest\n			\n				Share on Tumblr (Opens in new window)\n				Tumblr\n			\n				Share on Threads (Opens in new window)\n				Threads\n			\n				Share on WhatsApp (Opens in new window)\n				WhatsApp\n			\n				Share on LinkedIn (Opens in new window)\n				LinkedIn\n			\n				Share on Mastodon (Opens in new window)\n				Mastodon\n			\n				Share on Telegram (Opens in new window)\n				Telegram\n			\n				Share on Nextdoor (Opens in new window)\n				Nextdoor\n			Like this:Like Loading...
URL:https://wheartm.com/event/mpls-madison-cunningham-at-fitzgerald-theater-apr-11-2026/
LOCATION:Fitzgerald Theater\, 10 East Exchange Street\, St. Paul\, MN\, 55101\, United States
CATEGORIES:Minneapolis
ATTACH;FMTTYPE=image/jpeg:https://wheartm.com/wp-content/uploads/2026/02/MadisonCunningham-041126-1080v1.jpg
END:VEVENT
BEGIN:VEVENT
DTSTART;TZID=America/Chicago:20260411T180000
DTEND;TZID=America/Chicago:20260411T233000
DTSTAMP:20260422T054258
CREATED:20260402T112802Z
LAST-MODIFIED:20260404T064301Z
UID:55044-1775930400-1775950200@wheartm.com
SUMMARY:Mpls: Willie Wisely at High Hat (Apr 11\, 2026)
DESCRIPTION:Willie Wisely at High Hat (Apr 11\, 2026)\n\nApril 11\, 2026 Saturday\nWillie Wisely\nwith Tommy Barbarella’s Organ Comboat High Hat\nbandsintown.com\n\nWillie Wisely to play the High Hat this April 11\, 2026. \n\n              \n\n\nWe saw Wisely at the High Hat in Dec 2025 and said\, “The second set opened with Wisely solo on acoustic for a couple of numbers\, starting with a beautiful version of Through Any Window. That group of three songs\, with the newer California\, and the ethereal Vagabond was worth the price of admission itself. (Side note: drummer Anania came and stood next to me for that group of songs\, having personally requested California. His quiet singing along was truly a moment of one artist’s respect for another. I was lucky to witness it up close.) The Tommy Barbarella Organ Combo was back on stage for another of their instrumentals and the jazz funk simply dripped as each musician got their moment in the sun and all were fantastic. The whole group back together\, Wisely was clearly having a blast and the second hour was flying by. A sly moment by the band to play a little backing music while he tuned and then introduced the next song was a good set up for There’s One in Every Generation. A Christmas song was timely both for the season and with all of the recent snow. You’ll Never Find was a perfect cover for this group as Barbarella was off the charts and Wisely was dancing all across the venue. A final bit of walk off music for Wisely had the band closing to Booker T & the MG’s Green Onions\, about as cool and perfect a number. Willie Wisely and friends had put on a heck of a performance and the atmosphere was buzzing as a happy crowd headed towards merch and to visit with the artists.”.\n\n\nTommy Barbarella’s Organ Combo to open.\n\nSocial Share\n				Share on Add Us (Opens in new window)\n				Add Us\n			\n				Share on Instagram (Opens in new window)\n				Instagram\n			\n				Share on X (Opens in new window)\n				X\n			\n				Share on Bluesky (Opens in new window)\n				Bluesky\n			\n				Share on Facebook (Opens in new window)\n				Facebook\n			More\n				Print (Opens in new window)\n				Print\n			\n				Share on Reddit (Opens in new window)\n				Reddit\n			\n				Email a link to a friend (Opens in new window)\n				Email\n			\n				Share on Pinterest (Opens in new window)\n				Pinterest\n			\n				Share on Tumblr (Opens in new window)\n				Tumblr\n			\n				Share on Threads (Opens in new window)\n				Threads\n			\n				Share on WhatsApp (Opens in new window)\n				WhatsApp\n			\n				Share on LinkedIn (Opens in new window)\n				LinkedIn\n			\n				Share on Mastodon (Opens in new window)\n				Mastodon\n			\n				Share on Telegram (Opens in new window)\n				Telegram\n			\n				Share on Nextdoor (Opens in new window)\n				Nextdoor\n			Like this:Like Loading...
URL:https://wheartm.com/event/mpls-willie-wisely-at-high-hat-apr-11-2026/
LOCATION:High Hat\, 485 Selby Avenue\, St. Paul\, MN\, United States
CATEGORIES:Minneapolis
ATTACH;FMTTYPE=image/jpeg:https://wheartm.com/wp-content/uploads/2026/04/williewisely-high-hat.jpeg
END:VEVENT
END:VCALENDAR