BEGIN:VCALENDAR
VERSION:2.0
PRODID:-//W♥M - ECPv6.15.17.1//NONSGML v1.0//EN
CALSCALE:GREGORIAN
METHOD:PUBLISH
X-ORIGINAL-URL:https://wheartm.com
X-WR-CALDESC:Events for W♥M
REFRESH-INTERVAL;VALUE=DURATION:PT1H
X-Robots-Tag:noindex
X-PUBLISHED-TTL:PT1H
BEGIN:VTIMEZONE
TZID:America/Chicago
BEGIN:DAYLIGHT
TZOFFSETFROM:-0600
TZOFFSETTO:-0500
TZNAME:CDT
DTSTART:20250309T080000
END:DAYLIGHT
BEGIN:STANDARD
TZOFFSETFROM:-0500
TZOFFSETTO:-0600
TZNAME:CST
DTSTART:20251102T070000
END:STANDARD
BEGIN:DAYLIGHT
TZOFFSETFROM:-0600
TZOFFSETTO:-0500
TZNAME:CDT
DTSTART:20260308T080000
END:DAYLIGHT
BEGIN:STANDARD
TZOFFSETFROM:-0500
TZOFFSETTO:-0600
TZNAME:CST
DTSTART:20261101T070000
END:STANDARD
BEGIN:DAYLIGHT
TZOFFSETFROM:-0600
TZOFFSETTO:-0500
TZNAME:CDT
DTSTART:20270314T080000
END:DAYLIGHT
BEGIN:STANDARD
TZOFFSETFROM:-0500
TZOFFSETTO:-0600
TZNAME:CST
DTSTART:20271107T070000
END:STANDARD
END:VTIMEZONE
BEGIN:VEVENT
DTSTART;TZID=America/Chicago:20260416T000000
DTEND;TZID=America/Chicago:20260416T235959
DTSTAMP:20260420T194335
CREATED:20260217T210641Z
LAST-MODIFIED:20260217T210641Z
UID:47522-1776297600-1776383999@wheartm.com
SUMMARY:Mpls: CHE at First Avenue (Apr 16\, 2026)
DESCRIPTION:Thursday\nApr\n16\n2026\nFirst Avenue\nCHE\nENCORE\nDoors Open\n6:30PM\nShow Starts\n7:30PM\nAges\nAll Ages\nPresale Starts\nThu\, Feb 19 at 10AM\nTickets On Sale\nFri\, Feb 20 at 10AM \nThe ticket limit is strict. Any attempt to exceed the posted ticket limit per customer or household\, or to game the system in any way\, will result in cancellation of orders without notice. There is a transfer delay for all tickets prior to the show. \nCHE 4/16/26 \n \nSocial Share\n				Share on Add Us (Opens in new window)\n				Add Us\n			\n				Share on Instagram (Opens in new window)\n				Instagram\n			\n				Share on X (Opens in new window)\n				X\n			\n				Share on Bluesky (Opens in new window)\n				Bluesky\n			\n				Share on Facebook (Opens in new window)\n				Facebook\n			More\n				Print (Opens in new window)\n				Print\n			\n				Share on Reddit (Opens in new window)\n				Reddit\n			\n				Email a link to a friend (Opens in new window)\n				Email\n			\n				Share on Pinterest (Opens in new window)\n				Pinterest\n			\n				Share on Tumblr (Opens in new window)\n				Tumblr\n			\n				Share on Threads (Opens in new window)\n				Threads\n			\n				Share on WhatsApp (Opens in new window)\n				WhatsApp\n			\n				Share on LinkedIn (Opens in new window)\n				LinkedIn\n			\n				Share on Mastodon (Opens in new window)\n				Mastodon\n			\n				Share on Telegram (Opens in new window)\n				Telegram\n			\n				Share on Nextdoor (Opens in new window)\n				Nextdoor\n			Like this:Like Loading...
URL:https://wheartm.com/event/mpls-che-at-first-avenue-apr-16-2026/
LOCATION:First Avenue\, 701 N 1st Ave\, Minneapolis\, MN\, 55403\, United States
CATEGORIES:Minneapolis
ATTACH;FMTTYPE=image/jpeg:https://wheartm.com/wp-content/uploads/2026/02/Che-041626-1080.jpg
END:VEVENT
BEGIN:VEVENT
DTSTART;TZID=America/Chicago:20260416T180000
DTEND;TZID=America/Chicago:20260416T230000
DTSTAMP:20260420T194337
CREATED:20260309T204239Z
LAST-MODIFIED:20260320T074630Z
UID:50649-1776362400-1776380400@wheartm.com
SUMMARY:Mpls: Oceanic and Borderline at 7th St Entry (Apr 16\, 2026)
DESCRIPTION:Oceanic and Borderline at 7th St Entry (Apr 16\, 2026)\n\n\nApril 16\, 2026 Thursday\nOceanic and Borderline\nat 7th St Entryfirst-avenue.com\n\nCharlotte’s Oceanic and rising New Zealand band Borderline are co-headlining the 7th Street Entry on April 16\, 2026.\n\n\nThe ticket limit is strict. Any attempt to exceed the posted ticket limit per customer or household\, or to game the system in any way\, will result in cancellation of orders without notice. There is a transfer delay for all tickets prior to the show.\n\n\n\nBorderline Tour Dates\n\n4/06 — The Echo — Los Angeles\, CA\n4/07 — Voodoo Room at HOB — San Diego\, CA\n4/09 — Rickshaw Stop — San Francisco\, CA\n4/11 — Fox Cabaret — Vancouver\, BC\n4/12 — Baba Yaga — Seattle\, WA\n4/16 — 7th St. Entry — Minneapolis\, MN\n4/18 — Shank Hall — Milwaukee\, WI\n4/19 — Schubas Tavern — Chicago\, IL\n4/20 — Lager House — Detroit\, MI\n4/21 — The Baby G — Toronto\, ON\n4/23 — Middle East Upstairs — Boston\, MA\n4/24 — Mercury Lounge — New York\, NY\n4/25 — Philamoca — Philadelphia\, PA\n4/26 — Songbyrd — Washington\, DC\n \n\n\n\nSocial Share\n				Share on Add Us (Opens in new window)\n				Add Us\n			\n				Share on Instagram (Opens in new window)\n				Instagram\n			\n				Share on X (Opens in new window)\n				X\n			\n				Share on Bluesky (Opens in new window)\n				Bluesky\n			\n				Share on Facebook (Opens in new window)\n				Facebook\n			More\n				Print (Opens in new window)\n				Print\n			\n				Share on Reddit (Opens in new window)\n				Reddit\n			\n				Email a link to a friend (Opens in new window)\n				Email\n			\n				Share on Pinterest (Opens in new window)\n				Pinterest\n			\n				Share on Tumblr (Opens in new window)\n				Tumblr\n			\n				Share on Threads (Opens in new window)\n				Threads\n			\n				Share on WhatsApp (Opens in new window)\n				WhatsApp\n			\n				Share on LinkedIn (Opens in new window)\n				LinkedIn\n			\n				Share on Mastodon (Opens in new window)\n				Mastodon\n			\n				Share on Telegram (Opens in new window)\n				Telegram\n			\n				Share on Nextdoor (Opens in new window)\n				Nextdoor\n			Like this:Like Loading...
URL:https://wheartm.com/event/mpls-oceanic-and-borderline-at-7th-st-entry-apr-16-2026/
LOCATION:7th Street Entry\, 701 N 1st Ave\, Minneapolis\, MN\, 55403\, United States
CATEGORIES:Minneapolis
ATTACH;FMTTYPE=image/jpeg:https://wheartm.com/wp-content/uploads/2026/03/OceanicBorderline-041626-1080.jpg
END:VEVENT
BEGIN:VEVENT
DTSTART;TZID=America/Chicago:20260416T183000
DTEND;TZID=America/Chicago:20260416T235900
DTSTAMP:20260420T194337
CREATED:20260110T125237Z
LAST-MODIFIED:20260402T113104Z
UID:41639-1776364200-1776383940@wheartm.com
SUMMARY:Mpls: Ratboys at Fine Line (Apr 16\, 2026)
DESCRIPTION:Ratboys at Fine Line\n\n\nApril 16\, 2026 Thursday\n Ratboys\nwith villagerrrat Fine Line\nfirst-avenue.com\n\n  Chicago band Ratboys is returning to Minneapolis\, playing the Fine Line\, on April 16\, 2026.\n\n\n          Ratboys       \n\n\nWe saw Ratboys in May 2024 and wrote\, “Chicago’s Ratboys opened the show. Ratboys started in 2010 with singer/songer Julia Steiner and guitarist Dave Sagan\, originally from Indiana. When they relocated back to Sagan’s hometown of Chicago in 2015\, they focus on releasing their debut album AOID on Topshelf Records. To make it a full band\, they added drummer Marcus Nuccio and bassist Sean Neumann\, and shortly after\, in 2017\, they released their second album GN\, which many critics tout as their best album. With their fifth studio album\, The Window (Topshelf Records)\, the band finally is headlining their own tour\, having spent the majority of their existence opening for Soccer Mommy\, Pup (in May 2019)\, Slothrust (in Aug 2017)\, Diet Cig\, Vundabar\, Wild Pink\, Slingshot Dakota\, Pet Symmetry\, and lots more. We’ve been trying to check them out since last October 2023\, but unfortunately\, due to busy schedules of “Rocktober” (we had a scheduling conflict)\, we had to take a rain check on their show.”\n\n\n villagerrr to open.\n\nSocial Share\n				Share on Add Us (Opens in new window)\n				Add Us\n			\n				Share on Instagram (Opens in new window)\n				Instagram\n			\n				Share on X (Opens in new window)\n				X\n			\n				Share on Bluesky (Opens in new window)\n				Bluesky\n			\n				Share on Facebook (Opens in new window)\n				Facebook\n			More\n				Print (Opens in new window)\n				Print\n			\n				Share on Reddit (Opens in new window)\n				Reddit\n			\n				Email a link to a friend (Opens in new window)\n				Email\n			\n				Share on Pinterest (Opens in new window)\n				Pinterest\n			\n				Share on Tumblr (Opens in new window)\n				Tumblr\n			\n				Share on Threads (Opens in new window)\n				Threads\n			\n				Share on WhatsApp (Opens in new window)\n				WhatsApp\n			\n				Share on LinkedIn (Opens in new window)\n				LinkedIn\n			\n				Share on Mastodon (Opens in new window)\n				Mastodon\n			\n				Share on Telegram (Opens in new window)\n				Telegram\n			\n				Share on Nextdoor (Opens in new window)\n				Nextdoor\n			Like this:Like Loading...
URL:https://wheartm.com/event/mpls-ratboys-at-fine-line-apr-16-2026/
LOCATION:Fine Line Music Cafe\, 318 N 1st Ave\, Minneapolis\, MN\, 55401\, United States
CATEGORIES:Minneapolis
ATTACH;FMTTYPE=image/jpeg:https://wheartm.com/wp-content/uploads/2026/01/Ratboys-041626-1080.jpg
END:VEVENT
END:VCALENDAR