BEGIN:VCALENDAR
VERSION:2.0
PRODID:-//W♥M - ECPv6.15.17.1//NONSGML v1.0//EN
CALSCALE:GREGORIAN
METHOD:PUBLISH
X-ORIGINAL-URL:https://wheartm.com
X-WR-CALDESC:Events for W♥M
REFRESH-INTERVAL;VALUE=DURATION:PT1H
X-Robots-Tag:noindex
X-PUBLISHED-TTL:PT1H
BEGIN:VTIMEZONE
TZID:America/Chicago
BEGIN:DAYLIGHT
TZOFFSETFROM:-0600
TZOFFSETTO:-0500
TZNAME:CDT
DTSTART:20250309T080000
END:DAYLIGHT
BEGIN:STANDARD
TZOFFSETFROM:-0500
TZOFFSETTO:-0600
TZNAME:CST
DTSTART:20251102T070000
END:STANDARD
BEGIN:DAYLIGHT
TZOFFSETFROM:-0600
TZOFFSETTO:-0500
TZNAME:CDT
DTSTART:20260308T080000
END:DAYLIGHT
BEGIN:STANDARD
TZOFFSETFROM:-0500
TZOFFSETTO:-0600
TZNAME:CST
DTSTART:20261101T070000
END:STANDARD
BEGIN:DAYLIGHT
TZOFFSETFROM:-0600
TZOFFSETTO:-0500
TZNAME:CDT
DTSTART:20270314T080000
END:DAYLIGHT
BEGIN:STANDARD
TZOFFSETFROM:-0500
TZOFFSETTO:-0600
TZNAME:CST
DTSTART:20271107T070000
END:STANDARD
END:VTIMEZONE
BEGIN:VEVENT
DTSTART;TZID=America/Chicago:20260417T000000
DTEND;TZID=America/Chicago:20260417T235959
DTSTAMP:20260420T143905
CREATED:20260217T210801Z
LAST-MODIFIED:20260419T064221Z
UID:47526-1776384000-1776470399@wheartm.com
SUMMARY:Mpls: Courtney Marie Andrews at Turf Club (Apr 17\, 2026)
DESCRIPTION:Friday\nApr\n17\n2026\nTurf Club\nCourtney Marie Andrews\nwith Aubory Bugg \nCourtney Marie Andrews 4/17/26 \n \nSocial Share\n				Share on Add Us (Opens in new window)\n				Add Us\n			\n				Share on Instagram (Opens in new window)\n				Instagram\n			\n				Share on X (Opens in new window)\n				X\n			\n				Share on Bluesky (Opens in new window)\n				Bluesky\n			\n				Share on Facebook (Opens in new window)\n				Facebook\n			More\n				Print (Opens in new window)\n				Print\n			\n				Share on Reddit (Opens in new window)\n				Reddit\n			\n				Email a link to a friend (Opens in new window)\n				Email\n			\n				Share on Pinterest (Opens in new window)\n				Pinterest\n			\n				Share on Tumblr (Opens in new window)\n				Tumblr\n			\n				Share on Threads (Opens in new window)\n				Threads\n			\n				Share on WhatsApp (Opens in new window)\n				WhatsApp\n			\n				Share on LinkedIn (Opens in new window)\n				LinkedIn\n			\n				Share on Mastodon (Opens in new window)\n				Mastodon\n			\n				Share on Telegram (Opens in new window)\n				Telegram\n			\n				Share on Nextdoor (Opens in new window)\n				Nextdoor\n			Like this:Like Loading...
URL:https://wheartm.com/event/mpls-courtney-marie-andrews-at-turf-club-apr-17-2026/
LOCATION:Turf Club\, 1601 University Ave\, St Paul\, 55104\, United States
CATEGORIES:Minneapolis
ATTACH;FMTTYPE=image/jpeg:https://wheartm.com/wp-content/uploads/2026/02/CourtneyMarieAndrews-041726-1080-1.jpg
END:VEVENT
BEGIN:VEVENT
DTSTART;TZID=America/Chicago:20260417T180000
DTEND;TZID=America/Chicago:20260417T233000
DTSTAMP:20260420T143906
CREATED:20260317T221834Z
LAST-MODIFIED:20260320T173254Z
UID:52373-1776448800-1776468600@wheartm.com
SUMMARY:Mpls: Ber at First Avenue (Apr 17\, 2026)
DESCRIPTION:Ber at First Avenue (Apr 17\, 2026)\n\n\nApril 17\, 2026 Friday\n Ber\nat First Avenue\nfirst-avenue.com\n\nThe Current presents Ber at First Avenue on April 17\, 2026\, to celebrate Ber’s debut album Good\, Like It Should Be.  The album was produced with Rob Milton (Holly Humberstone\, The 1975) and Bradley Hale (Now\, Now) and will be out April 3\, 2026.\n\n\nThe ticket limit is strict. Any attempt to exceed the posted ticket limit per customer or household\, or to game the system in any way\, will result in cancellation of orders without notice. There is a transfer delay for all tickets prior to the show.\n\n\n\nTour dates: \n\n\nMar 23: Vancouver\, BC – Orpheum Theatre\nMar 25: Seattle\, WA – Moore Theatre\nMar 27: Sacramento\, CA – Ace of Spades\nMar 28: San Francisco\, CA – The Masonic\nApr 01: San Diego\, CA – Observatory North Park\nApr 15: Los Angeles\, CA – The Moroccan Lounge\nApr 17: Minneapolis\, MN – First Avenue\nApr 21: Brooklyn\, NY – Baby’s All Right\nApr 23: Toronto\, ON – The Drake Underground\nMay 07: London\, UK – Colours\n \n\n\nSocial Share\n				Share on Add Us (Opens in new window)\n				Add Us\n			\n				Share on Instagram (Opens in new window)\n				Instagram\n			\n				Share on X (Opens in new window)\n				X\n			\n				Share on Bluesky (Opens in new window)\n				Bluesky\n			\n				Share on Facebook (Opens in new window)\n				Facebook\n			More\n				Print (Opens in new window)\n				Print\n			\n				Share on Reddit (Opens in new window)\n				Reddit\n			\n				Email a link to a friend (Opens in new window)\n				Email\n			\n				Share on Pinterest (Opens in new window)\n				Pinterest\n			\n				Share on Tumblr (Opens in new window)\n				Tumblr\n			\n				Share on Threads (Opens in new window)\n				Threads\n			\n				Share on WhatsApp (Opens in new window)\n				WhatsApp\n			\n				Share on LinkedIn (Opens in new window)\n				LinkedIn\n			\n				Share on Mastodon (Opens in new window)\n				Mastodon\n			\n				Share on Telegram (Opens in new window)\n				Telegram\n			\n				Share on Nextdoor (Opens in new window)\n				Nextdoor\n			Like this:Like Loading...
URL:https://wheartm.com/event/mpls-ber-at-first-avenue-apr-17-2026/
LOCATION:First Avenue\, 701 N 1st Ave\, Minneapolis\, MN\, 55403\, United States
CATEGORIES:Minneapolis
ATTACH;FMTTYPE=image/jpeg:https://wheartm.com/wp-content/uploads/2026/03/Ber-041726-1080.jpg
END:VEVENT
END:VCALENDAR