BEGIN:VCALENDAR
VERSION:2.0
PRODID:-//W♥M - ECPv6.15.17.1//NONSGML v1.0//EN
CALSCALE:GREGORIAN
METHOD:PUBLISH
X-ORIGINAL-URL:https://wheartm.com
X-WR-CALDESC:Events for W♥M
REFRESH-INTERVAL;VALUE=DURATION:PT1H
X-Robots-Tag:noindex
X-PUBLISHED-TTL:PT1H
BEGIN:VTIMEZONE
TZID:America/Chicago
BEGIN:DAYLIGHT
TZOFFSETFROM:-0600
TZOFFSETTO:-0500
TZNAME:CDT
DTSTART:20250309T080000
END:DAYLIGHT
BEGIN:STANDARD
TZOFFSETFROM:-0500
TZOFFSETTO:-0600
TZNAME:CST
DTSTART:20251102T070000
END:STANDARD
BEGIN:DAYLIGHT
TZOFFSETFROM:-0600
TZOFFSETTO:-0500
TZNAME:CDT
DTSTART:20260308T080000
END:DAYLIGHT
BEGIN:STANDARD
TZOFFSETFROM:-0500
TZOFFSETTO:-0600
TZNAME:CST
DTSTART:20261101T070000
END:STANDARD
BEGIN:DAYLIGHT
TZOFFSETFROM:-0600
TZOFFSETTO:-0500
TZNAME:CDT
DTSTART:20270314T080000
END:DAYLIGHT
BEGIN:STANDARD
TZOFFSETFROM:-0500
TZOFFSETTO:-0600
TZNAME:CST
DTSTART:20271107T070000
END:STANDARD
END:VTIMEZONE
BEGIN:VEVENT
DTSTART;TZID=America/Chicago:20260426T000000
DTEND;TZID=America/Chicago:20260426T235959
DTSTAMP:20260422T071457
CREATED:20260217T212137Z
LAST-MODIFIED:20260217T212137Z
UID:47550-1777161600-1777247999@wheartm.com
SUMMARY:Mpls: Field Medic at 7th St Entry (Apr 26\, 2026)
DESCRIPTION:Sunday\nApr\n26\n2026\n7th St Entry\nRadio K presents\nField Medic\nwith Georgia Maq \nField Medic 4/26/26 \n \nSocial Share\n				Share on Add Us (Opens in new window)\n				Add Us\n			\n				Share on Instagram (Opens in new window)\n				Instagram\n			\n				Share on X (Opens in new window)\n				X\n			\n				Share on Bluesky (Opens in new window)\n				Bluesky\n			\n				Share on Facebook (Opens in new window)\n				Facebook\n			More\n				Print (Opens in new window)\n				Print\n			\n				Share on Reddit (Opens in new window)\n				Reddit\n			\n				Email a link to a friend (Opens in new window)\n				Email\n			\n				Share on Pinterest (Opens in new window)\n				Pinterest\n			\n				Share on Tumblr (Opens in new window)\n				Tumblr\n			\n				Share on Threads (Opens in new window)\n				Threads\n			\n				Share on WhatsApp (Opens in new window)\n				WhatsApp\n			\n				Share on LinkedIn (Opens in new window)\n				LinkedIn\n			\n				Share on Mastodon (Opens in new window)\n				Mastodon\n			\n				Share on Telegram (Opens in new window)\n				Telegram\n			\n				Share on Nextdoor (Opens in new window)\n				Nextdoor\n			Like this:Like Loading...
URL:https://wheartm.com/event/mpls-field-medic-at-7th-st-entry-apr-26-2026/
LOCATION:7th Street Entry\, 701 N 1st Ave\, Minneapolis\, MN\, 55403\, United States
CATEGORIES:Minneapolis
ATTACH;FMTTYPE=image/jpeg:https://wheartm.com/wp-content/uploads/2026/02/FieldMedic-042626-1080.jpg
END:VEVENT
BEGIN:VEVENT
DTSTART;TZID=America/Chicago:20260426T180000
DTEND;TZID=America/Chicago:20260426T235900
DTSTAMP:20260422T071457
CREATED:20260217T212300Z
LAST-MODIFIED:20260402T113045Z
UID:47560-1777226400-1777247940@wheartm.com
SUMMARY:Mpls: Barns Courtney at Turf Club (Apr 26\, 2026)
DESCRIPTION:Barns Courtney at Turf Club (Apr 26\, 2026)\n\n\nApril 26\, 2026 Sunday\nBarns Courtney\nwith Belle and Chainat Turf Clubfirst-avenue.com\n\nBarns Courtney is currently doing a solo acoustic tour – stopping by the Turf Club\, in St Paul\, on April 26\, 2026.  \n\n\n          Barns Courtney       \n\nWe saw Barnes Courtney in Nov 2016 and wrote\, “The night began with a frenzied forty-minute opening set from relatively new singer-songwriter Barns Courtney\, an Ipswich\, UK native who grew up in Seattle and who has an initial EP\, Hands (Capitol/ Virgin-EMI) out now\, with full-length due in the new year. Courtney and band worked hard to get the still-filling room into his corner and pulled it off with songs like his initial single\, ‘Glitter & Gold’ and even pulled a move out of the Tantrums playbook during hit\, ‘Fire’ (heard in the Bradley Cooper chef movie\, Burnt as well) by having everyone huddle low on the ground\, before exploding up for the song’s chorus.  Based on the warm reception he’s received locally\, expect a return headlining show\, once the album is released.”\n\n\nBelle and Chain  to open. \n\n2026 North America Tour Dates\n\nApril 1 – Dada Dallas – Dallas\, TX*\nApril 2 – 3TEN Austin City Limits Live – Austin\, TX*\nApril 4 – Chickie Wah Wah – New Orleans\, LA*\nApril 6 – Crowbar – Tampa\, FL*\nApril 7 – The Social – Orlando\, FL*\nApril 8 – Jack Rabbits – Jacksonville\, FL*\nApril 10 – The Masquerade – Atlanta\, GA*\nApril 11 – Kings – Raleigh\, NC*\nApril 12 – Pearl Street Warehouse – Washington\, DC*\nApril 14 – The Sultan Room – Brooklyn\, NY*\nApril 15 – Sonia Live Music Venue – Cambridge\, MA*\nApril 17 – Grog Shop – Cleveland\, OH*\nApril 18 – Adelaide Hall – Toronto\, Canada*\nApril 19 – El Club – Detroit\, MI*\nApril 21 – 3rd and Lindsley – Nashville\, TN*\nApril 22 – HI-FI – Indianapolis\, IN*\nApril 24 – Space – Evanston\, IL*\nApril 25 – Vivarium – Milwaukee\, WI*\nApril 26 – Turf Club – St Paul\, MN*\nApril 28 – Reverb – Omaha\, NE*\nApril 29 – Bottleneck – Lawrence\, KS*\nMay 1 – Meow Wolf – Santa Fe\, NM*\nMay 2 – Last Exit Live – Phoenix\, AZ*\nMay 3 – Moroccan Lounge – Los Angeles\, CA*\nMay 26 – The Academy\, Middle Abbey Street – Dublin\, Ireland\nMay 27 – The Garage – Glasgow\, United Kingdom\nMay 29 – Night & Day Cafe – Manchester\, United Kingdom\nMay 30 – The Lower Third – London\, United Kingdom\nMay 31 – Les Étoiles – Paris\, France\nJune 2 – Bitterzoet – Amsterdam\, Netherlands\nJune 3 – Kavka – Antwerp\, Belgium\nJune 4 – Artheater – Cologne\, Germany\nJune 6 – Chelsea – Vienna\, Austria\nJune 7 – Turbina Kulturális Központ – Budapest\, Hungary\nJune 9 – Kranhalle – Munich\, Germany\nJune 10 – Mikropol – Berlin\, Germany\nJune 12 – Klub Mechanik – Warsaw\, Poland\n  \n* Unplugged Solo Acoustic Sessions Tour\n\n\nSocial Share\n				Share on Add Us (Opens in new window)\n				Add Us\n			\n				Share on Instagram (Opens in new window)\n				Instagram\n			\n				Share on X (Opens in new window)\n				X\n			\n				Share on Bluesky (Opens in new window)\n				Bluesky\n			\n				Share on Facebook (Opens in new window)\n				Facebook\n			More\n				Print (Opens in new window)\n				Print\n			\n				Share on Reddit (Opens in new window)\n				Reddit\n			\n				Email a link to a friend (Opens in new window)\n				Email\n			\n				Share on Pinterest (Opens in new window)\n				Pinterest\n			\n				Share on Tumblr (Opens in new window)\n				Tumblr\n			\n				Share on Threads (Opens in new window)\n				Threads\n			\n				Share on WhatsApp (Opens in new window)\n				WhatsApp\n			\n				Share on LinkedIn (Opens in new window)\n				LinkedIn\n			\n				Share on Mastodon (Opens in new window)\n				Mastodon\n			\n				Share on Telegram (Opens in new window)\n				Telegram\n			\n				Share on Nextdoor (Opens in new window)\n				Nextdoor\n			Like this:Like Loading...
URL:https://wheartm.com/event/mpls-barns-courtney-at-turf-club-apr-26-2026/
LOCATION:Turf Club\, 1601 University Ave\, St Paul\, 55104\, United States
CATEGORIES:Minneapolis
ATTACH;FMTTYPE=image/jpeg:https://wheartm.com/wp-content/uploads/2026/02/BarnsCourtney-042626-1080.jpg
END:VEVENT
BEGIN:VEVENT
DTSTART;TZID=America/Chicago:20260426T183000
DTEND;TZID=America/Chicago:20260426T230000
DTSTAMP:20260422T071457
CREATED:20260326T215406Z
LAST-MODIFIED:20260406T063202Z
UID:53914-1777228200-1777244400@wheartm.com
SUMMARY:Mpls: Colin James at The Parkway Theater (Apr 26\, 2026)
DESCRIPTION:Colin James at The Parkway Theater (Apr 26\, 2026)\n\n\nApril 26\, 2026 Sunday\nColin James\nwith Matt Andersen and Terra Lightfootat The Parkway Theater\ntheparkwaytheater.com\n\nCanadian blues/rock guitarist Colin James will be headlining the Parkway Theater\, in Minneapolis\, on April 26\, 2026\, as part of a make-up date for his unexpected cancellation of his 2024 tour due to a car accident.\n\n\nDetails from venue:\n\n\n\nMulti-award-winning blues/rock guitarist Colin James’ last US tour in 2024 was cut short due to an automobile accident. Now fully recovered he’s bringing his exciting blend of blues and rock music to fans in the States with the upcoming “Coast to Coast Tour” in April and May. Joining him on the tour are Matt Andersen and Terra Lightfoot to celebrate the rich legacy of electrifying Canadian blues and roots music. \nThe “Coast to Coast Tour” starring Colin James\, Matt Andersen and Terra Lightfoot brings these friends and fellow musicians together for an 18-city US Spring 2026 cross-country tour celebrating blues and folk to rock and soul.  Audiences can expect powerful individual sets and inspired collaborative performances from three of Canada’s most acclaimed and distinctive roots artists.  The “Coast to Coast Tour” honors the enduring power of music to cross borders\, generations\, and traditions – live on stage!\n \n\n\n\n          Terra Lightfoot       \n\n\nWe saw Terra Lightfoot in June 2018 and wrote\, “Hamilton\, ONT singer-songwriter Terra Lightfoot was first up\, with band and well-traveled SG guitar named “Veronica” in tow\, in support of last fall’s New Mistakes (Sonic Unyon / Sony Music).  Lightfoot (no relation to fellow Canuck Gordon) has a rootsy blues sound\, and guitar work that is confident and often roaring with swagger. With stomping songs like ‘Paradise’\, this is a storm from the great white north worth catching the next time through. ”\n\nSocial Share\n				Share on Add Us (Opens in new window)\n				Add Us\n			\n				Share on Instagram (Opens in new window)\n				Instagram\n			\n				Share on X (Opens in new window)\n				X\n			\n				Share on Bluesky (Opens in new window)\n				Bluesky\n			\n				Share on Facebook (Opens in new window)\n				Facebook\n			More\n				Print (Opens in new window)\n				Print\n			\n				Share on Reddit (Opens in new window)\n				Reddit\n			\n				Email a link to a friend (Opens in new window)\n				Email\n			\n				Share on Pinterest (Opens in new window)\n				Pinterest\n			\n				Share on Tumblr (Opens in new window)\n				Tumblr\n			\n				Share on Threads (Opens in new window)\n				Threads\n			\n				Share on WhatsApp (Opens in new window)\n				WhatsApp\n			\n				Share on LinkedIn (Opens in new window)\n				LinkedIn\n			\n				Share on Mastodon (Opens in new window)\n				Mastodon\n			\n				Share on Telegram (Opens in new window)\n				Telegram\n			\n				Share on Nextdoor (Opens in new window)\n				Nextdoor\n			Like this:Like Loading...
URL:https://wheartm.com/event/mpls-colin-james-at-the-parkway-theater-apr-26-2026/
LOCATION:Parkway Theater\, 4814 Chicago Ave\, Minneapolis\, MN\, 55417\, United States
CATEGORIES:Minneapolis
ATTACH;FMTTYPE=image/jpeg:https://wheartm.com/wp-content/uploads/2026/03/Colin-James-Tour-Dates-Poster-Hi-Res.jpg
END:VEVENT
END:VCALENDAR