BEGIN:VCALENDAR
VERSION:2.0
PRODID:-//W♥M - ECPv6.15.17.1//NONSGML v1.0//EN
CALSCALE:GREGORIAN
METHOD:PUBLISH
X-ORIGINAL-URL:https://wheartm.com
X-WR-CALDESC:Events for W♥M
REFRESH-INTERVAL;VALUE=DURATION:PT1H
X-Robots-Tag:noindex
X-PUBLISHED-TTL:PT1H
BEGIN:VTIMEZONE
TZID:America/Chicago
BEGIN:DAYLIGHT
TZOFFSETFROM:-0600
TZOFFSETTO:-0500
TZNAME:CDT
DTSTART:20250309T080000
END:DAYLIGHT
BEGIN:STANDARD
TZOFFSETFROM:-0500
TZOFFSETTO:-0600
TZNAME:CST
DTSTART:20251102T070000
END:STANDARD
BEGIN:DAYLIGHT
TZOFFSETFROM:-0600
TZOFFSETTO:-0500
TZNAME:CDT
DTSTART:20260308T080000
END:DAYLIGHT
BEGIN:STANDARD
TZOFFSETFROM:-0500
TZOFFSETTO:-0600
TZNAME:CST
DTSTART:20261101T070000
END:STANDARD
BEGIN:DAYLIGHT
TZOFFSETFROM:-0600
TZOFFSETTO:-0500
TZNAME:CDT
DTSTART:20270314T080000
END:DAYLIGHT
BEGIN:STANDARD
TZOFFSETFROM:-0500
TZOFFSETTO:-0600
TZNAME:CST
DTSTART:20271107T070000
END:STANDARD
END:VTIMEZONE
BEGIN:VEVENT
DTSTART;TZID=America/Chicago:20260503T000000
DTEND;TZID=America/Chicago:20260503T235959
DTSTAMP:20260419T084756
CREATED:20260329T144735Z
LAST-MODIFIED:20260404T034940Z
UID:54457-1777766400-1777852799@wheartm.com
SUMMARY:Mpls: Phoneboy and Heart Attack Man at Fine Line (May 3\, 2026)
DESCRIPTION:Phoneboy and Heart Attack Man at Fine Line (May 3\, 2026)\n\n\nMay 3\, 2026 Sunday\n Phoneboy and Heart Attack Man\nwith Slow Joy and PONY\nat Fine Line\nfirst-avenue.com\n\nPhoneboy is co-headlining with Heart Attack Man\, stopping by the Fine Line\, in Minneapolis\, on May 3\, 2026.\n\n\nThe ticket limit is strict. Any attempt to exceed the posted ticket limit per customer or household\, or to game the system in any way\, will result in cancellation of orders without notice. There is a transfer delay for all tickets prior to the show. \nBALCONY TICKET BUYERS must be 21+\nID required\, no exceptions.\nThis show is All Ages for all other GA Floor buyers.\n\n\n\n\nPhoneboy writes:\n\n\nthe tour never stops!!!!! we’re stoked to hit the road in april with the one and only @heartattackmanofficial  \nwe will be joined by the lovely @slowjoyslowjoy and @ponytheband 💚💜 \npresale starts on wednesday at 10am local\, sign up to our mailing list at the link in our bio for early access  \ngeneral sale starts friday at 10am local  \nall tickets available at phoneboy.band and heartattackman.com \nSEE YOUUUUU THERE \nart by @tatpoison \nlayout by @genevadiva \n\n\n\n\nSlow Joy and PONY to open.\n \nSocial Share\n				Share on Add Us (Opens in new window)\n				Add Us\n			\n				Share on Instagram (Opens in new window)\n				Instagram\n			\n				Share on X (Opens in new window)\n				X\n			\n				Share on Bluesky (Opens in new window)\n				Bluesky\n			\n				Share on Facebook (Opens in new window)\n				Facebook\n			More\n				Print (Opens in new window)\n				Print\n			\n				Share on Reddit (Opens in new window)\n				Reddit\n			\n				Email a link to a friend (Opens in new window)\n				Email\n			\n				Share on Pinterest (Opens in new window)\n				Pinterest\n			\n				Share on Tumblr (Opens in new window)\n				Tumblr\n			\n				Share on Threads (Opens in new window)\n				Threads\n			\n				Share on WhatsApp (Opens in new window)\n				WhatsApp\n			\n				Share on LinkedIn (Opens in new window)\n				LinkedIn\n			\n				Share on Mastodon (Opens in new window)\n				Mastodon\n			\n				Share on Telegram (Opens in new window)\n				Telegram\n			\n				Share on Nextdoor (Opens in new window)\n				Nextdoor\n			Like this:Like Loading...
URL:https://wheartm.com/event/mpls-phoneboy-and-heart-attack-man-at-fine-line-may-3-2026/
LOCATION:Fine Line Music Cafe\, 318 N 1st Ave\, Minneapolis\, MN\, 55401\, United States
CATEGORIES:Minneapolis
ATTACH;FMTTYPE=image/jpeg:https://wheartm.com/wp-content/uploads/2026/03/Phoneboy-heartattackman-050326-1080.jpg
END:VEVENT
BEGIN:VEVENT
DTSTART;TZID=America/Chicago:20260503T183000
DTEND;TZID=America/Chicago:20260503T233000
DTSTAMP:20260419T084756
CREATED:20260405T233709Z
LAST-MODIFIED:20260406T040751Z
UID:56221-1777833000-1777851000@wheartm.com
SUMMARY:Mpls: Grainne Hunt at Celtic Junction (May 3\, 2026)
DESCRIPTION:Grainne Hunt at Celtic Junction (May 3\, 2026)\n\nMay 3\, 2026 Sunday\n Grainne Hunt\nat Celtic Junction\ncelticjunction.org\n\nIreland’s Grainne Hunt will once again be headlining the Celtic Junction\, in Minneapolis\, on May 3\, 2026. \n\n\nThe Junction described the upcoming event:\n\n\n\nA queer\, nu-folk singer-songwriter and one of Ireland’s most compelling voices\, Gráinne Hunt blends raw emotional honesty with quiet\, commanding power. Often described as “The Irish Joni\,” her songwriting has drawn comparisons to Tracy Chapman and Natalie Merchant\, pairing finely wrought lyrics with a voice that is both intimate and arresting. \nHear Gráinne Hunt live on May 3\, 6:00–8:30 pm at the Celtic Junction. \n🎟️ Tickets: $25 at celticjunction.org\n\n \n\n          Gráinne Hunt\, with Jules Stewart\, at Celtic Junction (May 11\, 2025)       \n\n\nWe saw Hunt in May 2025 and said\, “Graínne Hunt is a Kildare based songwriter and folk singer. She had a 2019 album\, This Secret\, and supporting it had many of the challenges of those released near the start of the pandemic. Hunt was performing alongside Jules Stewart on the tour. With Hunt on guitar and Stewart on drums\, the pair started with the song Lilacs (in June). It’s worth pointing out right away\, Hunt is a great singer; a strong alto with that Irish accent playing softly on her folk singer ways. Between the Pines\, the first track off of This Secret\, was a lovely number\, and the lyrics “with California on my mind” makes more sense knowing Stewart lives in San Diego. Some hilarious banter from Hunt about her accent and crowd sourcing what some lyrics from the song actually were demonstrated Hunt’s ability to bring the crowd along the journey and her overall professionalism as a performer.”\n\nSocial Share\n				Share on Add Us (Opens in new window)\n				Add Us\n			\n				Share on Instagram (Opens in new window)\n				Instagram\n			\n				Share on X (Opens in new window)\n				X\n			\n				Share on Bluesky (Opens in new window)\n				Bluesky\n			\n				Share on Facebook (Opens in new window)\n				Facebook\n			More\n				Print (Opens in new window)\n				Print\n			\n				Share on Reddit (Opens in new window)\n				Reddit\n			\n				Email a link to a friend (Opens in new window)\n				Email\n			\n				Share on Pinterest (Opens in new window)\n				Pinterest\n			\n				Share on Tumblr (Opens in new window)\n				Tumblr\n			\n				Share on Threads (Opens in new window)\n				Threads\n			\n				Share on WhatsApp (Opens in new window)\n				WhatsApp\n			\n				Share on LinkedIn (Opens in new window)\n				LinkedIn\n			\n				Share on Mastodon (Opens in new window)\n				Mastodon\n			\n				Share on Telegram (Opens in new window)\n				Telegram\n			\n				Share on Nextdoor (Opens in new window)\n				Nextdoor\n			Like this:Like Loading...
URL:https://wheartm.com/event/grainne-hunt-at-celtic-junction-may-3-2026/
LOCATION:Celtic Junction Arts Center\, 836 Prior Ave N\, St Paul\, MN\, 55104\, United States
CATEGORIES:Minneapolis
ATTACH;FMTTYPE=image/jpeg:https://wheartm.com/wp-content/uploads/2026/04/grainne-hunnt2026x.jpg
END:VEVENT
END:VCALENDAR