BEGIN:VCALENDAR
VERSION:2.0
PRODID:-//W♥M - ECPv6.15.17.1//NONSGML v1.0//EN
CALSCALE:GREGORIAN
METHOD:PUBLISH
X-ORIGINAL-URL:https://wheartm.com
X-WR-CALDESC:Events for W♥M
REFRESH-INTERVAL;VALUE=DURATION:PT1H
X-Robots-Tag:noindex
X-PUBLISHED-TTL:PT1H
BEGIN:VTIMEZONE
TZID:America/Chicago
BEGIN:DAYLIGHT
TZOFFSETFROM:-0600
TZOFFSETTO:-0500
TZNAME:CDT
DTSTART:20250309T080000
END:DAYLIGHT
BEGIN:STANDARD
TZOFFSETFROM:-0500
TZOFFSETTO:-0600
TZNAME:CST
DTSTART:20251102T070000
END:STANDARD
BEGIN:DAYLIGHT
TZOFFSETFROM:-0600
TZOFFSETTO:-0500
TZNAME:CDT
DTSTART:20260308T080000
END:DAYLIGHT
BEGIN:STANDARD
TZOFFSETFROM:-0500
TZOFFSETTO:-0600
TZNAME:CST
DTSTART:20261101T070000
END:STANDARD
BEGIN:DAYLIGHT
TZOFFSETFROM:-0600
TZOFFSETTO:-0500
TZNAME:CDT
DTSTART:20270314T080000
END:DAYLIGHT
BEGIN:STANDARD
TZOFFSETFROM:-0500
TZOFFSETTO:-0600
TZNAME:CST
DTSTART:20271107T070000
END:STANDARD
END:VTIMEZONE
BEGIN:VEVENT
DTSTART;TZID=America/Chicago:20260613T000000
DTEND;TZID=America/Chicago:20260613T235959
DTSTAMP:20260419T070749
CREATED:20260418T024058Z
LAST-MODIFIED:20260418T024058Z
UID:58957-1781308800-1781395199@wheartm.com
SUMMARY:Mpls: Trey Anastasio at Orpheum Theatre (Jun 13\, 2026)
DESCRIPTION:Saturday\nJun\n13\n2026\nOrpheum Theatre\nJAM and First Avenue present\nAn Acoustic Evening with Trey Anastasio\nfeaturing Jeff Tanski\nDoors Open\n6:30PM\nShow Starts\n7:30PM\nAges\nAll Ages \nThere is a strict 4 ticket limit per show. Additional orders exceeding the ticket limit may be cancelled without notice. This includes orders associated with the same name\, e-mail address\, billing address\, credit card number\, and/or other information.\nCharity Platinum \nA portion of the proceeds will be donated to the Divided Sky Foundation in support of those in early recovery. For more information about this foundation\, please visit dividedskyfoundation.com. The Event Organizer has priced these tickets according to their market value. Availability and pricing are subject to change. These tickets are not part of VIP packages – they are tickets only. \nAn Acoustic Evening with Trey Anastasio \n \nSocial Share\n				Share on Add Us (Opens in new window)\n				Add Us\n			\n				Share on Instagram (Opens in new window)\n				Instagram\n			\n				Share on X (Opens in new window)\n				X\n			\n				Share on Bluesky (Opens in new window)\n				Bluesky\n			\n				Share on Facebook (Opens in new window)\n				Facebook\n			More\n				Print (Opens in new window)\n				Print\n			\n				Share on Reddit (Opens in new window)\n				Reddit\n			\n				Email a link to a friend (Opens in new window)\n				Email\n			\n				Share on Pinterest (Opens in new window)\n				Pinterest\n			\n				Share on Tumblr (Opens in new window)\n				Tumblr\n			\n				Share on Threads (Opens in new window)\n				Threads\n			\n				Share on WhatsApp (Opens in new window)\n				WhatsApp\n			\n				Share on LinkedIn (Opens in new window)\n				LinkedIn\n			\n				Share on Mastodon (Opens in new window)\n				Mastodon\n			\n				Share on Telegram (Opens in new window)\n				Telegram\n			\n				Share on Nextdoor (Opens in new window)\n				Nextdoor\n			Like this:Like Loading...
URL:https://wheartm.com/event/mpls-trey-anastasio-at-orpheum-theatre-jun-13-2026/
LOCATION:Orpheum Theatre\, 910 Hennepin Ave\, Minneapolis\, 55403\, United States
CATEGORIES:Minneapolis
ATTACH;FMTTYPE=image/jpeg:https://wheartm.com/wp-content/uploads/2026/04/treyanastasio-061326-1080.jpg
END:VEVENT
BEGIN:VEVENT
DTSTART;TZID=America/Chicago:20260613T193000
DTEND;TZID=America/Chicago:20260613T233000
DTSTAMP:20260419T070751
CREATED:20260317T140644Z
LAST-MODIFIED:20260317T140644Z
UID:52233-1781379000-1781393400@wheartm.com
SUMMARY:Mpls: The Wallflowers at First Avenue (June 13\, 2026)
DESCRIPTION:The Wallflowers have announced a special 2026 US & European tour that will see the band perform their acclaimed 1996 album Bringing Down the Horse in its entirety\, alongside Tom Petty & The Heartbreakers’ Long After Dark\, also played front-to-back. The run marks the first time the band has performed Bringing Down the Horse in full in honor of the LP’s 30th anniversary and promises a unique live experience for audiences across the US and Europe.  \nSpeaking about the tour\, Jakob Dylan said\, “Coming back after such a long time\, we wanted to do something special for the 30th anniversary of Bringing Down the Horse. We decided to play what seems to be our fans’ favorite Wallflowers album\, and for us\, we wanted to play one of our favorite Tom Petty and the Heartbreakers records\, Long After Dark.” \nReleased in 1996\, Bringing Down the Horse became a defining album of its era. The record sold over four million copies worldwide and produced four hit singles: “One Headlight\,” “The Difference\,” “Three Marlenas\,” and “6th Avenue Heartache.” At the 1998 Grammy Awards\, The Wallflowers won “Best Rock Performance by a Duo or Group\,” while “One Headlight” was awarded “Best Rock Song.” The track remains a cultural mainstay\, topping Billboard’s “Greatest of All Time Adult Alternative Songs” chart in 2021. The album’s monumental success launched a career that now spans three decades.\nTom Petty & The Heartbreakers’ Long After Dark is widely regarded as one of the band’s finest works. A longtime admirer of Petty and the Heartbreakers\, Dylan was personally asked by Petty to induct him into the Rock and Roll Hall of Fame in 2002. Their friendship was further highlighted in the 2018 documentary Echo in the Canyon\, executive produced by and starring Dylan. The film marked Tom Petty’s final on-screen appearance and became one of the top ten highest-grossing theatrical documentaries of that year. \nIn addition to revisiting these landmark albums\, The Wallflowers continue to build on their enduring legacy. Their 2021 release\, Exit Wounds\, reaffirmed the band’s signature sound — lean\, potent\, and entrancing. Uncut magazine praised the album\, writing\, “…Exit Wounds rocks with smouldering intensity\,” while MOJO declared in a four-star review\, “It’s his best original work by some years.” Pitchfork noted “the depth of experience deepens the traditionalism of Dylan’s music\,” Los Angeles’ KCRW called it “a beacon for us all\,” and SPIN described it as “a stunning body of work by anyone’s standards.”  \nTHE WALLFLOWERS ON TOUR: \nApril 17\, 2026 – Portland\, OR – Revolution Hall\nApril 18\, 2026 – Edmonds\, WA – Edmonds Center for the Arts\nApril 19\, 2026 – Vancouver\, BC – Commodore Ballroom\nApril 21\, 2026 – Napa\, CA – Uptown Theatre\nApril 23\, 2026 – Reno\, NV – Grand Sierra Resort and Casino\nApril 24\, 2026 – Visalia\, CA – Visalia Fox Theatre\nApril 25\, 2026 – Monterey\, CA – Golden State Theatre\nApril 26\, 2026 – Indio\, CA – Stagecoach Music Festival\nApril 28\, 2026 – Albuquerque\, NM – KiMo Theatre\nApril 30\, 2026 – New Braunfels\, TX – Gruene Hall \nMay 1\, 2026 – Dallas\, TX – Granada Theater\nMay 2\, 2026 – Tulsa\, OK – Tulsa Theater\nMay 4\, 2026 – Atlanta\, GA – Buckhead Theatre\nMay 5\, 2026 – Asheville\, NC – The Orange Peel\nMay 7\, 2026 – Rocky Mount\, VA – Harvester Performance Center\nMay 8\, 2026 – Jim Thorpe\, PA – Penn’s Peak\nMay 9\, 2026 – Montclair\, NJ – The Wellmont Theater\nMay 10\, 2026 – Hartford\, CT – Infinity Music Hall\nMay 12\, 2026 – Laconia\, NH – Colonial Theatre\nMay 14\, 2026 – Bensalem\, PA – Parx Casino\nMay 15\, 2026 – Charles Town\, WV – The Event Center at Hollywood Casino\nMay 16\, 2026 – Huntington\, NY – The Paramount\nMay 17\, 2026 – East Greenwich\, RI – Greenwich Odeum\nMay 19\, 2026 – Ridgefield\, CT – The Ridgefield Playhouse\nMay 21\, 2026 – Hudson\, NY – Basilica Hudson\nMay 22\, 2026 – Beverly\, MA – The Cabot Theater\nMay 23\, 2026 – Waterville\, ME – Waterville Opera House\nMay 24\, 2026 – Bar Harbor\, ME – Criterion Theater \nJune 4\, 2026 – Memphis\, TN – Elvis Presley’s Memphis – Graceland Soundstage\nJune 5\, 2026 – Nashville\, TN – Brooklyn Bowl Nashville\nJune 6\, 2026 – Lexington\, KY – Railbird Music Festival\nJune 9\, 2026 – Ann Arbor\, MI – Michigan Theater\nJune 11\, 2026 – Chicago\, IL – The Vic Theatre\nJune 12\, 2026 – Fish Creek\, WI – Door Community Auditorium\nJune 13\, 2026 – Minneapolis\, MN – First Avenue\nJune 14\, 2026 – Des Moines\, IA – Hoyt Sherman Place\nJune 16\, 2026 – Madison\, WI – Barrymore Theatre\nJune 18\, 2026 – Iowa City\, IA – The Englert Theatre\nJune 19\, 2026 – Eau Claire\, WI – Summer Jam Fair\nJune 20\, 2026 – Omaha\, NE – Steelhouse Omaha\nJune 21\, 2026 – Wichita\, KS – The Cotillion\nJune 23\, 2026 – Lawrence\, KS – Liberty Hall\nJune 25\, 2026 – Colorado Springs\, CO – Pikes Peak Center for the Performing Arts\nJune 26\, 2026 – Boulder\, CO – Chautauqua Auditorium\nJune 27\, 2026 – Beaver Creek\, CO – Vilar Performing Arts Center\nJune 28\, 2026 – Steamboat Springs\, CO – Strings Music Pavilion\nJune 30\, 2026 – Jackson Hole\, WY – Center for the Arts \nJuly 1\, 2026 – Livingston\, MT – Pine Creek Lodge\nJuly 30\, 2026 – Little Rock\, AR – The Hall\nJuly 31\, 2026 – Huntsville\, AL – Von Braun Center – Mars Music Hall \nAugust 1\, 2026 – Dothan\, AL – The Plant\nAugust 2\, 2026 – Pensacola\, FL – Saenger Theatre\nAugust 6\, 2026 – Isle of Palms\, SC – The Windjammer\nAugust 7\, 2026 – Wilmington\, NC – Greenfield Lake Amphitheatre\nAugust 8\, 2026 – Bristol\, TN – Paramount Bristol\nAugust 9\, 2026 – Durham\, NC – Carolina Theatre\nAugust 11\, 2026 – Dewey Beach\, DE – Bottle & Cork\nAugust 13\, 2026 – Hyannis\, MA – Melody Tent\nAugust 14\, 2026 – Mason\, NH – The Range Live Music & Concert Venue\nAugust 17\, 2026 – Red Bank\, NJ – Count Basie Center for the Arts\nAugust 18\, 2026 – Rutland\, VT – Paramount Theatre\nAugust 21\, 2026 – Toronto\, ON – Danforth Music Hall\nAugust 22\, 2026 – Hammondsport\, NY – Point of the Bluff Vineyard – Pavilion\nAugust 24\, 2026 – Kent\, OH – The Kent Stage\nAugust 25\, 2026 – Morgantown\, WV – The Metropolitan Theatre\nAugust 27\, 2026 – Saginaw\, MI – Temple Theatre\nAugust 28\, 2026 – Nashville\, IN – Brown County Music Center\nAugust 29\, 2026 – Lincoln City\, IN – Lincoln Amphitheatre\nAugust 30\, 2026 – Saint Louis\, MO – The Pageant \nSeptember 1\, 2026 – Springfield\, MO – Gillioz Theatre\nSeptember 3\, 2026 – Sioux Falls\, SD – The District\nSeptember 4\, 2026 – Mankato\, MN – Mayo Clinic Health System Event Center\nSeptember 5\, 2026 – Bayfield\, WI – Lake Superior Big Top Chautauqua\nSeptember 6\, 2026 – Milwaukee\, WI – The Pabst Theater\nWallflowersMusic.com\nNewWestRecords.com \nSocial Share\n				Share on Add Us (Opens in new window)\n				Add Us\n			\n				Share on Instagram (Opens in new window)\n				Instagram\n			\n				Share on X (Opens in new window)\n				X\n			\n				Share on Bluesky (Opens in new window)\n				Bluesky\n			\n				Share on Facebook (Opens in new window)\n				Facebook\n			More\n				Print (Opens in new window)\n				Print\n			\n				Share on Reddit (Opens in new window)\n				Reddit\n			\n				Email a link to a friend (Opens in new window)\n				Email\n			\n				Share on Pinterest (Opens in new window)\n				Pinterest\n			\n				Share on Tumblr (Opens in new window)\n				Tumblr\n			\n				Share on Threads (Opens in new window)\n				Threads\n			\n				Share on WhatsApp (Opens in new window)\n				WhatsApp\n			\n				Share on LinkedIn (Opens in new window)\n				LinkedIn\n			\n				Share on Mastodon (Opens in new window)\n				Mastodon\n			\n				Share on Telegram (Opens in new window)\n				Telegram\n			\n				Share on Nextdoor (Opens in new window)\n				Nextdoor\n			Like this:Like Loading...
URL:https://wheartm.com/event/mpls-the-wallflowers-at-first-avenue-june-13-2026/
LOCATION:First Avenue\, 701 N 1st Ave\, Minneapolis\, MN\, 55403\, United States
CATEGORIES:Minneapolis
ATTACH;FMTTYPE=image/jpeg:https://wheartm.com/wp-content/uploads/2026/03/TheWallflowers-061326-1080.jpg
END:VEVENT
END:VCALENDAR